Workbook

Sheet PLAN LEKCJI
I1: PLAN LEKCJI semestr I - rok szkolny 2026 / 2027 | T1: =-U1 -> 0
C2: SALA 01 | D2: SALA 02 | E2: SALA 03 | F2: SALA 11 | G2: SALA 14 | H2: SALA 04 | I2: SALA 15 | J2: SALA 14 | K2: SALA 12 | L2: SALA 13 | M2: SALA 21 | N2: SALA 22 | O2: SALA 30 | P2: SALA 33 | Q2: SALA 23 | R2: SALA 24 | S2: SALA 25 | T2: SALA 31 | U2: SALA 38 | V2: SALA 34
A3: Dni | B3: Nr | C3: IA | D3: IB | E3: IIA | F3: IIB | G3: IIC | H3: IIIA | I3: IIIB | J3: IIIC | K3: IVA | L3: IVB | M3: IVC | N3: VA | O3: VB | P3: VI A | Q3: VI B | R3: VII A | S3: VII B | T3: VIII A | U3: VIII B | V3: VIII C
A4: tygod. | B4: lekcji
A5: PONIEDZIAŁEK | B5: 1 | C5: muzyka | D5: zajęcia zint. | E5: zajęcia zint. | F5: zajęcia zint. | G5: zajęcia zint. | H5: zajęcia zint. | I5: wych. fizyczne | J5: zajęcia zint. | K5: TAŃCE | L5: j.ang. / j.ang. | M5: informatyka / j.ang. | N5: matematyka | O5: 26 j.fran./ j.niem. 36 | P5: matematyka 33, K | Q5: matematyka 23, 24 | R5: BIOLOGIA 32 | S5: GEOGRAFIA 06 | T5: j. polski | U5: j. polski | V5: HISTORIA
B6: 2 | C6: wych. fizyczne | D6: zajęcia zint. | E6: j.ang. / j.ang. | F6: muzyka | G6: edukacja mat | H6: zajęcia zint. | I6: zajęcia zint. | J6: zajęcia zint. | K6: 27 j.ang. / j.ang. 29 | L6: j. polski | M6: informatyka / j.ang. | N6: religia | O6: HISTORIA | P6: j. polski | Q6: 26 j.fran./ j.niem. 36 | R6: GEOGRAFIA 06 | S6: BIOLOGIA 32 | T6: matematyka 31, 34, 28, 24, K | U6: j. polski | V6: matematyka 31, 34, 28, 24, K
B7: 3 | C7: zajęcia zint. | D7: wych. fizyczne | E7: zajęcia zint. | F7: zajęcia zint. | G7: zajęcia zint. | H7: j.ang. / j.ang. | I7: religia | J7: zajęcia zint. | K7: j. polski | L7: j. polski | M7: plastyka 28 | N7: 27 j.ang. / j.ang. 29 | O7: BIOLOGIA 32 | P7: informat. / j.ang. | Q7: GW | R7: RELIGIA | S7: fizyka | T7: 26 j. fran. / j.ang. 35 | U7: matematyka 31, 38 | V7: j. polski
B8: 4 | C8: konwersacje | D8: muzyka | E8: zajęcia zint. | F8: wych. fizyczne | G8: zajęcia zint. | H8: zajęcia zint. | I8: zajęcia zint. | J8: wych. fizyczne | K8: j. polski | L8: matematyka | M8: matematyka | N8: BIOLOGIA 32 | O8: matematyka | P8: informat. / j.ang. | Q8: plastyka 28 | R8: fizyka | S8: 29 j.ang. / j.niem. 36 | T8: 26 j. fran. / j.ang. 35 | U8: HISTORIA | V8: j. polski
B9: 5 | C9: rekreacja | G9: rekreacja | K9: PRZYRODA 32 | L9: matematyka | M9: religia | N9: informatyka | O9: 27 j.ang. / j.ang. 29 | P9: plastyka 28 | Q9: matematyka 23, 22 | R9: j. polski | S9: 26 j.fran. / j.ang. 29 | T9: HISTORIA | U9: 25 j. ang. / j. ang. 35 | V9: fizyka
B10: 6 | C10: zajęcia zint. | D10: zajęcia zint. | E10: konwersacje | F10: RELIGIA | G10: wych. fizyczne | H10: wych. fizyczne | I10: zajęcia zint. | J10: j.ang. / j.ang. | K10: PRZYRODA 32 | L10: plastyka 28 | M10: muzyka | N10: 26 j.fran./ j.niem. 36 | O10: j. polski | P10: RELIGIA | Q10: informat. / j.ang. 27 | R10: matematyka 24, 25, 23,22 | S10: matematyka 24, 25, 23,22 | T10: fizyka | U10: wych. fizyczne | V10: 26 j.ang. / j.niem. 36
B11: 7 | C11: zajęcia zint. | D11: RELIGIA | E11: wych. fizyczne | F11: zajęcia zint. | G11: j.ang. / j.ang. | H11: religia | I11: j.ang. / j.ang. | J11: zajęcia zint. | K11: historia | L11: muzyka | M11: wych. fizyczne | N11: technika 28 | O11: j. polski | P11: RELIGIA | Q11: informat. / j.ang. 27 | R11: 26 j.fran./ j.niem. 36 | S11: j. polski | T11: EDB | U11: fizyka | V11: 26 j.ang. / j.niem. 36
B12: 8
A14: WTOREK | B14: 1 | C14: zajęcia zint. | D14: zajęcia zint. | E14: j.ang. / j.ang. | F14: zajęcia zint. | G14: edukacja mat | H14: informatyka | I14: religia | J14: zajęcia zint. | K14: wych. fizyczne | L14: wych. fizyczne | M14: 21 j. hiszp. / j.ang. 35 | N14: 27 j.ang. / j.ang. 29 | O14: j. polski | P14: muzyka | Q14: j. polski 23. 22 | R14: 24 konw. / chemia | S14: j. polski | T14: matematyka 31, 33, 34, 28, K | U14: 26 j.fran./ j.niem. 36 | V14: matematyka 31, 33, 34, 28, K
B15: 2 | C15: informat. / j.ang. | D15: zajęcia zint. | E15: zajęcia zint. | F15: RELIGIA | G15: wych. fizyczne | H15: zajęcia zint. | I15: zajęcia zint. | J15: j.ang. / j.ang. | K15: 26 j.fran./ j.niem. 36 | L15: religia | M15: 21 j. hiszp. / j.ang. 35 | N15: j. polski | O15: 27 j.ang. / j.ang. 29 | P15: wych. fizyczne | Q15: wych. fizyczne | R15: 24 konw. / chemia | S15: j. polski | T15: matematyka 31, 33, 34, 28, K | U15: j. polski | V15: matematyka 31, 33, 34, 28, K
B16: 3 | C16: informat. / j.ang. | D16: konwersacje | E16: zajęcia zint. | F16: j.ang. / j.ang. | G16: RELIGIA | H16: zajęcia zint. | I16: zajęcia zint. | J16: PLASTYKA 28 | K16: matematyka | L16: 27 j. hiszp. / j.niem. 13 | M16: matematyka | N16: j. polski | O16: matematyka | P16: matematyka 33, K | Q16: 26 j.fran./ j.niem. 36 | R16: wych. fizyczne | S16: wych. fizyczne | T16: j. polski | U16: j. polski | V16: chemia 06
B17: 4 | C17: RELIGIA | D17: zajęcia zint. | E17: zajęcia zint. | F17: wych. fizyczne | G17: zajęcia zint. | H17: zajęcia zint. | I17: zajęcia zint. | J17: zajęcia zint. | K17: informatyka / j.ang. | L17: matematyka | M17: TECHNIKA 28 | N17: wych. fizyczne | O17: wych. fizyczne | P17: j.ang. / j.ang. | Q17: historia | R17: j. polski | S17: chemia / j.angielski | T17: j.ang. / konw. 31 | U17: matematyka 36, 38 | V17: j. polski | X17: WOS
B18: 5 | C18: rekreacja | G18: rekreacja | K18: informatyka / j.ang. | L18: j.ang. / j.ang. | M18: TECHNIKA 28 | N18: matematyka | O18: 26 j.fran./ j.niem. 36 | P18: matematyka 33, K | Q18: matematyka 23, 21 | R18: historia | S18: chemia / j.angielski | T18: j.ang. / konw. 31 | U18: GW | V18: j. polski
B19: 6 | C19: zajęcia zint. | D19: informat. / j.ang. | E19: wych. fizyczne | F19: zajęcia zint. | G19: PLASTYKA 28 | H19: wych. fizyczne | I19: j.ang. / j.ang. | J19: wych. fizyczne | K19: muzyka | L19: j. polski | M19: j. polski | N19: 26 j.fran./ j.niem. 36 | O19: GEOGRAFIA | P19: historia | Q19: 31 konw. / j.ang. 27 | R19: matematyka 24, 25, 23,22 | S19: matematyka 24, 25, 23,22 | T19: chemia 06 | U19: 25 j. ang. / j. ang. 35 | V19: religia
B20: 7 | C20: PLASTYKA 28 | D20: informat. / j.ang. | E20: RELIGIA | F20: zajęcia zint. | G20: zajęcia zint. | H20: zajęcia zint. | I20: wych. fizyczne | J20: religia | K20: historia | L20: j. polski | M20: j. polski | N20: GEOGRAFIA | O20: muzyka | P20: 26 j.fran./ j.niem. 36 | Q20: 31 konw. / j.ang. 27 | R20: 25 j. ang. / j. ang. 35 | S20: historia | T20: wych. fizyczne | U20: wych. fizyczne | V20: wych. fizyczne
A23: ŚRODA | B23: 1 | C23: j.ang. / j.ang. | D23: zajęcia zint. | E23: zajęcia zint. | F23: zajęcia zint. | G23: wych. fizyczne | H23: zajęcia zint. | I23: PLASTYKA 28 | J23: zajęcia zint. | K23: 26 j.fran./ j.niem. 36 | L23: matematyka | M23: 21 j. hiszp. / j.ang. 35 | N23: 27 konw. / plastyka | O23: TAŃCE | P23: matematyka 33, K | Q23: matematyka 23, 34 | R23: j. polski | S23: j. polski | T23: religia | U23: RELIGIA | V23: GEOGRAFIA 06
B24: 2 | C24: TAŃCE | D24: j.ang. / j.ang. | E24: zajęcia zint. | F24: wych. fizyczne | G24: edukacja mat | H24: zajęcia zint. | I24: zajęcia zint. | J24: zajęcia zint. | K24: TECHNIKA 28 | L24: religia | M24: 21 j. hiszp. / j.ang. 35 | N24: 27 konw. / plastyka | O24: HISTORIA | P24: 26 j.fran./ j.niem. 36 | Q24: BIOLOGIA 32 | R24: j. polski | S24: j. polski | T24: matematyka 31, 33, 34, 28, K | U24: GEOGRAFIA 06 | V24: matematyka 31, 33, 34, 28, K
B25: 3 | C25: wych. fizyczne | D25: zajęcia zint. | E25: zajęcia zint. | F25: j.ang. / j.ang. | G25: TAŃCE | H25: zajęcia zint. | I25: zajęcia zint. | J25: religia | K25: TECHNIKA 28 | L25: 21 j. hiszp. / j.niem. 13 | M25: PRZYRODA 32 | N25: HISTORIA | O25: 27 konw. / informat. | P25: j. polski | Q25: j. polski 23. 21 | R25: matematyka 24, 25, 31,34 | S25: matematyka 24, 25, 31,34 | T25: GEOGRAFIA 06 | U25: 26 j.fran./ j.niem. 36 | V25: 26 j.ang. / j.niem. 36
B26: 4 | C26: zajęcia zint. | D26: RELIGIA | E26: zajęcia zint. | F26: TAŃCE | G26: zajęcia zint. | H26: j.ang. / j.ang. | I26: zajęcia zint. | J26: zajęcia zint. | K26: j. polski | L26: PRZYRODA 32 | M26: HISTORIA | N26: matematyka | O26: 27 konw. / informat. | P26: j. polski | Q26: technika 28 | R26: historia | S26: fizyka | T26: 26 j. fran. / j.ang. 35 | U26: matematyka 31, 38 | V26: 26 j.ang. / j.niem. 36
B27: 5 | C27: rekreacja | K27: matematyka | L27: HISTORIA | M27: j. polski | N27: TAŃCE | O27: matematyka | P27: BIOLOGIA 32 | Q27: historia | R27: fizyka | S27: 29 j.ang. / j.niem. 36 | T27: 26 j. fran. / j.ang. 35 | U27: matematyka 31, 38 | V27: 27 konw. / informat.
B28: 6 | C28: zajęcia zint. | D28: wych. fizyczne | E28: RELIGIA | F28: zajęcia zint. | G28: j.ang. / j.ang. | H28: religia | I28: muzyka | J28: zajęcia zint. | K28: PRZYRODA 32 | L28: TECHNIKA 13 | M28: TAŃCE | N28: j. polski | O28: technika 28 | P28: historia | Q28: RELIGIA | R28: 25 j. ang. / j. ang. 35 | S28: 26 j.fran. / j.ang. 29 | T28: WOS | U28: fizyka | V28: 27 konw. / informat.
B29: 7 | C29: zajęcia zint. | D29: zajęcia zint. | E29: j.ang. / j.ang. | F29: zajęcia zint. | G29: RELIGIA | H29: muzyka | I29: wych. fizyczne | J29: TAŃCE | K29: matematyka | L29: TECHNIKA 13 | M29: matematyka | N29: religia | O29: matematyka | P29: technika 28 | Q29: 26 j.fran./ j.niem. 36 | R29: informatyka | S29: historia | T29: fizyka | U29: j. polski | V29: WOS
B30: 8 | R30: 26 j.fran./ j.niem. 36 | S30: plastyka 25 | T30: informatyka | U30: WOS | V30: fizyka
A32: CZWARTEK | B32: 1 | C32: zajęcia zint. | D32: SZACHY 01 | E32: zajęcia zint. | F32: zajęcia zint. | G32: zajęcia zint. | H32: TAŃCE | I32: j.ang. / j.ang. | J32: zajęcia zint. | K32: j. polski | L32: informatyka / j.ang. | M32: matematyka | N32: matematyka | O32: j. polski | P32: j. polski | Q32: GEOGRAFIA 06 | R32: 26 j.fran./ j.niem. 36 | S32: BIOLOGIA 32 | T32: wych. fizyczne | U32: HISTORIA | V32: wych. fizyczne
B33: 2 | C33: j.ang. / szachy | D33: zajęcia zint. | E33: zajęcia zint. | F33: zajęcia zint. | G33: edukacja mat | H33: zajęcia zint. | I33: TAŃCE | J33: j.ang. / j.ang. | K33: j. polski | L33: informatyka / j.ang. | M33: matematyka | N33: matematyka | O33: j. polski | P33: konw. / j.francuski | Q33: edu zdrowotna / j.ang. | R33: BIOLOGIA 32 | S33: GEOGRAFIA 06 | T33: WOS | U33: wych. fizyczne | V33: HISTORIA
B34: 3 | C34: j.ang. / szachy | D34: zajęcia zint. | E34: PLASTYKA 03 | F34: j.ang. / j.ang. | G34: konwersacje | H34: zajęcia zint. | I34: zajęcia zint. | J34: informat./ z.zint. | K34: matematyka | L34: TAŃCE | M34: j. polski | N34: wych. fizyczne | O34: wych. fizyczne | P34: konw. / j.niemiecki | Q34: edu zdrowotna / j.ang. | R34: GEOGRAFIA 06 | S34: RELIGIA | T34: BIOLOGIA 32 | U34: j. polski | V34: j. polski
B35: 4 | C35: zajęcia zint. | D35: TAŃCE | E35: SZACHY 01 | F35: PLASTYKA 03 | G35: j.ang. / j.ang. | H35: plastyka 28 | I35: zajęcia zint. | J35: informat./ z.zint. | K35: wych. fizyczne | L35: wych. fizyczne | M35: HISTORIA | N35: 26 j.fran./ j.niem. 36 | O35: 27 j.ang. / j.ang. 29 | P35: GEOGRAFIA 06 | Q35: j. polski 23. 22 | R35: 25 j. ang. / j. ang. 35 | S35: 21 konw. / j.ang. 29 | T35: j. polski | U35: BIOLOGIA 32 | V35: religia
B36: 5 | C36: rekreacja | G36: rekreacja | K36: 26 j.fran./ j.niem. 36 | L36: 21 j. hiszp. / j.niem. 13 | M36: wych. fizyczne | N36: 27 j.ang. / j.ang. 29 | O36: religia | P36: TAŃCE | Q36: j. polski 23. 22 | R36: RELIGIA | S36: 21 konw. / j.ang. 29 | T36: chemia / j.polski | U36: 25 j. ang. / j. ang. 35 | V36: EDB
B37: 6 | C37: zajęcia zint. | D37: PLASTYKA 03 | E37: informatyka | F37: muzyka | G37: zajęcia zint. | H37: religia | I37: zajęcia zint. | J37: muzyka | K37: 27 j.ang. / j.ang. 29 | L37: HISTORIA | M37: 21 j. hiszp. / j.ang. 35 | N37: j. polski | O37: plastyka 28 | P37: j.ang. / j.ang. | Q37: TAŃCE | R37: wych. fizyczne | S37: wych. fizyczne | T37: chemia / j.polski | U37: 26 j.fran./ j.niem. 36 | V37: BIOLOGIA 32
B38: 7 | C38: zajęcia zint. | D38: zajęcia zint. | E38: TAŃCE | F38: zajęcia zint. | G38: informatyka | H38: j.ang. / j.ang. | I38: religia | J38: wych. fizyczne | K38: plastyka 28 | L38: j. polski | M38: 21 j. hiszp. / j.ang. 35 | N38: j. polski | O38: 26 j.fran./ j.niem. 36 | P38: wych. fizyczne | Q38: wych. fizyczne | R38: j. polski | S38: j. polski | T38: HISTORIA | U38: 21 konw. / chemia | V38: 26 j.ang. / j.niem. 36
B39: 8 | R39: j. polski | S39: 26 j.fran./ j.niem. 36 | T39: religia | U39: 21 konw. / chemia | V39: 26 j.ang. / j.niem. 36
A41: PIĄTEK | B41: 1 | C41: zajęcia zint. | D41: wych. fizyczne | E41: zajęcia zint. | F41: zajęcia zint. | G41: zajęcia zint. | H41: wych. fizyczne | I41: informat. / j.ang. | J41: zajęcia zint. | K41: GW | L41: j. polski | M41: GW | N41: GW | O41: GW | P41: GW | Q41: muzyka / j.ang. 27 | R41: GW | S41: GW | T41: GW | U41: RELIGIA | V41: GW
B42: 2 | C42: zajęcia zint. | D42: zajęcia zint. | E42: zajęcia zint. | F42: zajęcia zint. | G42: zajęcia zint. | H42: zajęcia zint. | I42: informat. / j.ang. | J42: zajęcia zint. | K42: j. polski | L42: j.ang. / j.ang. | M42: religia | N42: HISTORIA | O42: j. polski | P42: j. polski | Q42: muzyka / j.ang. 27 | R42: matematyka 24, 25, 28,31 | S42: matematyka 24, 25, 28,31 | T42: wych. fizyczne | U42: 25 j. ang. / j. ang. 35 | V42: wych. fizyczne
B43: 3 | C43: zajęcia zint. | D43: zajęcia zint. | E43: zajęcia zint. | F43: informatyka | G43: zajęcia zint. | H43: j.ang. / j.ang. | I43: zajęcia zint. | J43: religia | K43: wych. fizyczne | L43: wych. fizyczne | M43: PRZYRODA 32 | N43: muzyka | O43: 27 j.ang. / j.ang. 29 | P43: j. polski | Q43: j. polski 23. 22 | R43: matematyka 24, 25, 28,31 | S43: matematyka 24, 25, 28,31 | T43: 26 j. fran. / j.ang. 35 | U43: chemia 06 | V43: WOS
B44: 4 | C44: wych. fizyczne | D44: j.ang. / j.ang. | E44: muzyka | F44: konwersacje | G44: edukacja mat | H44: zajęcia zint. | I44: zajęcia zint. | J44: zajęcia zint. | K44: religia | L44: matematyka | M44: PRZYRODA 32 | N44: wych. fizyczne | O44: wych. fizyczne | P44: j.ang. / j.ang. | Q44: j. polski 23. 22 | R44: chemia 06 | S44: RELIGIA | T44: 26 j. fran. / j.ang. 35 | U44: informatyka | V44: j. polski
B45: 5 | C45: rekreacja | G45: rekreacja | K45: 27 j.ang. / j.ang. 29 | L45: PRZYRODA 32 | M45: wych. fizyczne | N45: j. polski | O45: religia | P45: edu zdrowotna | Q45: RELIGIA | R45: 25 j. ang. / j. ang. 35 | S45: chemia 06 | T45: matematyka 31, 34,36,28,K | U45: EDB | V45: matematyka 31, 34,36,28,K
B46: 6 | C46: RELIGIA | D46: zajęcia zint. | E46: wych. fizyczne | F46: zajęcia zint. | G46: muzyka | H46: zajęcia zint. | I46: zajęcia zint. | J46: j.ang. / j.ang. | K46: matematyka | L46: PRZYRODA 32 | M46: j. polski | N46: 27 j.ang. / j.ang. 29 | O46: edu zdrowotna | P46: matematyka 33, K | Q46: matematyka 23, 28 | R46: wych. fizyczne | S46: wych. fizyczne | T46: j. polski | U46: WOS | V46: 26 j.ang. / chemia
B47: 7 | E47: basen | F47: basen | G47: basen | H47: basen | I47: basen | J47: basen | K47: religia | L47: GW | M47: j. polski | N47: edu zdrowotna | O47: matematyka | P47: wych. fizyczne | Q47: wych. fizyczne | R47: edu zdrowotna | S47: informatyka | T47: j. polski | U47: matematyka 36, 38 | V47: 26 j.ang. / chemia
B48: 8

Sheet 1a
A1: IA | B1: ='PLAN LEKCJI'!$I$1 -> PLAN LEKCJI semestr I - rok szkolny 2026 / 2027
E2: SALA 03 | F2: SALA 04
A3: Nr lekcji | B3: Poniedziałek | C3: Wtorek | D3: Środa | E3: Czwartek | F3: Piątek
A4: =INDIRECT(ADDRESS(ROW()+1,2,,,"PLAN LEKCJI")) -> 1 | B4: =INDIRECT(ADDRESS(ROW()+(COLUMN()-2)*9+1,MATCH($A$1,'PLAN LEKCJI'!$C$3:$V$3)+2,,,"PLAN LEKCJI")) -> muzyka | C4: =INDIRECT(ADDRESS(ROW()+(COLUMN()-2)*9+1,MATCH($A$1,'PLAN LEKCJI'!$C$3:$V$3)+2,,,"PLAN LEKCJI")) -> zajęcia zint. | D4: =INDIRECT(ADDRESS(ROW()+(COLUMN()-2)*9+1,MATCH($A$1,'PLAN LEKCJI'!$C$3:$V$3)+2,,,"PLAN LEKCJI")) -> j.ang. / j.ang. | E4: =INDIRECT(ADDRESS(ROW()+(COLUMN()-2)*9+1,MATCH($A$1,'PLAN LEKCJI'!$C$3:$V$3)+2,,,"PLAN LEKCJI")) -> zajęcia zint. | F4: =INDIRECT(ADDRESS(ROW()+(COLUMN()-2)*9+1,MATCH($A$1,'PLAN LEKCJI'!$C$3:$V$3)+2,,,"PLAN LEKCJI")) -> zajęcia zint.
A5: =INDIRECT(ADDRESS(ROW()+1,2,,,"PLAN LEKCJI")) -> 2 | B5: =INDIRECT(ADDRESS(ROW()+(COLUMN()-2)*9+1,MATCH($A$1,'PLAN LEKCJI'!$C$3:$V$3)+2,,,"PLAN LEKCJI")) -> wych. fizyczne | C5: =INDIRECT(ADDRESS(ROW()+(COLUMN()-2)*9+1,MATCH($A$1,'PLAN LEKCJI'!$C$3:$V$3)+2,,,"PLAN LEKCJI")) -> informat. / j.ang. | D5: =INDIRECT(ADDRESS(ROW()+(COLUMN()-2)*9+1,MATCH($A$1,'PLAN LEKCJI'!$C$3:$V$3)+2,,,"PLAN LEKCJI")) -> TAŃCE | E5: =INDIRECT(ADDRESS(ROW()+(COLUMN()-2)*9+1,MATCH($A$1,'PLAN LEKCJI'!$C$3:$V$3)+2,,,"PLAN LEKCJI")) -> j.ang. / szachy | F5: =INDIRECT(ADDRESS(ROW()+(COLUMN()-2)*9+1,MATCH($A$1,'PLAN LEKCJI'!$C$3:$V$3)+2,,,"PLAN LEKCJI")) -> zajęcia zint.
A6: =INDIRECT(ADDRESS(ROW()+1,2,,,"PLAN LEKCJI")) -> 3 | B6: =INDIRECT(ADDRESS(ROW()+(COLUMN()-2)*9+1,MATCH($A$1,'PLAN LEKCJI'!$C$3:$V$3)+2,,,"PLAN LEKCJI")) -> zajęcia zint. | C6: =INDIRECT(ADDRESS(ROW()+(COLUMN()-2)*9+1,MATCH($A$1,'PLAN LEKCJI'!$C$3:$V$3)+2,,,"PLAN LEKCJI")) -> informat. / j.ang. | D6: =INDIRECT(ADDRESS(ROW()+(COLUMN()-2)*9+1,MATCH($A$1,'PLAN LEKCJI'!$C$3:$V$3)+2,,,"PLAN LEKCJI")) -> wych. fizyczne | E6: =INDIRECT(ADDRESS(ROW()+(COLUMN()-2)*9+1,MATCH($A$1,'PLAN LEKCJI'!$C$3:$V$3)+2,,,"PLAN LEKCJI")) -> j.ang. / szachy | F6: =INDIRECT(ADDRESS(ROW()+(COLUMN()-2)*9+1,MATCH($A$1,'PLAN LEKCJI'!$C$3:$V$3)+2,,,"PLAN LEKCJI")) -> zajęcia zint.
A7: =INDIRECT(ADDRESS(ROW()+1,2,,,"PLAN LEKCJI")) -> 4 | B7: =INDIRECT(ADDRESS(ROW()+(COLUMN()-2)*9+1,MATCH($A$1,'PLAN LEKCJI'!$C$3:$V$3)+2,,,"PLAN LEKCJI")) -> konwersacje | C7: =INDIRECT(ADDRESS(ROW()+(COLUMN()-2)*9+1,MATCH($A$1,'PLAN LEKCJI'!$C$3:$V$3)+2,,,"PLAN LEKCJI")) -> RELIGIA | D7: =INDIRECT(ADDRESS(ROW()+(COLUMN()-2)*9+1,MATCH($A$1,'PLAN LEKCJI'!$C$3:$V$3)+2,,,"PLAN LEKCJI")) -> zajęcia zint. | E7: =INDIRECT(ADDRESS(ROW()+(COLUMN()-2)*9+1,MATCH($A$1,'PLAN LEKCJI'!$C$3:$V$3)+2,,,"PLAN LEKCJI")) -> zajęcia zint. | F7: =INDIRECT(ADDRESS(ROW()+(COLUMN()-2)*9+1,MATCH($A$1,'PLAN LEKCJI'!$C$3:$V$3)+2,,,"PLAN LEKCJI")) -> wych. fizyczne
A8: =INDIRECT(ADDRESS(ROW()+1,2,,,"PLAN LEKCJI")) -> 5 | B8: =INDIRECT(ADDRESS(ROW()+(COLUMN()-2)*9+1,MATCH($A$1,'PLAN LEKCJI'!$C$3:$V$3)+2,,,"PLAN LEKCJI")) -> rekreacja | C8: =INDIRECT(ADDRESS(ROW()+(COLUMN()-2)*9+1,MATCH($A$1,'PLAN LEKCJI'!$C$3:$V$3)+2,,,"PLAN LEKCJI")) -> rekreacja | D8: =INDIRECT(ADDRESS(ROW()+(COLUMN()-2)*9+1,MATCH($A$1,'PLAN LEKCJI'!$C$3:$V$3)+2,,,"PLAN LEKCJI")) -> rekreacja | E8: =INDIRECT(ADDRESS(ROW()+(COLUMN()-2)*9+1,MATCH($A$1,'PLAN LEKCJI'!$C$3:$V$3)+2,,,"PLAN LEKCJI")) -> rekreacja | F8: =INDIRECT(ADDRESS(ROW()+(COLUMN()-2)*9+1,MATCH($A$1,'PLAN LEKCJI'!$C$3:$V$3)+2,,,"PLAN LEKCJI")) -> rekreacja
A9: =INDIRECT(ADDRESS(ROW()+1,2,,,"PLAN LEKCJI")) -> 6 | B9: =INDIRECT(ADDRESS(ROW()+(COLUMN()-2)*9+1,MATCH($A$1,'PLAN LEKCJI'!$C$3:$V$3)+2,,,"PLAN LEKCJI")) -> zajęcia zint. | C9: =INDIRECT(ADDRESS(ROW()+(COLUMN()-2)*9+1,MATCH($A$1,'PLAN LEKCJI'!$C$3:$V$3)+2,,,"PLAN LEKCJI")) -> zajęcia zint. | D9: =INDIRECT(ADDRESS(ROW()+(COLUMN()-2)*9+1,MATCH($A$1,'PLAN LEKCJI'!$C$3:$V$3)+2,,,"PLAN LEKCJI")) -> zajęcia zint. | E9: =INDIRECT(ADDRESS(ROW()+(COLUMN()-2)*9+1,MATCH($A$1,'PLAN LEKCJI'!$C$3:$V$3)+2,,,"PLAN LEKCJI")) -> zajęcia zint. | F9: =INDIRECT(ADDRESS(ROW()+(COLUMN()-2)*9+1,MATCH($A$1,'PLAN LEKCJI'!$C$3:$V$3)+2,,,"PLAN LEKCJI")) -> RELIGIA
A10: =INDIRECT(ADDRESS(ROW()+1,2,,,"PLAN LEKCJI")) -> 7 | B10: =INDIRECT(ADDRESS(ROW()+(COLUMN()-2)*9+1,MATCH($A$1,'PLAN LEKCJI'!$C$3:$V$3)+2,,,"PLAN LEKCJI")) -> zajęcia zint. | C10: =INDIRECT(ADDRESS(ROW()+(COLUMN()-2)*9+1,MATCH($A$1,'PLAN LEKCJI'!$C$3:$V$3)+2,,,"PLAN LEKCJI")) -> PLASTYKA 28 | D10: =INDIRECT(ADDRESS(ROW()+(COLUMN()-2)*9+1,MATCH($A$1,'PLAN LEKCJI'!$C$3:$V$3)+2,,,"PLAN LEKCJI")) -> zajęcia zint. | E10: =INDIRECT(ADDRESS(ROW()+(COLUMN()-2)*9+1,MATCH($A$1,'PLAN LEKCJI'!$C$3:$V$3)+2,,,"PLAN LEKCJI")) -> zajęcia zint. | F10: =INDIRECT(ADDRESS(ROW()+(COLUMN()-2)*9+1,MATCH($A$1,'PLAN LEKCJI'!$C$3:$V$3)+2,,,"PLAN LEKCJI")) -> 0
A11: =INDIRECT(ADDRESS(ROW()+1,2,,,"PLAN LEKCJI")) -> 8 | B11: =INDIRECT(ADDRESS(ROW()+(COLUMN()-2)*9+1,MATCH($A$1,'PLAN LEKCJI'!$C$3:$V$3)+2,,,"PLAN LEKCJI")) -> 0 | C11: =INDIRECT(ADDRESS(ROW()+(COLUMN()-2)*9+1,MATCH($A$1,'PLAN LEKCJI'!$C$3:$V$3)+2,,,"PLAN LEKCJI")) | D11: =INDIRECT(ADDRESS(ROW()+(COLUMN()-2)*9+1,MATCH($A$1,'PLAN LEKCJI'!$C$3:$V$3)+2,,,"PLAN LEKCJI")) -> 0 | E11: =INDIRECT(ADDRESS(ROW()+(COLUMN()-2)*9+1,MATCH($A$1,'PLAN LEKCJI'!$C$3:$V$3)+2,,,"PLAN LEKCJI")) -> 0 | F11: =INDIRECT(ADDRESS(ROW()+(COLUMN()-2)*9+1,MATCH($A$1,'PLAN LEKCJI'!$C$3:$V$3)+2,,,"PLAN LEKCJI")) -> 0

Sheet 1b
A1: IB | B1: ='PLAN LEKCJI'!$I$1 -> PLAN LEKCJI semestr I - rok szkolny 2026 / 2027
A3: Nr lekcji | B3: Poniedziałek | C3: Wtorek | D3: Środa | E3: Czwartek | F3: Piątek
A4: =INDIRECT(ADDRESS(ROW()+1,2,,,"PLAN LEKCJI")) -> 1 | B4: =INDIRECT(ADDRESS(ROW()+(COLUMN()-2)*9+1,MATCH($A$1,'PLAN LEKCJI'!$C$3:$V$3)+2,,,"PLAN LEKCJI")) -> zajęcia zint. | C4: =INDIRECT(ADDRESS(ROW()+(COLUMN()-2)*9+1,MATCH($A$1,'PLAN LEKCJI'!$C$3:$V$3)+2,,,"PLAN LEKCJI")) -> zajęcia zint. | D4: =INDIRECT(ADDRESS(ROW()+(COLUMN()-2)*9+1,MATCH($A$1,'PLAN LEKCJI'!$C$3:$V$3)+2,,,"PLAN LEKCJI")) -> zajęcia zint. | E4: =INDIRECT(ADDRESS(ROW()+(COLUMN()-2)*9+1,MATCH($A$1,'PLAN LEKCJI'!$C$3:$V$3)+2,,,"PLAN LEKCJI")) -> SZACHY 01 | F4: =INDIRECT(ADDRESS(ROW()+(COLUMN()-2)*9+1,MATCH($A$1,'PLAN LEKCJI'!$C$3:$V$3)+2,,,"PLAN LEKCJI")) -> wych. fizyczne
A5: =INDIRECT(ADDRESS(ROW()+1,2,,,"PLAN LEKCJI")) -> 2 | B5: =INDIRECT(ADDRESS(ROW()+(COLUMN()-2)*9+1,MATCH($A$1,'PLAN LEKCJI'!$C$3:$V$3)+2,,,"PLAN LEKCJI")) -> zajęcia zint. | C5: =INDIRECT(ADDRESS(ROW()+(COLUMN()-2)*9+1,MATCH($A$1,'PLAN LEKCJI'!$C$3:$V$3)+2,,,"PLAN LEKCJI")) -> zajęcia zint. | D5: =INDIRECT(ADDRESS(ROW()+(COLUMN()-2)*9+1,MATCH($A$1,'PLAN LEKCJI'!$C$3:$V$3)+2,,,"PLAN LEKCJI")) -> j.ang. / j.ang. | E5: =INDIRECT(ADDRESS(ROW()+(COLUMN()-2)*9+1,MATCH($A$1,'PLAN LEKCJI'!$C$3:$V$3)+2,,,"PLAN LEKCJI")) -> zajęcia zint. | F5: =INDIRECT(ADDRESS(ROW()+(COLUMN()-2)*9+1,MATCH($A$1,'PLAN LEKCJI'!$C$3:$V$3)+2,,,"PLAN LEKCJI")) -> zajęcia zint.
A6: =INDIRECT(ADDRESS(ROW()+1,2,,,"PLAN LEKCJI")) -> 3 | B6: =INDIRECT(ADDRESS(ROW()+(COLUMN()-2)*9+1,MATCH($A$1,'PLAN LEKCJI'!$C$3:$V$3)+2,,,"PLAN LEKCJI")) -> wych. fizyczne | C6: =INDIRECT(ADDRESS(ROW()+(COLUMN()-2)*9+1,MATCH($A$1,'PLAN LEKCJI'!$C$3:$V$3)+2,,,"PLAN LEKCJI")) -> konwersacje | D6: =INDIRECT(ADDRESS(ROW()+(COLUMN()-2)*9+1,MATCH($A$1,'PLAN LEKCJI'!$C$3:$V$3)+2,,,"PLAN LEKCJI")) -> zajęcia zint. | E6: =INDIRECT(ADDRESS(ROW()+(COLUMN()-2)*9+1,MATCH($A$1,'PLAN LEKCJI'!$C$3:$V$3)+2,,,"PLAN LEKCJI")) -> zajęcia zint. | F6: =INDIRECT(ADDRESS(ROW()+(COLUMN()-2)*9+1,MATCH($A$1,'PLAN LEKCJI'!$C$3:$V$3)+2,,,"PLAN LEKCJI")) -> zajęcia zint.
A7: =INDIRECT(ADDRESS(ROW()+1,2,,,"PLAN LEKCJI")) -> 4 | B7: =INDIRECT(ADDRESS(ROW()+(COLUMN()-2)*9+1,MATCH($A$1,'PLAN LEKCJI'!$C$3:$V$3)+2,,,"PLAN LEKCJI")) -> muzyka | C7: =INDIRECT(ADDRESS(ROW()+(COLUMN()-2)*9+1,MATCH($A$1,'PLAN LEKCJI'!$C$3:$V$3)+2,,,"PLAN LEKCJI")) -> zajęcia zint. | D7: =INDIRECT(ADDRESS(ROW()+(COLUMN()-2)*9+1,MATCH($A$1,'PLAN LEKCJI'!$C$3:$V$3)+2,,,"PLAN LEKCJI")) -> RELIGIA | E7: =INDIRECT(ADDRESS(ROW()+(COLUMN()-2)*9+1,MATCH($A$1,'PLAN LEKCJI'!$C$3:$V$3)+2,,,"PLAN LEKCJI")) -> TAŃCE | F7: =INDIRECT(ADDRESS(ROW()+(COLUMN()-2)*9+1,MATCH($A$1,'PLAN LEKCJI'!$C$3:$V$3)+2,,,"PLAN LEKCJI")) -> j.ang. / j.ang.
A8: =INDIRECT(ADDRESS(ROW()+1,2,,,"PLAN LEKCJI")) -> 5 | B8: =INDIRECT(ADDRESS(ROW()+(COLUMN()-2)*9+1,MATCH($A$1,'PLAN LEKCJI'!$C$3:$V$3)+2,,,"PLAN LEKCJI")) -> 0 | C8: =INDIRECT(ADDRESS(ROW()+(COLUMN()-2)*9+1,MATCH($A$1,'PLAN LEKCJI'!$C$3:$V$3)+2,,,"PLAN LEKCJI")) -> 0 | D8: =INDIRECT(ADDRESS(ROW()+(COLUMN()-2)*9+1,MATCH($A$1,'PLAN LEKCJI'!$C$3:$V$3)+2,,,"PLAN LEKCJI")) -> 0 | E8: =INDIRECT(ADDRESS(ROW()+(COLUMN()-2)*9+1,MATCH($A$1,'PLAN LEKCJI'!$C$3:$V$3)+2,,,"PLAN LEKCJI")) -> 0 | F8: =INDIRECT(ADDRESS(ROW()+(COLUMN()-2)*9+1,MATCH($A$1,'PLAN LEKCJI'!$C$3:$V$3)+2,,,"PLAN LEKCJI")) -> 0
A9: =INDIRECT(ADDRESS(ROW()+1,2,,,"PLAN LEKCJI")) -> 6 | B9: =INDIRECT(ADDRESS(ROW()+(COLUMN()-2)*9+1,MATCH($A$1,'PLAN LEKCJI'!$C$3:$V$3)+2,,,"PLAN LEKCJI")) -> zajęcia zint. | C9: =INDIRECT(ADDRESS(ROW()+(COLUMN()-2)*9+1,MATCH($A$1,'PLAN LEKCJI'!$C$3:$V$3)+2,,,"PLAN LEKCJI")) -> informat. / j.ang. | D9: =INDIRECT(ADDRESS(ROW()+(COLUMN()-2)*9+1,MATCH($A$1,'PLAN LEKCJI'!$C$3:$V$3)+2,,,"PLAN LEKCJI")) -> wych. fizyczne | E9: =INDIRECT(ADDRESS(ROW()+(COLUMN()-2)*9+1,MATCH($A$1,'PLAN LEKCJI'!$C$3:$V$3)+2,,,"PLAN LEKCJI")) -> PLASTYKA 03 | F9: =INDIRECT(ADDRESS(ROW()+(COLUMN()-2)*9+1,MATCH($A$1,'PLAN LEKCJI'!$C$3:$V$3)+2,,,"PLAN LEKCJI")) -> zajęcia zint.
A10: =INDIRECT(ADDRESS(ROW()+1,2,,,"PLAN LEKCJI")) -> 7 | B10: =INDIRECT(ADDRESS(ROW()+(COLUMN()-2)*9+1,MATCH($A$1,'PLAN LEKCJI'!$C$3:$V$3)+2,,,"PLAN LEKCJI")) -> RELIGIA | C10: =INDIRECT(ADDRESS(ROW()+(COLUMN()-2)*9+1,MATCH($A$1,'PLAN LEKCJI'!$C$3:$V$3)+2,,,"PLAN LEKCJI")) -> informat. / j.ang. | D10: =INDIRECT(ADDRESS(ROW()+(COLUMN()-2)*9+1,MATCH($A$1,'PLAN LEKCJI'!$C$3:$V$3)+2,,,"PLAN LEKCJI")) -> zajęcia zint. | E10: =INDIRECT(ADDRESS(ROW()+(COLUMN()-2)*9+1,MATCH($A$1,'PLAN LEKCJI'!$C$3:$V$3)+2,,,"PLAN LEKCJI")) -> zajęcia zint. | F10: =INDIRECT(ADDRESS(ROW()+(COLUMN()-2)*9+1,MATCH($A$1,'PLAN LEKCJI'!$C$3:$V$3)+2,,,"PLAN LEKCJI")) -> 0
A11: =INDIRECT(ADDRESS(ROW()+1,2,,,"PLAN LEKCJI")) -> 8 | B11: =INDIRECT(ADDRESS(ROW()+(COLUMN()-2)*9+1,MATCH($A$1,'PLAN LEKCJI'!$C$3:$V$3)+2,,,"PLAN LEKCJI")) -> 0 | C11: =INDIRECT(ADDRESS(ROW()+(COLUMN()-2)*9+1,MATCH($A$1,'PLAN LEKCJI'!$C$3:$V$3)+2,,,"PLAN LEKCJI")) -> 0 | D11: =INDIRECT(ADDRESS(ROW()+(COLUMN()-2)*9+1,MATCH($A$1,'PLAN LEKCJI'!$C$3:$V$3)+2,,,"PLAN LEKCJI")) -> 0 | E11: =INDIRECT(ADDRESS(ROW()+(COLUMN()-2)*9+1,MATCH($A$1,'PLAN LEKCJI'!$C$3:$V$3)+2,,,"PLAN LEKCJI")) -> 0 | F11: =INDIRECT(ADDRESS(ROW()+(COLUMN()-2)*9+1,MATCH($A$1,'PLAN LEKCJI'!$C$3:$V$3)+2,,,"PLAN LEKCJI")) -> 0

Sheet 2a
A1: IIA | B1: ='PLAN LEKCJI'!$I$1 -> PLAN LEKCJI semestr I - rok szkolny 2026 / 2027
A3: Nr lekcji | B3: Poniedziałek | C3: Wtorek | D3: Środa | E3: Czwartek | F3: Piątek
A4: =INDIRECT(ADDRESS(ROW()+1,2,,,"PLAN LEKCJI")) -> 1 | B4: =INDIRECT(ADDRESS(ROW()+(COLUMN()-2)*9+1,MATCH($A$1,'PLAN LEKCJI'!$C$3:$V$3)+2,,,"PLAN LEKCJI")) -> zajęcia zint. | C4: =INDIRECT(ADDRESS(ROW()+(COLUMN()-2)*9+1,MATCH($A$1,'PLAN LEKCJI'!$C$3:$V$3)+2,,,"PLAN LEKCJI")) -> j.ang. / j.ang. | D4: =INDIRECT(ADDRESS(ROW()+(COLUMN()-2)*9+1,MATCH($A$1,'PLAN LEKCJI'!$C$3:$V$3)+2,,,"PLAN LEKCJI")) -> zajęcia zint. | E4: =INDIRECT(ADDRESS(ROW()+(COLUMN()-2)*9+1,MATCH($A$1,'PLAN LEKCJI'!$C$3:$V$3)+2,,,"PLAN LEKCJI")) -> zajęcia zint. | F4: =INDIRECT(ADDRESS(ROW()+(COLUMN()-2)*9+1,MATCH($A$1,'PLAN LEKCJI'!$C$3:$V$3)+2,,,"PLAN LEKCJI")) -> zajęcia zint.
A5: =INDIRECT(ADDRESS(ROW()+1,2,,,"PLAN LEKCJI")) -> 2 | B5: =INDIRECT(ADDRESS(ROW()+(COLUMN()-2)*9+1,MATCH($A$1,'PLAN LEKCJI'!$C$3:$V$3)+2,,,"PLAN LEKCJI")) -> j.ang. / j.ang. | C5: =INDIRECT(ADDRESS(ROW()+(COLUMN()-2)*9+1,MATCH($A$1,'PLAN LEKCJI'!$C$3:$V$3)+2,,,"PLAN LEKCJI")) -> zajęcia zint. | D5: =INDIRECT(ADDRESS(ROW()+(COLUMN()-2)*9+1,MATCH($A$1,'PLAN LEKCJI'!$C$3:$V$3)+2,,,"PLAN LEKCJI")) -> zajęcia zint. | E5: =INDIRECT(ADDRESS(ROW()+(COLUMN()-2)*9+1,MATCH($A$1,'PLAN LEKCJI'!$C$3:$V$3)+2,,,"PLAN LEKCJI")) -> zajęcia zint. | F5: =INDIRECT(ADDRESS(ROW()+(COLUMN()-2)*9+1,MATCH($A$1,'PLAN LEKCJI'!$C$3:$V$3)+2,,,"PLAN LEKCJI")) -> zajęcia zint.
A6: =INDIRECT(ADDRESS(ROW()+1,2,,,"PLAN LEKCJI")) -> 3 | B6: =INDIRECT(ADDRESS(ROW()+(COLUMN()-2)*9+1,MATCH($A$1,'PLAN LEKCJI'!$C$3:$V$3)+2,,,"PLAN LEKCJI")) -> zajęcia zint. | C6: =INDIRECT(ADDRESS(ROW()+(COLUMN()-2)*9+1,MATCH($A$1,'PLAN LEKCJI'!$C$3:$V$3)+2,,,"PLAN LEKCJI")) -> zajęcia zint. | D6: =INDIRECT(ADDRESS(ROW()+(COLUMN()-2)*9+1,MATCH($A$1,'PLAN LEKCJI'!$C$3:$V$3)+2,,,"PLAN LEKCJI")) -> zajęcia zint. | E6: =INDIRECT(ADDRESS(ROW()+(COLUMN()-2)*9+1,MATCH($A$1,'PLAN LEKCJI'!$C$3:$V$3)+2,,,"PLAN LEKCJI")) -> PLASTYKA 03 | F6: =INDIRECT(ADDRESS(ROW()+(COLUMN()-2)*9+1,MATCH($A$1,'PLAN LEKCJI'!$C$3:$V$3)+2,,,"PLAN LEKCJI")) -> zajęcia zint.
A7: =INDIRECT(ADDRESS(ROW()+1,2,,,"PLAN LEKCJI")) -> 4 | B7: =INDIRECT(ADDRESS(ROW()+(COLUMN()-2)*9+1,MATCH($A$1,'PLAN LEKCJI'!$C$3:$V$3)+2,,,"PLAN LEKCJI")) -> zajęcia zint. | C7: =INDIRECT(ADDRESS(ROW()+(COLUMN()-2)*9+1,MATCH($A$1,'PLAN LEKCJI'!$C$3:$V$3)+2,,,"PLAN LEKCJI")) -> zajęcia zint. | D7: =INDIRECT(ADDRESS(ROW()+(COLUMN()-2)*9+1,MATCH($A$1,'PLAN LEKCJI'!$C$3:$V$3)+2,,,"PLAN LEKCJI")) -> zajęcia zint. | E7: =INDIRECT(ADDRESS(ROW()+(COLUMN()-2)*9+1,MATCH($A$1,'PLAN LEKCJI'!$C$3:$V$3)+2,,,"PLAN LEKCJI")) -> SZACHY 01 | F7: =INDIRECT(ADDRESS(ROW()+(COLUMN()-2)*9+1,MATCH($A$1,'PLAN LEKCJI'!$C$3:$V$3)+2,,,"PLAN LEKCJI")) -> muzyka
A8: =INDIRECT(ADDRESS(ROW()+1,2,,,"PLAN LEKCJI")) -> 5 | B8: =INDIRECT(ADDRESS(ROW()+(COLUMN()-2)*9+1,MATCH($A$1,'PLAN LEKCJI'!$C$3:$V$3)+2,,,"PLAN LEKCJI")) -> 0 | C8: =INDIRECT(ADDRESS(ROW()+(COLUMN()-2)*9+1,MATCH($A$1,'PLAN LEKCJI'!$C$3:$V$3)+2,,,"PLAN LEKCJI")) -> 0 | D8: =INDIRECT(ADDRESS(ROW()+(COLUMN()-2)*9+1,MATCH($A$1,'PLAN LEKCJI'!$C$3:$V$3)+2,,,"PLAN LEKCJI")) -> 0 | E8: =INDIRECT(ADDRESS(ROW()+(COLUMN()-2)*9+1,MATCH($A$1,'PLAN LEKCJI'!$C$3:$V$3)+2,,,"PLAN LEKCJI")) -> 0 | F8: =INDIRECT(ADDRESS(ROW()+(COLUMN()-2)*9+1,MATCH($A$1,'PLAN LEKCJI'!$C$3:$V$3)+2,,,"PLAN LEKCJI")) -> 0
A9: =INDIRECT(ADDRESS(ROW()+1,2,,,"PLAN LEKCJI")) -> 6 | B9: =INDIRECT(ADDRESS(ROW()+(COLUMN()-2)*9+1,MATCH($A$1,'PLAN LEKCJI'!$C$3:$V$3)+2,,,"PLAN LEKCJI")) -> konwersacje | C9: =INDIRECT(ADDRESS(ROW()+(COLUMN()-2)*9+1,MATCH($A$1,'PLAN LEKCJI'!$C$3:$V$3)+2,,,"PLAN LEKCJI")) -> wych. fizyczne | D9: =INDIRECT(ADDRESS(ROW()+(COLUMN()-2)*9+1,MATCH($A$1,'PLAN LEKCJI'!$C$3:$V$3)+2,,,"PLAN LEKCJI")) -> RELIGIA | E9: =INDIRECT(ADDRESS(ROW()+(COLUMN()-2)*9+1,MATCH($A$1,'PLAN LEKCJI'!$C$3:$V$3)+2,,,"PLAN LEKCJI")) -> informatyka | F9: =INDIRECT(ADDRESS(ROW()+(COLUMN()-2)*9+1,MATCH($A$1,'PLAN LEKCJI'!$C$3:$V$3)+2,,,"PLAN LEKCJI")) -> wych. fizyczne
A10: =INDIRECT(ADDRESS(ROW()+1,2,,,"PLAN LEKCJI")) -> 7 | B10: =INDIRECT(ADDRESS(ROW()+(COLUMN()-2)*9+1,MATCH($A$1,'PLAN LEKCJI'!$C$3:$V$3)+2,,,"PLAN LEKCJI")) -> wych. fizyczne | C10: =INDIRECT(ADDRESS(ROW()+(COLUMN()-2)*9+1,MATCH($A$1,'PLAN LEKCJI'!$C$3:$V$3)+2,,,"PLAN LEKCJI")) -> RELIGIA | D10: =INDIRECT(ADDRESS(ROW()+(COLUMN()-2)*9+1,MATCH($A$1,'PLAN LEKCJI'!$C$3:$V$3)+2,,,"PLAN LEKCJI")) -> j.ang. / j.ang. | E10: =INDIRECT(ADDRESS(ROW()+(COLUMN()-2)*9+1,MATCH($A$1,'PLAN LEKCJI'!$C$3:$V$3)+2,,,"PLAN LEKCJI")) -> TAŃCE | F10: =INDIRECT(ADDRESS(ROW()+(COLUMN()-2)*9+1,MATCH($A$1,'PLAN LEKCJI'!$C$3:$V$3)+2,,,"PLAN LEKCJI")) -> basen
A11: =INDIRECT(ADDRESS(ROW()+1,2,,,"PLAN LEKCJI")) -> 8 | B11: =INDIRECT(ADDRESS(ROW()+(COLUMN()-2)*9+1,MATCH($A$1,'PLAN LEKCJI'!$C$3:$V$3)+2,,,"PLAN LEKCJI")) -> 0 | C11: =INDIRECT(ADDRESS(ROW()+(COLUMN()-2)*9+1,MATCH($A$1,'PLAN LEKCJI'!$C$3:$V$3)+2,,,"PLAN LEKCJI")) -> 0 | D11: =INDIRECT(ADDRESS(ROW()+(COLUMN()-2)*9+1,MATCH($A$1,'PLAN LEKCJI'!$C$3:$V$3)+2,,,"PLAN LEKCJI")) -> 0 | E11: =INDIRECT(ADDRESS(ROW()+(COLUMN()-2)*9+1,MATCH($A$1,'PLAN LEKCJI'!$C$3:$V$3)+2,,,"PLAN LEKCJI")) -> 0 | F11: =INDIRECT(ADDRESS(ROW()+(COLUMN()-2)*9+1,MATCH($A$1,'PLAN LEKCJI'!$C$3:$V$3)+2,,,"PLAN LEKCJI")) -> 0

Sheet 2b
A1: IIB | B1: ='PLAN LEKCJI'!$I$1 -> PLAN LEKCJI semestr I - rok szkolny 2026 / 2027
A3: Nr lekcji | B3: Poniedziałek | C3: Wtorek | D3: Środa | E3: Czwartek | F3: Piątek
A4: =INDIRECT(ADDRESS(ROW()+1,2,,,"PLAN LEKCJI")) -> 1 | B4: =INDIRECT(ADDRESS(ROW()+(COLUMN()-2)*9+1,MATCH($A$1,'PLAN LEKCJI'!$C$3:$V$3)+2,,,"PLAN LEKCJI")) -> zajęcia zint. | C4: =INDIRECT(ADDRESS(ROW()+(COLUMN()-2)*9+1,MATCH($A$1,'PLAN LEKCJI'!$C$3:$V$3)+2,,,"PLAN LEKCJI")) -> zajęcia zint. | D4: =INDIRECT(ADDRESS(ROW()+(COLUMN()-2)*9+1,MATCH($A$1,'PLAN LEKCJI'!$C$3:$V$3)+2,,,"PLAN LEKCJI")) -> zajęcia zint. | E4: =INDIRECT(ADDRESS(ROW()+(COLUMN()-2)*9+1,MATCH($A$1,'PLAN LEKCJI'!$C$3:$V$3)+2,,,"PLAN LEKCJI")) -> zajęcia zint. | F4: =INDIRECT(ADDRESS(ROW()+(COLUMN()-2)*9+1,MATCH($A$1,'PLAN LEKCJI'!$C$3:$V$3)+2,,,"PLAN LEKCJI")) -> zajęcia zint.
A5: =INDIRECT(ADDRESS(ROW()+1,2,,,"PLAN LEKCJI")) -> 2 | B5: =INDIRECT(ADDRESS(ROW()+(COLUMN()-2)*9+1,MATCH($A$1,'PLAN LEKCJI'!$C$3:$V$3)+2,,,"PLAN LEKCJI")) -> muzyka | C5: =INDIRECT(ADDRESS(ROW()+(COLUMN()-2)*9+1,MATCH($A$1,'PLAN LEKCJI'!$C$3:$V$3)+2,,,"PLAN LEKCJI")) -> RELIGIA | D5: =INDIRECT(ADDRESS(ROW()+(COLUMN()-2)*9+1,MATCH($A$1,'PLAN LEKCJI'!$C$3:$V$3)+2,,,"PLAN LEKCJI")) -> wych. fizyczne | E5: =INDIRECT(ADDRESS(ROW()+(COLUMN()-2)*9+1,MATCH($A$1,'PLAN LEKCJI'!$C$3:$V$3)+2,,,"PLAN LEKCJI")) -> zajęcia zint. | F5: =INDIRECT(ADDRESS(ROW()+(COLUMN()-2)*9+1,MATCH($A$1,'PLAN LEKCJI'!$C$3:$V$3)+2,,,"PLAN LEKCJI")) -> zajęcia zint.
A6: =INDIRECT(ADDRESS(ROW()+1,2,,,"PLAN LEKCJI")) -> 3 | B6: =INDIRECT(ADDRESS(ROW()+(COLUMN()-2)*9+1,MATCH($A$1,'PLAN LEKCJI'!$C$3:$V$3)+2,,,"PLAN LEKCJI")) -> zajęcia zint. | C6: =INDIRECT(ADDRESS(ROW()+(COLUMN()-2)*9+1,MATCH($A$1,'PLAN LEKCJI'!$C$3:$V$3)+2,,,"PLAN LEKCJI")) -> j.ang. / j.ang. | D6: =INDIRECT(ADDRESS(ROW()+(COLUMN()-2)*9+1,MATCH($A$1,'PLAN LEKCJI'!$C$3:$V$3)+2,,,"PLAN LEKCJI")) -> j.ang. / j.ang. | E6: =INDIRECT(ADDRESS(ROW()+(COLUMN()-2)*9+1,MATCH($A$1,'PLAN LEKCJI'!$C$3:$V$3)+2,,,"PLAN LEKCJI")) -> j.ang. / j.ang. | F6: =INDIRECT(ADDRESS(ROW()+(COLUMN()-2)*9+1,MATCH($A$1,'PLAN LEKCJI'!$C$3:$V$3)+2,,,"PLAN LEKCJI")) -> informatyka
A7: =INDIRECT(ADDRESS(ROW()+1,2,,,"PLAN LEKCJI")) -> 4 | B7: =INDIRECT(ADDRESS(ROW()+(COLUMN()-2)*9+1,MATCH($A$1,'PLAN LEKCJI'!$C$3:$V$3)+2,,,"PLAN LEKCJI")) -> wych. fizyczne | C7: =INDIRECT(ADDRESS(ROW()+(COLUMN()-2)*9+1,MATCH($A$1,'PLAN LEKCJI'!$C$3:$V$3)+2,,,"PLAN LEKCJI")) -> wych. fizyczne | D7: =INDIRECT(ADDRESS(ROW()+(COLUMN()-2)*9+1,MATCH($A$1,'PLAN LEKCJI'!$C$3:$V$3)+2,,,"PLAN LEKCJI")) -> TAŃCE | E7: =INDIRECT(ADDRESS(ROW()+(COLUMN()-2)*9+1,MATCH($A$1,'PLAN LEKCJI'!$C$3:$V$3)+2,,,"PLAN LEKCJI")) -> PLASTYKA 03 | F7: =INDIRECT(ADDRESS(ROW()+(COLUMN()-2)*9+1,MATCH($A$1,'PLAN LEKCJI'!$C$3:$V$3)+2,,,"PLAN LEKCJI")) -> konwersacje
A8: =INDIRECT(ADDRESS(ROW()+1,2,,,"PLAN LEKCJI")) -> 5 | B8: =INDIRECT(ADDRESS(ROW()+(COLUMN()-2)*9+1,MATCH($A$1,'PLAN LEKCJI'!$C$3:$V$3)+2,,,"PLAN LEKCJI")) -> 0 | C8: =INDIRECT(ADDRESS(ROW()+(COLUMN()-2)*9+1,MATCH($A$1,'PLAN LEKCJI'!$C$3:$V$3)+2,,,"PLAN LEKCJI")) -> 0 | D8: =INDIRECT(ADDRESS(ROW()+(COLUMN()-2)*9+1,MATCH($A$1,'PLAN LEKCJI'!$C$3:$V$3)+2,,,"PLAN LEKCJI")) -> 0 | E8: =INDIRECT(ADDRESS(ROW()+(COLUMN()-2)*9+1,MATCH($A$1,'PLAN LEKCJI'!$C$3:$V$3)+2,,,"PLAN LEKCJI")) -> 0 | F8: =INDIRECT(ADDRESS(ROW()+(COLUMN()-2)*9+1,MATCH($A$1,'PLAN LEKCJI'!$C$3:$V$3)+2,,,"PLAN LEKCJI")) -> 0
A9: =INDIRECT(ADDRESS(ROW()+1,2,,,"PLAN LEKCJI")) -> 6 | B9: =INDIRECT(ADDRESS(ROW()+(COLUMN()-2)*9+1,MATCH($A$1,'PLAN LEKCJI'!$C$3:$V$3)+2,,,"PLAN LEKCJI")) -> RELIGIA | C9: =INDIRECT(ADDRESS(ROW()+(COLUMN()-2)*9+1,MATCH($A$1,'PLAN LEKCJI'!$C$3:$V$3)+2,,,"PLAN LEKCJI")) -> zajęcia zint. | D9: =INDIRECT(ADDRESS(ROW()+(COLUMN()-2)*9+1,MATCH($A$1,'PLAN LEKCJI'!$C$3:$V$3)+2,,,"PLAN LEKCJI")) -> zajęcia zint. | E9: =INDIRECT(ADDRESS(ROW()+(COLUMN()-2)*9+1,MATCH($A$1,'PLAN LEKCJI'!$C$3:$V$3)+2,,,"PLAN LEKCJI")) -> muzyka | F9: =INDIRECT(ADDRESS(ROW()+(COLUMN()-2)*9+1,MATCH($A$1,'PLAN LEKCJI'!$C$3:$V$3)+2,,,"PLAN LEKCJI")) -> zajęcia zint.
A10: =INDIRECT(ADDRESS(ROW()+1,2,,,"PLAN LEKCJI")) -> 7 | B10: =INDIRECT(ADDRESS(ROW()+(COLUMN()-2)*9+1,MATCH($A$1,'PLAN LEKCJI'!$C$3:$V$3)+2,,,"PLAN LEKCJI")) -> zajęcia zint. | C10: =INDIRECT(ADDRESS(ROW()+(COLUMN()-2)*9+1,MATCH($A$1,'PLAN LEKCJI'!$C$3:$V$3)+2,,,"PLAN LEKCJI")) -> zajęcia zint. | D10: =INDIRECT(ADDRESS(ROW()+(COLUMN()-2)*9+1,MATCH($A$1,'PLAN LEKCJI'!$C$3:$V$3)+2,,,"PLAN LEKCJI")) -> zajęcia zint. | E10: =INDIRECT(ADDRESS(ROW()+(COLUMN()-2)*9+1,MATCH($A$1,'PLAN LEKCJI'!$C$3:$V$3)+2,,,"PLAN LEKCJI")) -> zajęcia zint. | F10: =INDIRECT(ADDRESS(ROW()+(COLUMN()-2)*9+1,MATCH($A$1,'PLAN LEKCJI'!$C$3:$V$3)+2,,,"PLAN LEKCJI")) -> basen
A11: =INDIRECT(ADDRESS(ROW()+1,2,,,"PLAN LEKCJI")) -> 8 | B11: =INDIRECT(ADDRESS(ROW()+(COLUMN()-2)*9+1,MATCH($A$1,'PLAN LEKCJI'!$C$3:$V$3)+2,,,"PLAN LEKCJI")) -> 0 | C11: =INDIRECT(ADDRESS(ROW()+(COLUMN()-2)*9+1,MATCH($A$1,'PLAN LEKCJI'!$C$3:$V$3)+2,,,"PLAN LEKCJI")) -> 0 | D11: =INDIRECT(ADDRESS(ROW()+(COLUMN()-2)*9+1,MATCH($A$1,'PLAN LEKCJI'!$C$3:$V$3)+2,,,"PLAN LEKCJI")) -> 0 | E11: =INDIRECT(ADDRESS(ROW()+(COLUMN()-2)*9+1,MATCH($A$1,'PLAN LEKCJI'!$C$3:$V$3)+2,,,"PLAN LEKCJI")) -> 0 | F11: =INDIRECT(ADDRESS(ROW()+(COLUMN()-2)*9+1,MATCH($A$1,'PLAN LEKCJI'!$C$3:$V$3)+2,,,"PLAN LEKCJI")) -> 0

Sheet 2c
A1: IIC | B1: ='PLAN LEKCJI'!$I$1 -> PLAN LEKCJI semestr I - rok szkolny 2026 / 2027
A3: Nr lekcji | B3: Poniedziałek | C3: Wtorek | D3: Środa | E3: Czwartek | F3: Piątek
A4: =INDIRECT(ADDRESS(ROW()+1,2,,,"PLAN LEKCJI")) -> 1 | B4: =INDIRECT(ADDRESS(ROW()+(COLUMN()-2)*9+1,MATCH($A$1,'PLAN LEKCJI'!$C$3:$V$3)+2,,,"PLAN LEKCJI")) -> zajęcia zint. | C4: =INDIRECT(ADDRESS(ROW()+(COLUMN()-2)*9+1,MATCH($A$1,'PLAN LEKCJI'!$C$3:$V$3)+2,,,"PLAN LEKCJI")) -> edukacja mat | D4: =INDIRECT(ADDRESS(ROW()+(COLUMN()-2)*9+1,MATCH($A$1,'PLAN LEKCJI'!$C$3:$V$3)+2,,,"PLAN LEKCJI")) -> wych. fizyczne | E4: =INDIRECT(ADDRESS(ROW()+(COLUMN()-2)*9+1,MATCH($A$1,'PLAN LEKCJI'!$C$3:$V$3)+2,,,"PLAN LEKCJI")) -> zajęcia zint. | F4: =INDIRECT(ADDRESS(ROW()+(COLUMN()-2)*9+1,MATCH($A$1,'PLAN LEKCJI'!$C$3:$V$3)+2,,,"PLAN LEKCJI")) -> zajęcia zint.
A5: =INDIRECT(ADDRESS(ROW()+1,2,,,"PLAN LEKCJI")) -> 2 | B5: =INDIRECT(ADDRESS(ROW()+(COLUMN()-2)*9+1,MATCH($A$1,'PLAN LEKCJI'!$C$3:$V$3)+2,,,"PLAN LEKCJI")) -> edukacja mat | C5: =INDIRECT(ADDRESS(ROW()+(COLUMN()-2)*9+1,MATCH($A$1,'PLAN LEKCJI'!$C$3:$V$3)+2,,,"PLAN LEKCJI")) -> wych. fizyczne | D5: =INDIRECT(ADDRESS(ROW()+(COLUMN()-2)*9+1,MATCH($A$1,'PLAN LEKCJI'!$C$3:$V$3)+2,,,"PLAN LEKCJI")) -> edukacja mat | E5: =INDIRECT(ADDRESS(ROW()+(COLUMN()-2)*9+1,MATCH($A$1,'PLAN LEKCJI'!$C$3:$V$3)+2,,,"PLAN LEKCJI")) -> edukacja mat | F5: =INDIRECT(ADDRESS(ROW()+(COLUMN()-2)*9+1,MATCH($A$1,'PLAN LEKCJI'!$C$3:$V$3)+2,,,"PLAN LEKCJI")) -> zajęcia zint.
A6: =INDIRECT(ADDRESS(ROW()+1,2,,,"PLAN LEKCJI")) -> 3 | B6: =INDIRECT(ADDRESS(ROW()+(COLUMN()-2)*9+1,MATCH($A$1,'PLAN LEKCJI'!$C$3:$V$3)+2,,,"PLAN LEKCJI")) -> zajęcia zint. | C6: =INDIRECT(ADDRESS(ROW()+(COLUMN()-2)*9+1,MATCH($A$1,'PLAN LEKCJI'!$C$3:$V$3)+2,,,"PLAN LEKCJI")) -> RELIGIA | D6: =INDIRECT(ADDRESS(ROW()+(COLUMN()-2)*9+1,MATCH($A$1,'PLAN LEKCJI'!$C$3:$V$3)+2,,,"PLAN LEKCJI")) -> TAŃCE | E6: =INDIRECT(ADDRESS(ROW()+(COLUMN()-2)*9+1,MATCH($A$1,'PLAN LEKCJI'!$C$3:$V$3)+2,,,"PLAN LEKCJI")) -> konwersacje | F6: =INDIRECT(ADDRESS(ROW()+(COLUMN()-2)*9+1,MATCH($A$1,'PLAN LEKCJI'!$C$3:$V$3)+2,,,"PLAN LEKCJI")) -> zajęcia zint.
A7: =INDIRECT(ADDRESS(ROW()+1,2,,,"PLAN LEKCJI")) -> 4 | B7: =INDIRECT(ADDRESS(ROW()+(COLUMN()-2)*9+1,MATCH($A$1,'PLAN LEKCJI'!$C$3:$V$3)+2,,,"PLAN LEKCJI")) -> zajęcia zint. | C7: =INDIRECT(ADDRESS(ROW()+(COLUMN()-2)*9+1,MATCH($A$1,'PLAN LEKCJI'!$C$3:$V$3)+2,,,"PLAN LEKCJI")) -> zajęcia zint. | D7: =INDIRECT(ADDRESS(ROW()+(COLUMN()-2)*9+1,MATCH($A$1,'PLAN LEKCJI'!$C$3:$V$3)+2,,,"PLAN LEKCJI")) -> zajęcia zint. | E7: =INDIRECT(ADDRESS(ROW()+(COLUMN()-2)*9+1,MATCH($A$1,'PLAN LEKCJI'!$C$3:$V$3)+2,,,"PLAN LEKCJI")) -> j.ang. / j.ang. | F7: =INDIRECT(ADDRESS(ROW()+(COLUMN()-2)*9+1,MATCH($A$1,'PLAN LEKCJI'!$C$3:$V$3)+2,,,"PLAN LEKCJI")) -> edukacja mat
A8: =INDIRECT(ADDRESS(ROW()+1,2,,,"PLAN LEKCJI")) -> 5 | B8: =INDIRECT(ADDRESS(ROW()+(COLUMN()-2)*9+1,MATCH($A$1,'PLAN LEKCJI'!$C$3:$V$3)+2,,,"PLAN LEKCJI")) -> rekreacja | C8: =INDIRECT(ADDRESS(ROW()+(COLUMN()-2)*9+1,MATCH($A$1,'PLAN LEKCJI'!$C$3:$V$3)+2,,,"PLAN LEKCJI")) -> rekreacja | D8: =INDIRECT(ADDRESS(ROW()+(COLUMN()-2)*9+1,MATCH($A$1,'PLAN LEKCJI'!$C$3:$V$3)+2,,,"PLAN LEKCJI")) -> 0 | E8: =INDIRECT(ADDRESS(ROW()+(COLUMN()-2)*9+1,MATCH($A$1,'PLAN LEKCJI'!$C$3:$V$3)+2,,,"PLAN LEKCJI")) -> rekreacja | F8: =INDIRECT(ADDRESS(ROW()+(COLUMN()-2)*9+1,MATCH($A$1,'PLAN LEKCJI'!$C$3:$V$3)+2,,,"PLAN LEKCJI")) -> rekreacja
A9: =INDIRECT(ADDRESS(ROW()+1,2,,,"PLAN LEKCJI")) -> 6 | B9: =INDIRECT(ADDRESS(ROW()+(COLUMN()-2)*9+1,MATCH($A$1,'PLAN LEKCJI'!$C$3:$V$3)+2,,,"PLAN LEKCJI")) -> wych. fizyczne | C9: =INDIRECT(ADDRESS(ROW()+(COLUMN()-2)*9+1,MATCH($A$1,'PLAN LEKCJI'!$C$3:$V$3)+2,,,"PLAN LEKCJI")) -> PLASTYKA 28 | D9: =INDIRECT(ADDRESS(ROW()+(COLUMN()-2)*9+1,MATCH($A$1,'PLAN LEKCJI'!$C$3:$V$3)+2,,,"PLAN LEKCJI")) -> j.ang. / j.ang. | E9: =INDIRECT(ADDRESS(ROW()+(COLUMN()-2)*9+1,MATCH($A$1,'PLAN LEKCJI'!$C$3:$V$3)+2,,,"PLAN LEKCJI")) -> zajęcia zint. | F9: =INDIRECT(ADDRESS(ROW()+(COLUMN()-2)*9+1,MATCH($A$1,'PLAN LEKCJI'!$C$3:$V$3)+2,,,"PLAN LEKCJI")) -> muzyka
A10: =INDIRECT(ADDRESS(ROW()+1,2,,,"PLAN LEKCJI")) -> 7 | B10: =INDIRECT(ADDRESS(ROW()+(COLUMN()-2)*9+1,MATCH($A$1,'PLAN LEKCJI'!$C$3:$V$3)+2,,,"PLAN LEKCJI")) -> j.ang. / j.ang. | C10: =INDIRECT(ADDRESS(ROW()+(COLUMN()-2)*9+1,MATCH($A$1,'PLAN LEKCJI'!$C$3:$V$3)+2,,,"PLAN LEKCJI")) -> zajęcia zint. | D10: =INDIRECT(ADDRESS(ROW()+(COLUMN()-2)*9+1,MATCH($A$1,'PLAN LEKCJI'!$C$3:$V$3)+2,,,"PLAN LEKCJI")) -> RELIGIA | E10: =INDIRECT(ADDRESS(ROW()+(COLUMN()-2)*9+1,MATCH($A$1,'PLAN LEKCJI'!$C$3:$V$3)+2,,,"PLAN LEKCJI")) -> informatyka | F10: =INDIRECT(ADDRESS(ROW()+(COLUMN()-2)*9+1,MATCH($A$1,'PLAN LEKCJI'!$C$3:$V$3)+2,,,"PLAN LEKCJI")) -> basen
A11: =INDIRECT(ADDRESS(ROW()+1,2,,,"PLAN LEKCJI")) -> 8 | B11: =INDIRECT(ADDRESS(ROW()+(COLUMN()-2)*9+1,MATCH($A$1,'PLAN LEKCJI'!$C$3:$V$3)+2,,,"PLAN LEKCJI")) -> 0 | C11: =INDIRECT(ADDRESS(ROW()+(COLUMN()-2)*9+1,MATCH($A$1,'PLAN LEKCJI'!$C$3:$V$3)+2,,,"PLAN LEKCJI")) -> 0 | D11: =INDIRECT(ADDRESS(ROW()+(COLUMN()-2)*9+1,MATCH($A$1,'PLAN LEKCJI'!$C$3:$V$3)+2,,,"PLAN LEKCJI")) -> 0 | E11: =INDIRECT(ADDRESS(ROW()+(COLUMN()-2)*9+1,MATCH($A$1,'PLAN LEKCJI'!$C$3:$V$3)+2,,,"PLAN LEKCJI")) -> 0 | F11: =INDIRECT(ADDRESS(ROW()+(COLUMN()-2)*9+1,MATCH($A$1,'PLAN LEKCJI'!$C$3:$V$3)+2,,,"PLAN LEKCJI")) -> 0

Sheet 3a
A1: IIIA | B1: ='PLAN LEKCJI'!$I$1 -> PLAN LEKCJI semestr I - rok szkolny 2026 / 2027
A3: Nr lekcji | B3: Poniedziałek | C3: Wtorek | D3: Środa | E3: Czwartek | F3: Piątek
A4: =INDIRECT(ADDRESS(ROW()+1,2,,,"PLAN LEKCJI")) -> 1 | B4: =INDIRECT(ADDRESS(ROW()+(COLUMN()-2)*9+1,MATCH($A$1,'PLAN LEKCJI'!$C$3:$V$3)+2,,,"PLAN LEKCJI")) -> zajęcia zint. | C4: =INDIRECT(ADDRESS(ROW()+(COLUMN()-2)*9+1,MATCH($A$1,'PLAN LEKCJI'!$C$3:$V$3)+2,,,"PLAN LEKCJI")) -> informatyka | D4: =INDIRECT(ADDRESS(ROW()+(COLUMN()-2)*9+1,MATCH($A$1,'PLAN LEKCJI'!$C$3:$V$3)+2,,,"PLAN LEKCJI")) -> zajęcia zint. | E4: =INDIRECT(ADDRESS(ROW()+(COLUMN()-2)*9+1,MATCH($A$1,'PLAN LEKCJI'!$C$3:$V$3)+2,,,"PLAN LEKCJI")) -> TAŃCE | F4: =INDIRECT(ADDRESS(ROW()+(COLUMN()-2)*9+1,MATCH($A$1,'PLAN LEKCJI'!$C$3:$V$3)+2,,,"PLAN LEKCJI")) -> wych. fizyczne
A5: =INDIRECT(ADDRESS(ROW()+1,2,,,"PLAN LEKCJI")) -> 2 | B5: =INDIRECT(ADDRESS(ROW()+(COLUMN()-2)*9+1,MATCH($A$1,'PLAN LEKCJI'!$C$3:$V$3)+2,,,"PLAN LEKCJI")) -> zajęcia zint. | C5: =INDIRECT(ADDRESS(ROW()+(COLUMN()-2)*9+1,MATCH($A$1,'PLAN LEKCJI'!$C$3:$V$3)+2,,,"PLAN LEKCJI")) -> zajęcia zint. | D5: =INDIRECT(ADDRESS(ROW()+(COLUMN()-2)*9+1,MATCH($A$1,'PLAN LEKCJI'!$C$3:$V$3)+2,,,"PLAN LEKCJI")) -> zajęcia zint. | E5: =INDIRECT(ADDRESS(ROW()+(COLUMN()-2)*9+1,MATCH($A$1,'PLAN LEKCJI'!$C$3:$V$3)+2,,,"PLAN LEKCJI")) -> zajęcia zint. | F5: =INDIRECT(ADDRESS(ROW()+(COLUMN()-2)*9+1,MATCH($A$1,'PLAN LEKCJI'!$C$3:$V$3)+2,,,"PLAN LEKCJI")) -> zajęcia zint.
A6: =INDIRECT(ADDRESS(ROW()+1,2,,,"PLAN LEKCJI")) -> 3 | B6: =INDIRECT(ADDRESS(ROW()+(COLUMN()-2)*9+1,MATCH($A$1,'PLAN LEKCJI'!$C$3:$V$3)+2,,,"PLAN LEKCJI")) -> j.ang. / j.ang. | C6: =INDIRECT(ADDRESS(ROW()+(COLUMN()-2)*9+1,MATCH($A$1,'PLAN LEKCJI'!$C$3:$V$3)+2,,,"PLAN LEKCJI")) -> zajęcia zint. | D6: =INDIRECT(ADDRESS(ROW()+(COLUMN()-2)*9+1,MATCH($A$1,'PLAN LEKCJI'!$C$3:$V$3)+2,,,"PLAN LEKCJI")) -> zajęcia zint. | E6: =INDIRECT(ADDRESS(ROW()+(COLUMN()-2)*9+1,MATCH($A$1,'PLAN LEKCJI'!$C$3:$V$3)+2,,,"PLAN LEKCJI")) -> zajęcia zint. | F6: =INDIRECT(ADDRESS(ROW()+(COLUMN()-2)*9+1,MATCH($A$1,'PLAN LEKCJI'!$C$3:$V$3)+2,,,"PLAN LEKCJI")) -> j.ang. / j.ang.
A7: =INDIRECT(ADDRESS(ROW()+1,2,,,"PLAN LEKCJI")) -> 4 | B7: =INDIRECT(ADDRESS(ROW()+(COLUMN()-2)*9+1,MATCH($A$1,'PLAN LEKCJI'!$C$3:$V$3)+2,,,"PLAN LEKCJI")) -> zajęcia zint. | C7: =INDIRECT(ADDRESS(ROW()+(COLUMN()-2)*9+1,MATCH($A$1,'PLAN LEKCJI'!$C$3:$V$3)+2,,,"PLAN LEKCJI")) -> zajęcia zint. | D7: =INDIRECT(ADDRESS(ROW()+(COLUMN()-2)*9+1,MATCH($A$1,'PLAN LEKCJI'!$C$3:$V$3)+2,,,"PLAN LEKCJI")) -> j.ang. / j.ang. | E7: =INDIRECT(ADDRESS(ROW()+(COLUMN()-2)*9+1,MATCH($A$1,'PLAN LEKCJI'!$C$3:$V$3)+2,,,"PLAN LEKCJI")) -> plastyka 28 | F7: =INDIRECT(ADDRESS(ROW()+(COLUMN()-2)*9+1,MATCH($A$1,'PLAN LEKCJI'!$C$3:$V$3)+2,,,"PLAN LEKCJI")) -> zajęcia zint.
A8: =INDIRECT(ADDRESS(ROW()+1,2,,,"PLAN LEKCJI")) -> 5 | B8: =INDIRECT(ADDRESS(ROW()+(COLUMN()-2)*9+1,MATCH($A$1,'PLAN LEKCJI'!$C$3:$V$3)+2,,,"PLAN LEKCJI")) -> 0 | C8: =INDIRECT(ADDRESS(ROW()+(COLUMN()-2)*9+1,MATCH($A$1,'PLAN LEKCJI'!$C$3:$V$3)+2,,,"PLAN LEKCJI")) -> 0 | D8: =INDIRECT(ADDRESS(ROW()+(COLUMN()-2)*9+1,MATCH($A$1,'PLAN LEKCJI'!$C$3:$V$3)+2,,,"PLAN LEKCJI")) -> 0 | E8: =INDIRECT(ADDRESS(ROW()+(COLUMN()-2)*9+1,MATCH($A$1,'PLAN LEKCJI'!$C$3:$V$3)+2,,,"PLAN LEKCJI")) -> 0 | F8: =INDIRECT(ADDRESS(ROW()+(COLUMN()-2)*9+1,MATCH($A$1,'PLAN LEKCJI'!$C$3:$V$3)+2,,,"PLAN LEKCJI")) -> 0
A9: =INDIRECT(ADDRESS(ROW()+1,2,,,"PLAN LEKCJI")) -> 6 | B9: =INDIRECT(ADDRESS(ROW()+(COLUMN()-2)*9+1,MATCH($A$1,'PLAN LEKCJI'!$C$3:$V$3)+2,,,"PLAN LEKCJI")) -> wych. fizyczne | C9: =INDIRECT(ADDRESS(ROW()+(COLUMN()-2)*9+1,MATCH($A$1,'PLAN LEKCJI'!$C$3:$V$3)+2,,,"PLAN LEKCJI")) -> wych. fizyczne | D9: =INDIRECT(ADDRESS(ROW()+(COLUMN()-2)*9+1,MATCH($A$1,'PLAN LEKCJI'!$C$3:$V$3)+2,,,"PLAN LEKCJI")) -> religia | E9: =INDIRECT(ADDRESS(ROW()+(COLUMN()-2)*9+1,MATCH($A$1,'PLAN LEKCJI'!$C$3:$V$3)+2,,,"PLAN LEKCJI")) -> religia | F9: =INDIRECT(ADDRESS(ROW()+(COLUMN()-2)*9+1,MATCH($A$1,'PLAN LEKCJI'!$C$3:$V$3)+2,,,"PLAN LEKCJI")) -> zajęcia zint.
A10: =INDIRECT(ADDRESS(ROW()+1,2,,,"PLAN LEKCJI")) -> 7 | B10: =INDIRECT(ADDRESS(ROW()+(COLUMN()-2)*9+1,MATCH($A$1,'PLAN LEKCJI'!$C$3:$V$3)+2,,,"PLAN LEKCJI")) -> religia | C10: =INDIRECT(ADDRESS(ROW()+(COLUMN()-2)*9+1,MATCH($A$1,'PLAN LEKCJI'!$C$3:$V$3)+2,,,"PLAN LEKCJI")) -> zajęcia zint. | D10: =INDIRECT(ADDRESS(ROW()+(COLUMN()-2)*9+1,MATCH($A$1,'PLAN LEKCJI'!$C$3:$V$3)+2,,,"PLAN LEKCJI")) -> muzyka | E10: =INDIRECT(ADDRESS(ROW()+(COLUMN()-2)*9+1,MATCH($A$1,'PLAN LEKCJI'!$C$3:$V$3)+2,,,"PLAN LEKCJI")) -> j.ang. / j.ang. | F10: =INDIRECT(ADDRESS(ROW()+(COLUMN()-2)*9+1,MATCH($A$1,'PLAN LEKCJI'!$C$3:$V$3)+2,,,"PLAN LEKCJI")) -> basen
A11: =INDIRECT(ADDRESS(ROW()+1,2,,,"PLAN LEKCJI")) -> 8 | B11: =INDIRECT(ADDRESS(ROW()+(COLUMN()-2)*9+1,MATCH($A$1,'PLAN LEKCJI'!$C$3:$V$3)+2,,,"PLAN LEKCJI")) -> 0 | C11: =INDIRECT(ADDRESS(ROW()+(COLUMN()-2)*9+1,MATCH($A$1,'PLAN LEKCJI'!$C$3:$V$3)+2,,,"PLAN LEKCJI")) -> 0 | D11: =INDIRECT(ADDRESS(ROW()+(COLUMN()-2)*9+1,MATCH($A$1,'PLAN LEKCJI'!$C$3:$V$3)+2,,,"PLAN LEKCJI")) -> 0 | E11: =INDIRECT(ADDRESS(ROW()+(COLUMN()-2)*9+1,MATCH($A$1,'PLAN LEKCJI'!$C$3:$V$3)+2,,,"PLAN LEKCJI")) -> 0 | F11: =INDIRECT(ADDRESS(ROW()+(COLUMN()-2)*9+1,MATCH($A$1,'PLAN LEKCJI'!$C$3:$V$3)+2,,,"PLAN LEKCJI")) -> 0

Sheet 3b
A1: IIIB | B1: ='PLAN LEKCJI'!$I$1 -> PLAN LEKCJI semestr I - rok szkolny 2026 / 2027
A3: Nr lekcji | B3: Poniedziałek | C3: Wtorek | D3: Środa | E3: Czwartek | F3: Piątek
A4: =INDIRECT(ADDRESS(ROW()+1,2,,,"PLAN LEKCJI")) -> 1 | B4: =INDIRECT(ADDRESS(ROW()+(COLUMN()-2)*9+1,MATCH($A$1,'PLAN LEKCJI'!$C$3:$V$3)+2,,,"PLAN LEKCJI")) -> wych. fizyczne | C4: =INDIRECT(ADDRESS(ROW()+(COLUMN()-2)*9+1,MATCH($A$1,'PLAN LEKCJI'!$C$3:$V$3)+2,,,"PLAN LEKCJI")) -> religia | D4: =INDIRECT(ADDRESS(ROW()+(COLUMN()-2)*9+1,MATCH($A$1,'PLAN LEKCJI'!$C$3:$V$3)+2,,,"PLAN LEKCJI")) -> PLASTYKA 28 | E4: =INDIRECT(ADDRESS(ROW()+(COLUMN()-2)*9+1,MATCH($A$1,'PLAN LEKCJI'!$C$3:$V$3)+2,,,"PLAN LEKCJI")) -> j.ang. / j.ang. | F4: =INDIRECT(ADDRESS(ROW()+(COLUMN()-2)*9+1,MATCH($A$1,'PLAN LEKCJI'!$C$3:$V$3)+2,,,"PLAN LEKCJI")) -> informat. / j.ang.
A5: =INDIRECT(ADDRESS(ROW()+1,2,,,"PLAN LEKCJI")) -> 2 | B5: =INDIRECT(ADDRESS(ROW()+(COLUMN()-2)*9+1,MATCH($A$1,'PLAN LEKCJI'!$C$3:$V$3)+2,,,"PLAN LEKCJI")) -> zajęcia zint. | C5: =INDIRECT(ADDRESS(ROW()+(COLUMN()-2)*9+1,MATCH($A$1,'PLAN LEKCJI'!$C$3:$V$3)+2,,,"PLAN LEKCJI")) -> zajęcia zint. | D5: =INDIRECT(ADDRESS(ROW()+(COLUMN()-2)*9+1,MATCH($A$1,'PLAN LEKCJI'!$C$3:$V$3)+2,,,"PLAN LEKCJI")) -> zajęcia zint. | E5: =INDIRECT(ADDRESS(ROW()+(COLUMN()-2)*9+1,MATCH($A$1,'PLAN LEKCJI'!$C$3:$V$3)+2,,,"PLAN LEKCJI")) -> TAŃCE | F5: =INDIRECT(ADDRESS(ROW()+(COLUMN()-2)*9+1,MATCH($A$1,'PLAN LEKCJI'!$C$3:$V$3)+2,,,"PLAN LEKCJI")) -> informat. / j.ang.
A6: =INDIRECT(ADDRESS(ROW()+1,2,,,"PLAN LEKCJI")) -> 3 | B6: =INDIRECT(ADDRESS(ROW()+(COLUMN()-2)*9+1,MATCH($A$1,'PLAN LEKCJI'!$C$3:$V$3)+2,,,"PLAN LEKCJI")) -> religia | C6: =INDIRECT(ADDRESS(ROW()+(COLUMN()-2)*9+1,MATCH($A$1,'PLAN LEKCJI'!$C$3:$V$3)+2,,,"PLAN LEKCJI")) -> zajęcia zint. | D6: =INDIRECT(ADDRESS(ROW()+(COLUMN()-2)*9+1,MATCH($A$1,'PLAN LEKCJI'!$C$3:$V$3)+2,,,"PLAN LEKCJI")) -> zajęcia zint. | E6: =INDIRECT(ADDRESS(ROW()+(COLUMN()-2)*9+1,MATCH($A$1,'PLAN LEKCJI'!$C$3:$V$3)+2,,,"PLAN LEKCJI")) -> zajęcia zint. | F6: =INDIRECT(ADDRESS(ROW()+(COLUMN()-2)*9+1,MATCH($A$1,'PLAN LEKCJI'!$C$3:$V$3)+2,,,"PLAN LEKCJI")) -> zajęcia zint.
A7: =INDIRECT(ADDRESS(ROW()+1,2,,,"PLAN LEKCJI")) -> 4 | B7: =INDIRECT(ADDRESS(ROW()+(COLUMN()-2)*9+1,MATCH($A$1,'PLAN LEKCJI'!$C$3:$V$3)+2,,,"PLAN LEKCJI")) -> zajęcia zint. | C7: =INDIRECT(ADDRESS(ROW()+(COLUMN()-2)*9+1,MATCH($A$1,'PLAN LEKCJI'!$C$3:$V$3)+2,,,"PLAN LEKCJI")) -> zajęcia zint. | D7: =INDIRECT(ADDRESS(ROW()+(COLUMN()-2)*9+1,MATCH($A$1,'PLAN LEKCJI'!$C$3:$V$3)+2,,,"PLAN LEKCJI")) -> zajęcia zint. | E7: =INDIRECT(ADDRESS(ROW()+(COLUMN()-2)*9+1,MATCH($A$1,'PLAN LEKCJI'!$C$3:$V$3)+2,,,"PLAN LEKCJI")) -> zajęcia zint. | F7: =INDIRECT(ADDRESS(ROW()+(COLUMN()-2)*9+1,MATCH($A$1,'PLAN LEKCJI'!$C$3:$V$3)+2,,,"PLAN LEKCJI")) -> zajęcia zint.
A8: =INDIRECT(ADDRESS(ROW()+1,2,,,"PLAN LEKCJI")) -> 5 | B8: =INDIRECT(ADDRESS(ROW()+(COLUMN()-2)*9+1,MATCH($A$1,'PLAN LEKCJI'!$C$3:$V$3)+2,,,"PLAN LEKCJI")) -> 0 | C8: =INDIRECT(ADDRESS(ROW()+(COLUMN()-2)*9+1,MATCH($A$1,'PLAN LEKCJI'!$C$3:$V$3)+2,,,"PLAN LEKCJI")) -> 0 | D8: =INDIRECT(ADDRESS(ROW()+(COLUMN()-2)*9+1,MATCH($A$1,'PLAN LEKCJI'!$C$3:$V$3)+2,,,"PLAN LEKCJI")) -> 0 | E8: =INDIRECT(ADDRESS(ROW()+(COLUMN()-2)*9+1,MATCH($A$1,'PLAN LEKCJI'!$C$3:$V$3)+2,,,"PLAN LEKCJI")) -> 0 | F8: =INDIRECT(ADDRESS(ROW()+(COLUMN()-2)*9+1,MATCH($A$1,'PLAN LEKCJI'!$C$3:$V$3)+2,,,"PLAN LEKCJI")) -> 0
A9: =INDIRECT(ADDRESS(ROW()+1,2,,,"PLAN LEKCJI")) -> 6 | B9: =INDIRECT(ADDRESS(ROW()+(COLUMN()-2)*9+1,MATCH($A$1,'PLAN LEKCJI'!$C$3:$V$3)+2,,,"PLAN LEKCJI")) -> zajęcia zint. | C9: =INDIRECT(ADDRESS(ROW()+(COLUMN()-2)*9+1,MATCH($A$1,'PLAN LEKCJI'!$C$3:$V$3)+2,,,"PLAN LEKCJI")) -> j.ang. / j.ang. | D9: =INDIRECT(ADDRESS(ROW()+(COLUMN()-2)*9+1,MATCH($A$1,'PLAN LEKCJI'!$C$3:$V$3)+2,,,"PLAN LEKCJI")) -> muzyka | E9: =INDIRECT(ADDRESS(ROW()+(COLUMN()-2)*9+1,MATCH($A$1,'PLAN LEKCJI'!$C$3:$V$3)+2,,,"PLAN LEKCJI")) -> zajęcia zint. | F9: =INDIRECT(ADDRESS(ROW()+(COLUMN()-2)*9+1,MATCH($A$1,'PLAN LEKCJI'!$C$3:$V$3)+2,,,"PLAN LEKCJI")) -> zajęcia zint.
A10: =INDIRECT(ADDRESS(ROW()+1,2,,,"PLAN LEKCJI")) -> 7 | B10: =INDIRECT(ADDRESS(ROW()+(COLUMN()-2)*9+1,MATCH($A$1,'PLAN LEKCJI'!$C$3:$V$3)+2,,,"PLAN LEKCJI")) -> j.ang. / j.ang. | C10: =INDIRECT(ADDRESS(ROW()+(COLUMN()-2)*9+1,MATCH($A$1,'PLAN LEKCJI'!$C$3:$V$3)+2,,,"PLAN LEKCJI")) -> wych. fizyczne | D10: =INDIRECT(ADDRESS(ROW()+(COLUMN()-2)*9+1,MATCH($A$1,'PLAN LEKCJI'!$C$3:$V$3)+2,,,"PLAN LEKCJI")) -> wych. fizyczne | E10: =INDIRECT(ADDRESS(ROW()+(COLUMN()-2)*9+1,MATCH($A$1,'PLAN LEKCJI'!$C$3:$V$3)+2,,,"PLAN LEKCJI")) -> religia | F10: =INDIRECT(ADDRESS(ROW()+(COLUMN()-2)*9+1,MATCH($A$1,'PLAN LEKCJI'!$C$3:$V$3)+2,,,"PLAN LEKCJI")) -> basen
A11: =INDIRECT(ADDRESS(ROW()+1,2,,,"PLAN LEKCJI")) -> 8 | B11: =INDIRECT(ADDRESS(ROW()+(COLUMN()-2)*9+1,MATCH($A$1,'PLAN LEKCJI'!$C$3:$V$3)+2,,,"PLAN LEKCJI")) -> 0 | C11: =INDIRECT(ADDRESS(ROW()+(COLUMN()-2)*9+1,MATCH($A$1,'PLAN LEKCJI'!$C$3:$V$3)+2,,,"PLAN LEKCJI")) -> 0 | D11: =INDIRECT(ADDRESS(ROW()+(COLUMN()-2)*9+1,MATCH($A$1,'PLAN LEKCJI'!$C$3:$V$3)+2,,,"PLAN LEKCJI")) -> 0 | E11: =INDIRECT(ADDRESS(ROW()+(COLUMN()-2)*9+1,MATCH($A$1,'PLAN LEKCJI'!$C$3:$V$3)+2,,,"PLAN LEKCJI")) -> 0 | F11: =INDIRECT(ADDRESS(ROW()+(COLUMN()-2)*9+1,MATCH($A$1,'PLAN LEKCJI'!$C$3:$V$3)+2,,,"PLAN LEKCJI")) -> 0

Sheet 3c
A1: IIIC | B1: ='PLAN LEKCJI'!$I$1 -> PLAN LEKCJI semestr I - rok szkolny 2026 / 2027
A3: Nr lekcji | B3: Poniedziałek | C3: Wtorek | D3: Środa | E3: Czwartek | F3: Piątek
A4: =INDIRECT(ADDRESS(ROW()+1,2,,,"PLAN LEKCJI")) -> 1 | B4: =INDIRECT(ADDRESS(ROW()+(COLUMN()-2)*9+1,MATCH($A$1,'PLAN LEKCJI'!$C$3:$V$3)+2,,,"PLAN LEKCJI")) -> zajęcia zint. | C4: =INDIRECT(ADDRESS(ROW()+(COLUMN()-2)*9+1,MATCH($A$1,'PLAN LEKCJI'!$C$3:$V$3)+2,,,"PLAN LEKCJI")) -> zajęcia zint. | D4: =INDIRECT(ADDRESS(ROW()+(COLUMN()-2)*9+1,MATCH($A$1,'PLAN LEKCJI'!$C$3:$V$3)+2,,,"PLAN LEKCJI")) -> zajęcia zint. | E4: =INDIRECT(ADDRESS(ROW()+(COLUMN()-2)*9+1,MATCH($A$1,'PLAN LEKCJI'!$C$3:$V$3)+2,,,"PLAN LEKCJI")) -> zajęcia zint. | F4: =INDIRECT(ADDRESS(ROW()+(COLUMN()-2)*9+1,MATCH($A$1,'PLAN LEKCJI'!$C$3:$V$3)+2,,,"PLAN LEKCJI")) -> zajęcia zint.
A5: =INDIRECT(ADDRESS(ROW()+1,2,,,"PLAN LEKCJI")) -> 2 | B5: =INDIRECT(ADDRESS(ROW()+(COLUMN()-2)*9+1,MATCH($A$1,'PLAN LEKCJI'!$C$3:$V$3)+2,,,"PLAN LEKCJI")) -> zajęcia zint. | C5: =INDIRECT(ADDRESS(ROW()+(COLUMN()-2)*9+1,MATCH($A$1,'PLAN LEKCJI'!$C$3:$V$3)+2,,,"PLAN LEKCJI")) -> j.ang. / j.ang. | D5: =INDIRECT(ADDRESS(ROW()+(COLUMN()-2)*9+1,MATCH($A$1,'PLAN LEKCJI'!$C$3:$V$3)+2,,,"PLAN LEKCJI")) -> zajęcia zint. | E5: =INDIRECT(ADDRESS(ROW()+(COLUMN()-2)*9+1,MATCH($A$1,'PLAN LEKCJI'!$C$3:$V$3)+2,,,"PLAN LEKCJI")) -> j.ang. / j.ang. | F5: =INDIRECT(ADDRESS(ROW()+(COLUMN()-2)*9+1,MATCH($A$1,'PLAN LEKCJI'!$C$3:$V$3)+2,,,"PLAN LEKCJI")) -> zajęcia zint.
A6: =INDIRECT(ADDRESS(ROW()+1,2,,,"PLAN LEKCJI")) -> 3 | B6: =INDIRECT(ADDRESS(ROW()+(COLUMN()-2)*9+1,MATCH($A$1,'PLAN LEKCJI'!$C$3:$V$3)+2,,,"PLAN LEKCJI")) -> zajęcia zint. | C6: =INDIRECT(ADDRESS(ROW()+(COLUMN()-2)*9+1,MATCH($A$1,'PLAN LEKCJI'!$C$3:$V$3)+2,,,"PLAN LEKCJI")) -> PLASTYKA 28 | D6: =INDIRECT(ADDRESS(ROW()+(COLUMN()-2)*9+1,MATCH($A$1,'PLAN LEKCJI'!$C$3:$V$3)+2,,,"PLAN LEKCJI")) -> religia | E6: =INDIRECT(ADDRESS(ROW()+(COLUMN()-2)*9+1,MATCH($A$1,'PLAN LEKCJI'!$C$3:$V$3)+2,,,"PLAN LEKCJI")) -> informat./ z.zint. | F6: =INDIRECT(ADDRESS(ROW()+(COLUMN()-2)*9+1,MATCH($A$1,'PLAN LEKCJI'!$C$3:$V$3)+2,,,"PLAN LEKCJI")) -> religia
A7: =INDIRECT(ADDRESS(ROW()+1,2,,,"PLAN LEKCJI")) -> 4 | B7: =INDIRECT(ADDRESS(ROW()+(COLUMN()-2)*9+1,MATCH($A$1,'PLAN LEKCJI'!$C$3:$V$3)+2,,,"PLAN LEKCJI")) -> wych. fizyczne | C7: =INDIRECT(ADDRESS(ROW()+(COLUMN()-2)*9+1,MATCH($A$1,'PLAN LEKCJI'!$C$3:$V$3)+2,,,"PLAN LEKCJI")) -> zajęcia zint. | D7: =INDIRECT(ADDRESS(ROW()+(COLUMN()-2)*9+1,MATCH($A$1,'PLAN LEKCJI'!$C$3:$V$3)+2,,,"PLAN LEKCJI")) -> zajęcia zint. | E7: =INDIRECT(ADDRESS(ROW()+(COLUMN()-2)*9+1,MATCH($A$1,'PLAN LEKCJI'!$C$3:$V$3)+2,,,"PLAN LEKCJI")) -> informat./ z.zint. | F7: =INDIRECT(ADDRESS(ROW()+(COLUMN()-2)*9+1,MATCH($A$1,'PLAN LEKCJI'!$C$3:$V$3)+2,,,"PLAN LEKCJI")) -> zajęcia zint.
A8: =INDIRECT(ADDRESS(ROW()+1,2,,,"PLAN LEKCJI")) -> 5 | B8: =INDIRECT(ADDRESS(ROW()+(COLUMN()-2)*9+1,MATCH($A$1,'PLAN LEKCJI'!$C$3:$V$3)+2,,,"PLAN LEKCJI")) -> 0 | C8: =INDIRECT(ADDRESS(ROW()+(COLUMN()-2)*9+1,MATCH($A$1,'PLAN LEKCJI'!$C$3:$V$3)+2,,,"PLAN LEKCJI")) -> 0 | D8: =INDIRECT(ADDRESS(ROW()+(COLUMN()-2)*9+1,MATCH($A$1,'PLAN LEKCJI'!$C$3:$V$3)+2,,,"PLAN LEKCJI")) -> 0 | E8: =INDIRECT(ADDRESS(ROW()+(COLUMN()-2)*9+1,MATCH($A$1,'PLAN LEKCJI'!$C$3:$V$3)+2,,,"PLAN LEKCJI")) -> 0 | F8: =INDIRECT(ADDRESS(ROW()+(COLUMN()-2)*9+1,MATCH($A$1,'PLAN LEKCJI'!$C$3:$V$3)+2,,,"PLAN LEKCJI")) -> 0
A9: =INDIRECT(ADDRESS(ROW()+1,2,,,"PLAN LEKCJI")) -> 6 | B9: =INDIRECT(ADDRESS(ROW()+(COLUMN()-2)*9+1,MATCH($A$1,'PLAN LEKCJI'!$C$3:$V$3)+2,,,"PLAN LEKCJI")) -> j.ang. / j.ang. | C9: =INDIRECT(ADDRESS(ROW()+(COLUMN()-2)*9+1,MATCH($A$1,'PLAN LEKCJI'!$C$3:$V$3)+2,,,"PLAN LEKCJI")) -> wych. fizyczne | D9: =INDIRECT(ADDRESS(ROW()+(COLUMN()-2)*9+1,MATCH($A$1,'PLAN LEKCJI'!$C$3:$V$3)+2,,,"PLAN LEKCJI")) -> zajęcia zint. | E9: =INDIRECT(ADDRESS(ROW()+(COLUMN()-2)*9+1,MATCH($A$1,'PLAN LEKCJI'!$C$3:$V$3)+2,,,"PLAN LEKCJI")) -> muzyka | F9: =INDIRECT(ADDRESS(ROW()+(COLUMN()-2)*9+1,MATCH($A$1,'PLAN LEKCJI'!$C$3:$V$3)+2,,,"PLAN LEKCJI")) -> j.ang. / j.ang.
A10: =INDIRECT(ADDRESS(ROW()+1,2,,,"PLAN LEKCJI")) -> 7 | B10: =INDIRECT(ADDRESS(ROW()+(COLUMN()-2)*9+1,MATCH($A$1,'PLAN LEKCJI'!$C$3:$V$3)+2,,,"PLAN LEKCJI")) -> zajęcia zint. | C10: =INDIRECT(ADDRESS(ROW()+(COLUMN()-2)*9+1,MATCH($A$1,'PLAN LEKCJI'!$C$3:$V$3)+2,,,"PLAN LEKCJI")) -> religia | D10: =INDIRECT(ADDRESS(ROW()+(COLUMN()-2)*9+1,MATCH($A$1,'PLAN LEKCJI'!$C$3:$V$3)+2,,,"PLAN LEKCJI")) -> TAŃCE | E10: =INDIRECT(ADDRESS(ROW()+(COLUMN()-2)*9+1,MATCH($A$1,'PLAN LEKCJI'!$C$3:$V$3)+2,,,"PLAN LEKCJI")) -> wych. fizyczne | F10: =INDIRECT(ADDRESS(ROW()+(COLUMN()-2)*9+1,MATCH($A$1,'PLAN LEKCJI'!$C$3:$V$3)+2,,,"PLAN LEKCJI")) -> basen
A11: =INDIRECT(ADDRESS(ROW()+1,2,,,"PLAN LEKCJI")) -> 8 | B11: =INDIRECT(ADDRESS(ROW()+(COLUMN()-2)*9+1,MATCH($A$1,'PLAN LEKCJI'!$C$3:$V$3)+2,,,"PLAN LEKCJI")) -> 0 | C11: =INDIRECT(ADDRESS(ROW()+(COLUMN()-2)*9+1,MATCH($A$1,'PLAN LEKCJI'!$C$3:$V$3)+2,,,"PLAN LEKCJI")) -> 0 | D11: =INDIRECT(ADDRESS(ROW()+(COLUMN()-2)*9+1,MATCH($A$1,'PLAN LEKCJI'!$C$3:$V$3)+2,,,"PLAN LEKCJI")) -> 0 | E11: =INDIRECT(ADDRESS(ROW()+(COLUMN()-2)*9+1,MATCH($A$1,'PLAN LEKCJI'!$C$3:$V$3)+2,,,"PLAN LEKCJI")) -> 0 | F11: =INDIRECT(ADDRESS(ROW()+(COLUMN()-2)*9+1,MATCH($A$1,'PLAN LEKCJI'!$C$3:$V$3)+2,,,"PLAN LEKCJI")) -> 0

Sheet 4a
A1: IVA | B1: ='PLAN LEKCJI'!$I$1 -> PLAN LEKCJI semestr I - rok szkolny 2026 / 2027
A3: Nr lekcji | B3: Poniedziałek | C3: Wtorek | D3: Środa | E3: Czwartek | F3: Piątek
A4: =INDIRECT(ADDRESS(ROW()+1,2,,,"PLAN LEKCJI")) -> 1 | B4: =INDIRECT(ADDRESS(ROW()+(COLUMN()-2)*9+1,MATCH($A$1,'PLAN LEKCJI'!$C$3:$V$3)+2,,,"PLAN LEKCJI")) -> TAŃCE | C4: =INDIRECT(ADDRESS(ROW()+(COLUMN()-2)*9+1,MATCH($A$1,'PLAN LEKCJI'!$C$3:$V$3)+2,,,"PLAN LEKCJI")) -> wych. fizyczne | D4: =INDIRECT(ADDRESS(ROW()+(COLUMN()-2)*9+1,MATCH($A$1,'PLAN LEKCJI'!$C$3:$V$3)+2,,,"PLAN LEKCJI")) -> 26 j.fran./ j.niem. 36 | E4: =INDIRECT(ADDRESS(ROW()+(COLUMN()-2)*9+1,MATCH($A$1,'PLAN LEKCJI'!$C$3:$V$3)+2,,,"PLAN LEKCJI")) -> j. polski | F4: =INDIRECT(ADDRESS(ROW()+(COLUMN()-2)*9+1,MATCH($A$1,'PLAN LEKCJI'!$C$3:$V$3)+2,,,"PLAN LEKCJI")) -> GW
A5: =INDIRECT(ADDRESS(ROW()+1,2,,,"PLAN LEKCJI")) -> 2 | B5: =INDIRECT(ADDRESS(ROW()+(COLUMN()-2)*9+1,MATCH($A$1,'PLAN LEKCJI'!$C$3:$V$3)+2,,,"PLAN LEKCJI")) -> 27 j.ang. / j.ang. 29 | C5: =INDIRECT(ADDRESS(ROW()+(COLUMN()-2)*9+1,MATCH($A$1,'PLAN LEKCJI'!$C$3:$V$3)+2,,,"PLAN LEKCJI")) -> 26 j.fran./ j.niem. 36 | D5: =INDIRECT(ADDRESS(ROW()+(COLUMN()-2)*9+1,MATCH($A$1,'PLAN LEKCJI'!$C$3:$V$3)+2,,,"PLAN LEKCJI")) -> TECHNIKA 28 | E5: =INDIRECT(ADDRESS(ROW()+(COLUMN()-2)*9+1,MATCH($A$1,'PLAN LEKCJI'!$C$3:$V$3)+2,,,"PLAN LEKCJI")) -> j. polski | F5: =INDIRECT(ADDRESS(ROW()+(COLUMN()-2)*9+1,MATCH($A$1,'PLAN LEKCJI'!$C$3:$V$3)+2,,,"PLAN LEKCJI")) -> j. polski
A6: =INDIRECT(ADDRESS(ROW()+1,2,,,"PLAN LEKCJI")) -> 3 | B6: =INDIRECT(ADDRESS(ROW()+(COLUMN()-2)*9+1,MATCH($A$1,'PLAN LEKCJI'!$C$3:$V$3)+2,,,"PLAN LEKCJI")) -> j. polski | C6: =INDIRECT(ADDRESS(ROW()+(COLUMN()-2)*9+1,MATCH($A$1,'PLAN LEKCJI'!$C$3:$V$3)+2,,,"PLAN LEKCJI")) -> matematyka | D6: =INDIRECT(ADDRESS(ROW()+(COLUMN()-2)*9+1,MATCH($A$1,'PLAN LEKCJI'!$C$3:$V$3)+2,,,"PLAN LEKCJI")) -> TECHNIKA 28 | E6: =INDIRECT(ADDRESS(ROW()+(COLUMN()-2)*9+1,MATCH($A$1,'PLAN LEKCJI'!$C$3:$V$3)+2,,,"PLAN LEKCJI")) -> matematyka | F6: =INDIRECT(ADDRESS(ROW()+(COLUMN()-2)*9+1,MATCH($A$1,'PLAN LEKCJI'!$C$3:$V$3)+2,,,"PLAN LEKCJI")) -> wych. fizyczne
A7: =INDIRECT(ADDRESS(ROW()+1,2,,,"PLAN LEKCJI")) -> 4 | B7: =INDIRECT(ADDRESS(ROW()+(COLUMN()-2)*9+1,MATCH($A$1,'PLAN LEKCJI'!$C$3:$V$3)+2,,,"PLAN LEKCJI")) -> j. polski | C7: =INDIRECT(ADDRESS(ROW()+(COLUMN()-2)*9+1,MATCH($A$1,'PLAN LEKCJI'!$C$3:$V$3)+2,,,"PLAN LEKCJI")) -> informatyka / j.ang. | D7: =INDIRECT(ADDRESS(ROW()+(COLUMN()-2)*9+1,MATCH($A$1,'PLAN LEKCJI'!$C$3:$V$3)+2,,,"PLAN LEKCJI")) -> j. polski | E7: =INDIRECT(ADDRESS(ROW()+(COLUMN()-2)*9+1,MATCH($A$1,'PLAN LEKCJI'!$C$3:$V$3)+2,,,"PLAN LEKCJI")) -> wych. fizyczne | F7: =INDIRECT(ADDRESS(ROW()+(COLUMN()-2)*9+1,MATCH($A$1,'PLAN LEKCJI'!$C$3:$V$3)+2,,,"PLAN LEKCJI")) -> religia
A8: =INDIRECT(ADDRESS(ROW()+1,2,,,"PLAN LEKCJI")) -> 5 | B8: =INDIRECT(ADDRESS(ROW()+(COLUMN()-2)*9+1,MATCH($A$1,'PLAN LEKCJI'!$C$3:$V$3)+2,,,"PLAN LEKCJI")) -> PRZYRODA 32 | C8: =INDIRECT(ADDRESS(ROW()+(COLUMN()-2)*9+1,MATCH($A$1,'PLAN LEKCJI'!$C$3:$V$3)+2,,,"PLAN LEKCJI")) -> informatyka / j.ang. | D8: =INDIRECT(ADDRESS(ROW()+(COLUMN()-2)*9+1,MATCH($A$1,'PLAN LEKCJI'!$C$3:$V$3)+2,,,"PLAN LEKCJI")) -> matematyka | E8: =INDIRECT(ADDRESS(ROW()+(COLUMN()-2)*9+1,MATCH($A$1,'PLAN LEKCJI'!$C$3:$V$3)+2,,,"PLAN LEKCJI")) -> 26 j.fran./ j.niem. 36 | F8: =INDIRECT(ADDRESS(ROW()+(COLUMN()-2)*9+1,MATCH($A$1,'PLAN LEKCJI'!$C$3:$V$3)+2,,,"PLAN LEKCJI")) -> 27 j.ang. / j.ang. 29
A9: =INDIRECT(ADDRESS(ROW()+1,2,,,"PLAN LEKCJI")) -> 6 | B9: =INDIRECT(ADDRESS(ROW()+(COLUMN()-2)*9+1,MATCH($A$1,'PLAN LEKCJI'!$C$3:$V$3)+2,,,"PLAN LEKCJI")) -> PRZYRODA 32 | C9: =INDIRECT(ADDRESS(ROW()+(COLUMN()-2)*9+1,MATCH($A$1,'PLAN LEKCJI'!$C$3:$V$3)+2,,,"PLAN LEKCJI")) -> muzyka | D9: =INDIRECT(ADDRESS(ROW()+(COLUMN()-2)*9+1,MATCH($A$1,'PLAN LEKCJI'!$C$3:$V$3)+2,,,"PLAN LEKCJI")) -> PRZYRODA 32 | E9: =INDIRECT(ADDRESS(ROW()+(COLUMN()-2)*9+1,MATCH($A$1,'PLAN LEKCJI'!$C$3:$V$3)+2,,,"PLAN LEKCJI")) -> 27 j.ang. / j.ang. 29 | F9: =INDIRECT(ADDRESS(ROW()+(COLUMN()-2)*9+1,MATCH($A$1,'PLAN LEKCJI'!$C$3:$V$3)+2,,,"PLAN LEKCJI")) -> matematyka
A10: =INDIRECT(ADDRESS(ROW()+1,2,,,"PLAN LEKCJI")) -> 7 | B10: =INDIRECT(ADDRESS(ROW()+(COLUMN()-2)*9+1,MATCH($A$1,'PLAN LEKCJI'!$C$3:$V$3)+2,,,"PLAN LEKCJI")) -> historia | C10: =INDIRECT(ADDRESS(ROW()+(COLUMN()-2)*9+1,MATCH($A$1,'PLAN LEKCJI'!$C$3:$V$3)+2,,,"PLAN LEKCJI")) -> historia | D10: =INDIRECT(ADDRESS(ROW()+(COLUMN()-2)*9+1,MATCH($A$1,'PLAN LEKCJI'!$C$3:$V$3)+2,,,"PLAN LEKCJI")) -> matematyka | E10: =INDIRECT(ADDRESS(ROW()+(COLUMN()-2)*9+1,MATCH($A$1,'PLAN LEKCJI'!$C$3:$V$3)+2,,,"PLAN LEKCJI")) -> plastyka 28 | F10: =INDIRECT(ADDRESS(ROW()+(COLUMN()-2)*9+1,MATCH($A$1,'PLAN LEKCJI'!$C$3:$V$3)+2,,,"PLAN LEKCJI")) -> religia
A11: =INDIRECT(ADDRESS(ROW()+1,2,,,"PLAN LEKCJI")) -> 8 | B11: =INDIRECT(ADDRESS(ROW()+(COLUMN()-2)*9+1,MATCH($A$1,'PLAN LEKCJI'!$C$3:$V$3)+2,,,"PLAN LEKCJI")) -> 0 | C11: =INDIRECT(ADDRESS(ROW()+(COLUMN()-2)*9+1,MATCH($A$1,'PLAN LEKCJI'!$C$3:$V$3)+2,,,"PLAN LEKCJI")) -> 0 | D11: =INDIRECT(ADDRESS(ROW()+(COLUMN()-2)*9+1,MATCH($A$1,'PLAN LEKCJI'!$C$3:$V$3)+2,,,"PLAN LEKCJI")) -> 0 | E11: =INDIRECT(ADDRESS(ROW()+(COLUMN()-2)*9+1,MATCH($A$1,'PLAN LEKCJI'!$C$3:$V$3)+2,,,"PLAN LEKCJI")) -> 0 | F11: =INDIRECT(ADDRESS(ROW()+(COLUMN()-2)*9+1,MATCH($A$1,'PLAN LEKCJI'!$C$3:$V$3)+2,,,"PLAN LEKCJI")) -> 0

Sheet 4b
A1: IVB | B1: ='PLAN LEKCJI'!$I$1 -> PLAN LEKCJI semestr I - rok szkolny 2026 / 2027
A3: Nr lekcji | B3: Poniedziałek | C3: Wtorek | D3: Środa | E3: Czwartek | F3: Piątek
A4: =INDIRECT(ADDRESS(ROW()+1,2,,,"PLAN LEKCJI")) -> 1 | B4: =INDIRECT(ADDRESS(ROW()+(COLUMN()-2)*9+1,MATCH($A$1,'PLAN LEKCJI'!$C$3:$V$3)+2,,,"PLAN LEKCJI")) -> j.ang. / j.ang. | C4: =INDIRECT(ADDRESS(ROW()+(COLUMN()-2)*9+1,MATCH($A$1,'PLAN LEKCJI'!$C$3:$V$3)+2,,,"PLAN LEKCJI")) -> wych. fizyczne | D4: =INDIRECT(ADDRESS(ROW()+(COLUMN()-2)*9+1,MATCH($A$1,'PLAN LEKCJI'!$C$3:$V$3)+2,,,"PLAN LEKCJI")) -> matematyka | E4: =INDIRECT(ADDRESS(ROW()+(COLUMN()-2)*9+1,MATCH($A$1,'PLAN LEKCJI'!$C$3:$V$3)+2,,,"PLAN LEKCJI")) -> informatyka / j.ang. | F4: =INDIRECT(ADDRESS(ROW()+(COLUMN()-2)*9+1,MATCH($A$1,'PLAN LEKCJI'!$C$3:$V$3)+2,,,"PLAN LEKCJI")) -> j. polski
A5: =INDIRECT(ADDRESS(ROW()+1,2,,,"PLAN LEKCJI")) -> 2 | B5: =INDIRECT(ADDRESS(ROW()+(COLUMN()-2)*9+1,MATCH($A$1,'PLAN LEKCJI'!$C$3:$V$3)+2,,,"PLAN LEKCJI")) -> j. polski | C5: =INDIRECT(ADDRESS(ROW()+(COLUMN()-2)*9+1,MATCH($A$1,'PLAN LEKCJI'!$C$3:$V$3)+2,,,"PLAN LEKCJI")) -> religia | D5: =INDIRECT(ADDRESS(ROW()+(COLUMN()-2)*9+1,MATCH($A$1,'PLAN LEKCJI'!$C$3:$V$3)+2,,,"PLAN LEKCJI")) -> religia | E5: =INDIRECT(ADDRESS(ROW()+(COLUMN()-2)*9+1,MATCH($A$1,'PLAN LEKCJI'!$C$3:$V$3)+2,,,"PLAN LEKCJI")) -> informatyka / j.ang. | F5: =INDIRECT(ADDRESS(ROW()+(COLUMN()-2)*9+1,MATCH($A$1,'PLAN LEKCJI'!$C$3:$V$3)+2,,,"PLAN LEKCJI")) -> j.ang. / j.ang.
A6: =INDIRECT(ADDRESS(ROW()+1,2,,,"PLAN LEKCJI")) -> 3 | B6: =INDIRECT(ADDRESS(ROW()+(COLUMN()-2)*9+1,MATCH($A$1,'PLAN LEKCJI'!$C$3:$V$3)+2,,,"PLAN LEKCJI")) -> j. polski | C6: =INDIRECT(ADDRESS(ROW()+(COLUMN()-2)*9+1,MATCH($A$1,'PLAN LEKCJI'!$C$3:$V$3)+2,,,"PLAN LEKCJI")) -> 27 j. hiszp. / j.niem. 13 | D6: =INDIRECT(ADDRESS(ROW()+(COLUMN()-2)*9+1,MATCH($A$1,'PLAN LEKCJI'!$C$3:$V$3)+2,,,"PLAN LEKCJI")) -> 21 j. hiszp. / j.niem. 13 | E6: =INDIRECT(ADDRESS(ROW()+(COLUMN()-2)*9+1,MATCH($A$1,'PLAN LEKCJI'!$C$3:$V$3)+2,,,"PLAN LEKCJI")) -> TAŃCE | F6: =INDIRECT(ADDRESS(ROW()+(COLUMN()-2)*9+1,MATCH($A$1,'PLAN LEKCJI'!$C$3:$V$3)+2,,,"PLAN LEKCJI")) -> wych. fizyczne
A7: =INDIRECT(ADDRESS(ROW()+1,2,,,"PLAN LEKCJI")) -> 4 | B7: =INDIRECT(ADDRESS(ROW()+(COLUMN()-2)*9+1,MATCH($A$1,'PLAN LEKCJI'!$C$3:$V$3)+2,,,"PLAN LEKCJI")) -> matematyka | C7: =INDIRECT(ADDRESS(ROW()+(COLUMN()-2)*9+1,MATCH($A$1,'PLAN LEKCJI'!$C$3:$V$3)+2,,,"PLAN LEKCJI")) -> matematyka | D7: =INDIRECT(ADDRESS(ROW()+(COLUMN()-2)*9+1,MATCH($A$1,'PLAN LEKCJI'!$C$3:$V$3)+2,,,"PLAN LEKCJI")) -> PRZYRODA 32 | E7: =INDIRECT(ADDRESS(ROW()+(COLUMN()-2)*9+1,MATCH($A$1,'PLAN LEKCJI'!$C$3:$V$3)+2,,,"PLAN LEKCJI")) -> wych. fizyczne | F7: =INDIRECT(ADDRESS(ROW()+(COLUMN()-2)*9+1,MATCH($A$1,'PLAN LEKCJI'!$C$3:$V$3)+2,,,"PLAN LEKCJI")) -> matematyka
A8: =INDIRECT(ADDRESS(ROW()+1,2,,,"PLAN LEKCJI")) -> 5 | B8: =INDIRECT(ADDRESS(ROW()+(COLUMN()-2)*9+1,MATCH($A$1,'PLAN LEKCJI'!$C$3:$V$3)+2,,,"PLAN LEKCJI")) -> matematyka | C8: =INDIRECT(ADDRESS(ROW()+(COLUMN()-2)*9+1,MATCH($A$1,'PLAN LEKCJI'!$C$3:$V$3)+2,,,"PLAN LEKCJI")) -> j.ang. / j.ang. | D8: =INDIRECT(ADDRESS(ROW()+(COLUMN()-2)*9+1,MATCH($A$1,'PLAN LEKCJI'!$C$3:$V$3)+2,,,"PLAN LEKCJI")) -> HISTORIA | E8: =INDIRECT(ADDRESS(ROW()+(COLUMN()-2)*9+1,MATCH($A$1,'PLAN LEKCJI'!$C$3:$V$3)+2,,,"PLAN LEKCJI")) -> 21 j. hiszp. / j.niem. 13 | F8: =INDIRECT(ADDRESS(ROW()+(COLUMN()-2)*9+1,MATCH($A$1,'PLAN LEKCJI'!$C$3:$V$3)+2,,,"PLAN LEKCJI")) -> PRZYRODA 32
A9: =INDIRECT(ADDRESS(ROW()+1,2,,,"PLAN LEKCJI")) -> 6 | B9: =INDIRECT(ADDRESS(ROW()+(COLUMN()-2)*9+1,MATCH($A$1,'PLAN LEKCJI'!$C$3:$V$3)+2,,,"PLAN LEKCJI")) -> plastyka 28 | C9: =INDIRECT(ADDRESS(ROW()+(COLUMN()-2)*9+1,MATCH($A$1,'PLAN LEKCJI'!$C$3:$V$3)+2,,,"PLAN LEKCJI")) -> j. polski | D9: =INDIRECT(ADDRESS(ROW()+(COLUMN()-2)*9+1,MATCH($A$1,'PLAN LEKCJI'!$C$3:$V$3)+2,,,"PLAN LEKCJI")) -> TECHNIKA 13 | E9: =INDIRECT(ADDRESS(ROW()+(COLUMN()-2)*9+1,MATCH($A$1,'PLAN LEKCJI'!$C$3:$V$3)+2,,,"PLAN LEKCJI")) -> HISTORIA | F9: =INDIRECT(ADDRESS(ROW()+(COLUMN()-2)*9+1,MATCH($A$1,'PLAN LEKCJI'!$C$3:$V$3)+2,,,"PLAN LEKCJI")) -> PRZYRODA 32
A10: =INDIRECT(ADDRESS(ROW()+1,2,,,"PLAN LEKCJI")) -> 7 | B10: =INDIRECT(ADDRESS(ROW()+(COLUMN()-2)*9+1,MATCH($A$1,'PLAN LEKCJI'!$C$3:$V$3)+2,,,"PLAN LEKCJI")) -> muzyka | C10: =INDIRECT(ADDRESS(ROW()+(COLUMN()-2)*9+1,MATCH($A$1,'PLAN LEKCJI'!$C$3:$V$3)+2,,,"PLAN LEKCJI")) -> j. polski | D10: =INDIRECT(ADDRESS(ROW()+(COLUMN()-2)*9+1,MATCH($A$1,'PLAN LEKCJI'!$C$3:$V$3)+2,,,"PLAN LEKCJI")) -> TECHNIKA 13 | E10: =INDIRECT(ADDRESS(ROW()+(COLUMN()-2)*9+1,MATCH($A$1,'PLAN LEKCJI'!$C$3:$V$3)+2,,,"PLAN LEKCJI")) -> j. polski | F10: =INDIRECT(ADDRESS(ROW()+(COLUMN()-2)*9+1,MATCH($A$1,'PLAN LEKCJI'!$C$3:$V$3)+2,,,"PLAN LEKCJI")) -> GW
A11: =INDIRECT(ADDRESS(ROW()+1,2,,,"PLAN LEKCJI")) -> 8 | B11: =INDIRECT(ADDRESS(ROW()+(COLUMN()-2)*9+1,MATCH($A$1,'PLAN LEKCJI'!$C$3:$V$3)+2,,,"PLAN LEKCJI")) -> 0 | C11: =INDIRECT(ADDRESS(ROW()+(COLUMN()-2)*9+1,MATCH($A$1,'PLAN LEKCJI'!$C$3:$V$3)+2,,,"PLAN LEKCJI")) -> 0 | D11: =INDIRECT(ADDRESS(ROW()+(COLUMN()-2)*9+1,MATCH($A$1,'PLAN LEKCJI'!$C$3:$V$3)+2,,,"PLAN LEKCJI")) -> 0 | E11: =INDIRECT(ADDRESS(ROW()+(COLUMN()-2)*9+1,MATCH($A$1,'PLAN LEKCJI'!$C$3:$V$3)+2,,,"PLAN LEKCJI")) -> 0 | F11: =INDIRECT(ADDRESS(ROW()+(COLUMN()-2)*9+1,MATCH($A$1,'PLAN LEKCJI'!$C$3:$V$3)+2,,,"PLAN LEKCJI")) -> 0

Sheet 4c
A1: IVC | B1: ='PLAN LEKCJI'!$I$1 -> PLAN LEKCJI semestr I - rok szkolny 2026 / 2027
A3: Nr lekcji | B3: Poniedziałek | C3: Wtorek | D3: Środa | E3: Czwartek | F3: Piątek
A4: =INDIRECT(ADDRESS(ROW()+1,2,,,"PLAN LEKCJI")) -> 1 | B4: =INDIRECT(ADDRESS(ROW()+(COLUMN()-2)*9+1,MATCH($A$1,'PLAN LEKCJI'!$C$3:$V$3)+2,,,"PLAN LEKCJI")) -> informatyka / j.ang. | C4: =INDIRECT(ADDRESS(ROW()+(COLUMN()-2)*9+1,MATCH($A$1,'PLAN LEKCJI'!$C$3:$V$3)+2,,,"PLAN LEKCJI")) -> 21 j. hiszp. / j.ang. 35 | D4: =INDIRECT(ADDRESS(ROW()+(COLUMN()-2)*9+1,MATCH($A$1,'PLAN LEKCJI'!$C$3:$V$3)+2,,,"PLAN LEKCJI")) -> 21 j. hiszp. / j.ang. 35 | E4: =INDIRECT(ADDRESS(ROW()+(COLUMN()-2)*9+1,MATCH($A$1,'PLAN LEKCJI'!$C$3:$V$3)+2,,,"PLAN LEKCJI")) -> matematyka | F4: =INDIRECT(ADDRESS(ROW()+(COLUMN()-2)*9+1,MATCH($A$1,'PLAN LEKCJI'!$C$3:$V$3)+2,,,"PLAN LEKCJI")) -> GW
A5: =INDIRECT(ADDRESS(ROW()+1,2,,,"PLAN LEKCJI")) -> 2 | B5: =INDIRECT(ADDRESS(ROW()+(COLUMN()-2)*9+1,MATCH($A$1,'PLAN LEKCJI'!$C$3:$V$3)+2,,,"PLAN LEKCJI")) -> informatyka / j.ang. | C5: =INDIRECT(ADDRESS(ROW()+(COLUMN()-2)*9+1,MATCH($A$1,'PLAN LEKCJI'!$C$3:$V$3)+2,,,"PLAN LEKCJI")) -> 21 j. hiszp. / j.ang. 35 | D5: =INDIRECT(ADDRESS(ROW()+(COLUMN()-2)*9+1,MATCH($A$1,'PLAN LEKCJI'!$C$3:$V$3)+2,,,"PLAN LEKCJI")) -> 21 j. hiszp. / j.ang. 35 | E5: =INDIRECT(ADDRESS(ROW()+(COLUMN()-2)*9+1,MATCH($A$1,'PLAN LEKCJI'!$C$3:$V$3)+2,,,"PLAN LEKCJI")) -> matematyka | F5: =INDIRECT(ADDRESS(ROW()+(COLUMN()-2)*9+1,MATCH($A$1,'PLAN LEKCJI'!$C$3:$V$3)+2,,,"PLAN LEKCJI")) -> religia
A6: =INDIRECT(ADDRESS(ROW()+1,2,,,"PLAN LEKCJI")) -> 3 | B6: =INDIRECT(ADDRESS(ROW()+(COLUMN()-2)*9+1,MATCH($A$1,'PLAN LEKCJI'!$C$3:$V$3)+2,,,"PLAN LEKCJI")) -> plastyka 28 | C6: =INDIRECT(ADDRESS(ROW()+(COLUMN()-2)*9+1,MATCH($A$1,'PLAN LEKCJI'!$C$3:$V$3)+2,,,"PLAN LEKCJI")) -> matematyka | D6: =INDIRECT(ADDRESS(ROW()+(COLUMN()-2)*9+1,MATCH($A$1,'PLAN LEKCJI'!$C$3:$V$3)+2,,,"PLAN LEKCJI")) -> PRZYRODA 32 | E6: =INDIRECT(ADDRESS(ROW()+(COLUMN()-2)*9+1,MATCH($A$1,'PLAN LEKCJI'!$C$3:$V$3)+2,,,"PLAN LEKCJI")) -> j. polski | F6: =INDIRECT(ADDRESS(ROW()+(COLUMN()-2)*9+1,MATCH($A$1,'PLAN LEKCJI'!$C$3:$V$3)+2,,,"PLAN LEKCJI")) -> PRZYRODA 32
A7: =INDIRECT(ADDRESS(ROW()+1,2,,,"PLAN LEKCJI")) -> 4 | B7: =INDIRECT(ADDRESS(ROW()+(COLUMN()-2)*9+1,MATCH($A$1,'PLAN LEKCJI'!$C$3:$V$3)+2,,,"PLAN LEKCJI")) -> matematyka | C7: =INDIRECT(ADDRESS(ROW()+(COLUMN()-2)*9+1,MATCH($A$1,'PLAN LEKCJI'!$C$3:$V$3)+2,,,"PLAN LEKCJI")) -> TECHNIKA 28 | D7: =INDIRECT(ADDRESS(ROW()+(COLUMN()-2)*9+1,MATCH($A$1,'PLAN LEKCJI'!$C$3:$V$3)+2,,,"PLAN LEKCJI")) -> HISTORIA | E7: =INDIRECT(ADDRESS(ROW()+(COLUMN()-2)*9+1,MATCH($A$1,'PLAN LEKCJI'!$C$3:$V$3)+2,,,"PLAN LEKCJI")) -> HISTORIA | F7: =INDIRECT(ADDRESS(ROW()+(COLUMN()-2)*9+1,MATCH($A$1,'PLAN LEKCJI'!$C$3:$V$3)+2,,,"PLAN LEKCJI")) -> PRZYRODA 32
A8: =INDIRECT(ADDRESS(ROW()+1,2,,,"PLAN LEKCJI")) -> 5 | B8: =INDIRECT(ADDRESS(ROW()+(COLUMN()-2)*9+1,MATCH($A$1,'PLAN LEKCJI'!$C$3:$V$3)+2,,,"PLAN LEKCJI")) -> religia | C8: =INDIRECT(ADDRESS(ROW()+(COLUMN()-2)*9+1,MATCH($A$1,'PLAN LEKCJI'!$C$3:$V$3)+2,,,"PLAN LEKCJI")) -> TECHNIKA 28 | D8: =INDIRECT(ADDRESS(ROW()+(COLUMN()-2)*9+1,MATCH($A$1,'PLAN LEKCJI'!$C$3:$V$3)+2,,,"PLAN LEKCJI")) -> j. polski | E8: =INDIRECT(ADDRESS(ROW()+(COLUMN()-2)*9+1,MATCH($A$1,'PLAN LEKCJI'!$C$3:$V$3)+2,,,"PLAN LEKCJI")) -> wych. fizyczne | F8: =INDIRECT(ADDRESS(ROW()+(COLUMN()-2)*9+1,MATCH($A$1,'PLAN LEKCJI'!$C$3:$V$3)+2,,,"PLAN LEKCJI")) -> wych. fizyczne
A9: =INDIRECT(ADDRESS(ROW()+1,2,,,"PLAN LEKCJI")) -> 6 | B9: =INDIRECT(ADDRESS(ROW()+(COLUMN()-2)*9+1,MATCH($A$1,'PLAN LEKCJI'!$C$3:$V$3)+2,,,"PLAN LEKCJI")) -> muzyka | C9: =INDIRECT(ADDRESS(ROW()+(COLUMN()-2)*9+1,MATCH($A$1,'PLAN LEKCJI'!$C$3:$V$3)+2,,,"PLAN LEKCJI")) -> j. polski | D9: =INDIRECT(ADDRESS(ROW()+(COLUMN()-2)*9+1,MATCH($A$1,'PLAN LEKCJI'!$C$3:$V$3)+2,,,"PLAN LEKCJI")) -> TAŃCE | E9: =INDIRECT(ADDRESS(ROW()+(COLUMN()-2)*9+1,MATCH($A$1,'PLAN LEKCJI'!$C$3:$V$3)+2,,,"PLAN LEKCJI")) -> 21 j. hiszp. / j.ang. 35 | F9: =INDIRECT(ADDRESS(ROW()+(COLUMN()-2)*9+1,MATCH($A$1,'PLAN LEKCJI'!$C$3:$V$3)+2,,,"PLAN LEKCJI")) -> j. polski
A10: =INDIRECT(ADDRESS(ROW()+1,2,,,"PLAN LEKCJI")) -> 7 | B10: =INDIRECT(ADDRESS(ROW()+(COLUMN()-2)*9+1,MATCH($A$1,'PLAN LEKCJI'!$C$3:$V$3)+2,,,"PLAN LEKCJI")) -> wych. fizyczne | C10: =INDIRECT(ADDRESS(ROW()+(COLUMN()-2)*9+1,MATCH($A$1,'PLAN LEKCJI'!$C$3:$V$3)+2,,,"PLAN LEKCJI")) -> j. polski | D10: =INDIRECT(ADDRESS(ROW()+(COLUMN()-2)*9+1,MATCH($A$1,'PLAN LEKCJI'!$C$3:$V$3)+2,,,"PLAN LEKCJI")) -> matematyka | E10: =INDIRECT(ADDRESS(ROW()+(COLUMN()-2)*9+1,MATCH($A$1,'PLAN LEKCJI'!$C$3:$V$3)+2,,,"PLAN LEKCJI")) -> 21 j. hiszp. / j.ang. 35 | F10: =INDIRECT(ADDRESS(ROW()+(COLUMN()-2)*9+1,MATCH($A$1,'PLAN LEKCJI'!$C$3:$V$3)+2,,,"PLAN LEKCJI")) -> j. polski
A11: =INDIRECT(ADDRESS(ROW()+1,2,,,"PLAN LEKCJI")) -> 8 | B11: =INDIRECT(ADDRESS(ROW()+(COLUMN()-2)*9+1,MATCH($A$1,'PLAN LEKCJI'!$C$3:$V$3)+2,,,"PLAN LEKCJI")) -> 0 | C11: =INDIRECT(ADDRESS(ROW()+(COLUMN()-2)*9+1,MATCH($A$1,'PLAN LEKCJI'!$C$3:$V$3)+2,,,"PLAN LEKCJI")) -> 0 | D11: =INDIRECT(ADDRESS(ROW()+(COLUMN()-2)*9+1,MATCH($A$1,'PLAN LEKCJI'!$C$3:$V$3)+2,,,"PLAN LEKCJI")) -> 0 | E11: =INDIRECT(ADDRESS(ROW()+(COLUMN()-2)*9+1,MATCH($A$1,'PLAN LEKCJI'!$C$3:$V$3)+2,,,"PLAN LEKCJI")) -> 0 | F11: =INDIRECT(ADDRESS(ROW()+(COLUMN()-2)*9+1,MATCH($A$1,'PLAN LEKCJI'!$C$3:$V$3)+2,,,"PLAN LEKCJI")) -> 0

Sheet 5a
A1: VA | B1: ='PLAN LEKCJI'!$I$1 -> PLAN LEKCJI semestr I - rok szkolny 2026 / 2027
A3: Nr lekcji | B3: Poniedziałek | C3: Wtorek | D3: Środa | E3: Czwartek | F3: Piątek
A4: =INDIRECT(ADDRESS(ROW()+1,2,,,"PLAN LEKCJI")) -> 1 | B4: =INDIRECT(ADDRESS(ROW()+(COLUMN()-2)*9+1,MATCH($A$1,'PLAN LEKCJI'!$C$3:$V$3)+2,,,"PLAN LEKCJI")) -> matematyka | C4: =INDIRECT(ADDRESS(ROW()+(COLUMN()-2)*9+1,MATCH($A$1,'PLAN LEKCJI'!$C$3:$V$3)+2,,,"PLAN LEKCJI")) -> 27 j.ang. / j.ang. 29 | D4: =INDIRECT(ADDRESS(ROW()+(COLUMN()-2)*9+1,MATCH($A$1,'PLAN LEKCJI'!$C$3:$V$3)+2,,,"PLAN LEKCJI")) -> 27 konw. / plastyka | E4: =INDIRECT(ADDRESS(ROW()+(COLUMN()-2)*9+1,MATCH($A$1,'PLAN LEKCJI'!$C$3:$V$3)+2,,,"PLAN LEKCJI")) -> matematyka | F4: =INDIRECT(ADDRESS(ROW()+(COLUMN()-2)*9+1,MATCH($A$1,'PLAN LEKCJI'!$C$3:$V$3)+2,,,"PLAN LEKCJI")) -> GW
A5: =INDIRECT(ADDRESS(ROW()+1,2,,,"PLAN LEKCJI")) -> 2 | B5: =INDIRECT(ADDRESS(ROW()+(COLUMN()-2)*9+1,MATCH($A$1,'PLAN LEKCJI'!$C$3:$V$3)+2,,,"PLAN LEKCJI")) -> religia | C5: =INDIRECT(ADDRESS(ROW()+(COLUMN()-2)*9+1,MATCH($A$1,'PLAN LEKCJI'!$C$3:$V$3)+2,,,"PLAN LEKCJI")) -> j. polski | D5: =INDIRECT(ADDRESS(ROW()+(COLUMN()-2)*9+1,MATCH($A$1,'PLAN LEKCJI'!$C$3:$V$3)+2,,,"PLAN LEKCJI")) -> 27 konw. / plastyka | E5: =INDIRECT(ADDRESS(ROW()+(COLUMN()-2)*9+1,MATCH($A$1,'PLAN LEKCJI'!$C$3:$V$3)+2,,,"PLAN LEKCJI")) -> matematyka | F5: =INDIRECT(ADDRESS(ROW()+(COLUMN()-2)*9+1,MATCH($A$1,'PLAN LEKCJI'!$C$3:$V$3)+2,,,"PLAN LEKCJI")) -> HISTORIA
A6: =INDIRECT(ADDRESS(ROW()+1,2,,,"PLAN LEKCJI")) -> 3 | B6: =INDIRECT(ADDRESS(ROW()+(COLUMN()-2)*9+1,MATCH($A$1,'PLAN LEKCJI'!$C$3:$V$3)+2,,,"PLAN LEKCJI")) -> 27 j.ang. / j.ang. 29 | C6: =INDIRECT(ADDRESS(ROW()+(COLUMN()-2)*9+1,MATCH($A$1,'PLAN LEKCJI'!$C$3:$V$3)+2,,,"PLAN LEKCJI")) -> j. polski | D6: =INDIRECT(ADDRESS(ROW()+(COLUMN()-2)*9+1,MATCH($A$1,'PLAN LEKCJI'!$C$3:$V$3)+2,,,"PLAN LEKCJI")) -> HISTORIA | E6: =INDIRECT(ADDRESS(ROW()+(COLUMN()-2)*9+1,MATCH($A$1,'PLAN LEKCJI'!$C$3:$V$3)+2,,,"PLAN LEKCJI")) -> wych. fizyczne | F6: =INDIRECT(ADDRESS(ROW()+(COLUMN()-2)*9+1,MATCH($A$1,'PLAN LEKCJI'!$C$3:$V$3)+2,,,"PLAN LEKCJI")) -> muzyka
A7: =INDIRECT(ADDRESS(ROW()+1,2,,,"PLAN LEKCJI")) -> 4 | B7: =INDIRECT(ADDRESS(ROW()+(COLUMN()-2)*9+1,MATCH($A$1,'PLAN LEKCJI'!$C$3:$V$3)+2,,,"PLAN LEKCJI")) -> BIOLOGIA 32 | C7: =INDIRECT(ADDRESS(ROW()+(COLUMN()-2)*9+1,MATCH($A$1,'PLAN LEKCJI'!$C$3:$V$3)+2,,,"PLAN LEKCJI")) -> wych. fizyczne | D7: =INDIRECT(ADDRESS(ROW()+(COLUMN()-2)*9+1,MATCH($A$1,'PLAN LEKCJI'!$C$3:$V$3)+2,,,"PLAN LEKCJI")) -> matematyka | E7: =INDIRECT(ADDRESS(ROW()+(COLUMN()-2)*9+1,MATCH($A$1,'PLAN LEKCJI'!$C$3:$V$3)+2,,,"PLAN LEKCJI")) -> 26 j.fran./ j.niem. 36 | F7: =INDIRECT(ADDRESS(ROW()+(COLUMN()-2)*9+1,MATCH($A$1,'PLAN LEKCJI'!$C$3:$V$3)+2,,,"PLAN LEKCJI")) -> wych. fizyczne
A8: =INDIRECT(ADDRESS(ROW()+1,2,,,"PLAN LEKCJI")) -> 5 | B8: =INDIRECT(ADDRESS(ROW()+(COLUMN()-2)*9+1,MATCH($A$1,'PLAN LEKCJI'!$C$3:$V$3)+2,,,"PLAN LEKCJI")) -> informatyka | C8: =INDIRECT(ADDRESS(ROW()+(COLUMN()-2)*9+1,MATCH($A$1,'PLAN LEKCJI'!$C$3:$V$3)+2,,,"PLAN LEKCJI")) -> matematyka | D8: =INDIRECT(ADDRESS(ROW()+(COLUMN()-2)*9+1,MATCH($A$1,'PLAN LEKCJI'!$C$3:$V$3)+2,,,"PLAN LEKCJI")) -> TAŃCE | E8: =INDIRECT(ADDRESS(ROW()+(COLUMN()-2)*9+1,MATCH($A$1,'PLAN LEKCJI'!$C$3:$V$3)+2,,,"PLAN LEKCJI")) -> 27 j.ang. / j.ang. 29 | F8: =INDIRECT(ADDRESS(ROW()+(COLUMN()-2)*9+1,MATCH($A$1,'PLAN LEKCJI'!$C$3:$V$3)+2,,,"PLAN LEKCJI")) -> j. polski
A9: =INDIRECT(ADDRESS(ROW()+1,2,,,"PLAN LEKCJI")) -> 6 | B9: =INDIRECT(ADDRESS(ROW()+(COLUMN()-2)*9+1,MATCH($A$1,'PLAN LEKCJI'!$C$3:$V$3)+2,,,"PLAN LEKCJI")) -> 26 j.fran./ j.niem. 36 | C9: =INDIRECT(ADDRESS(ROW()+(COLUMN()-2)*9+1,MATCH($A$1,'PLAN LEKCJI'!$C$3:$V$3)+2,,,"PLAN LEKCJI")) -> 26 j.fran./ j.niem. 36 | D9: =INDIRECT(ADDRESS(ROW()+(COLUMN()-2)*9+1,MATCH($A$1,'PLAN LEKCJI'!$C$3:$V$3)+2,,,"PLAN LEKCJI")) -> j. polski | E9: =INDIRECT(ADDRESS(ROW()+(COLUMN()-2)*9+1,MATCH($A$1,'PLAN LEKCJI'!$C$3:$V$3)+2,,,"PLAN LEKCJI")) -> j. polski | F9: =INDIRECT(ADDRESS(ROW()+(COLUMN()-2)*9+1,MATCH($A$1,'PLAN LEKCJI'!$C$3:$V$3)+2,,,"PLAN LEKCJI")) -> 27 j.ang. / j.ang. 29
A10: =INDIRECT(ADDRESS(ROW()+1,2,,,"PLAN LEKCJI")) -> 7 | B10: =INDIRECT(ADDRESS(ROW()+(COLUMN()-2)*9+1,MATCH($A$1,'PLAN LEKCJI'!$C$3:$V$3)+2,,,"PLAN LEKCJI")) -> technika 28 | C10: =INDIRECT(ADDRESS(ROW()+(COLUMN()-2)*9+1,MATCH($A$1,'PLAN LEKCJI'!$C$3:$V$3)+2,,,"PLAN LEKCJI")) -> GEOGRAFIA | D10: =INDIRECT(ADDRESS(ROW()+(COLUMN()-2)*9+1,MATCH($A$1,'PLAN LEKCJI'!$C$3:$V$3)+2,,,"PLAN LEKCJI")) -> religia | E10: =INDIRECT(ADDRESS(ROW()+(COLUMN()-2)*9+1,MATCH($A$1,'PLAN LEKCJI'!$C$3:$V$3)+2,,,"PLAN LEKCJI")) -> j. polski | F10: =INDIRECT(ADDRESS(ROW()+(COLUMN()-2)*9+1,MATCH($A$1,'PLAN LEKCJI'!$C$3:$V$3)+2,,,"PLAN LEKCJI")) -> edu zdrowotna
A11: =INDIRECT(ADDRESS(ROW()+1,2,,,"PLAN LEKCJI")) -> 8 | B11: =INDIRECT(ADDRESS(ROW()+(COLUMN()-2)*9+1,MATCH($A$1,'PLAN LEKCJI'!$C$3:$V$3)+2,,,"PLAN LEKCJI")) -> 0 | C11: =INDIRECT(ADDRESS(ROW()+(COLUMN()-2)*9+1,MATCH($A$1,'PLAN LEKCJI'!$C$3:$V$3)+2,,,"PLAN LEKCJI")) -> 0 | D11: =INDIRECT(ADDRESS(ROW()+(COLUMN()-2)*9+1,MATCH($A$1,'PLAN LEKCJI'!$C$3:$V$3)+2,,,"PLAN LEKCJI")) -> 0 | E11: =INDIRECT(ADDRESS(ROW()+(COLUMN()-2)*9+1,MATCH($A$1,'PLAN LEKCJI'!$C$3:$V$3)+2,,,"PLAN LEKCJI")) -> 0 | F11: =INDIRECT(ADDRESS(ROW()+(COLUMN()-2)*9+1,MATCH($A$1,'PLAN LEKCJI'!$C$3:$V$3)+2,,,"PLAN LEKCJI")) -> 0

Sheet 5b
A1: VB | B1: ='PLAN LEKCJI'!$I$1 -> PLAN LEKCJI semestr I - rok szkolny 2026 / 2027
A3: Nr lekcji | B3: Poniedziałek | C3: Wtorek | D3: Środa | E3: Czwartek | F3: Piątek
A4: =INDIRECT(ADDRESS(ROW()+1,2,,,"PLAN LEKCJI")) -> 1 | B4: =INDIRECT(ADDRESS(ROW()+(COLUMN()-2)*9+1,MATCH($A$1,'PLAN LEKCJI'!$C$3:$V$3)+2,,,"PLAN LEKCJI")) -> 26 j.fran./ j.niem. 36 | C4: =INDIRECT(ADDRESS(ROW()+(COLUMN()-2)*9+1,MATCH($A$1,'PLAN LEKCJI'!$C$3:$V$3)+2,,,"PLAN LEKCJI")) -> j. polski | D4: =INDIRECT(ADDRESS(ROW()+(COLUMN()-2)*9+1,MATCH($A$1,'PLAN LEKCJI'!$C$3:$V$3)+2,,,"PLAN LEKCJI")) -> TAŃCE | E4: =INDIRECT(ADDRESS(ROW()+(COLUMN()-2)*9+1,MATCH($A$1,'PLAN LEKCJI'!$C$3:$V$3)+2,,,"PLAN LEKCJI")) -> j. polski | F4: =INDIRECT(ADDRESS(ROW()+(COLUMN()-2)*9+1,MATCH($A$1,'PLAN LEKCJI'!$C$3:$V$3)+2,,,"PLAN LEKCJI")) -> GW
A5: =INDIRECT(ADDRESS(ROW()+1,2,,,"PLAN LEKCJI")) -> 2 | B5: =INDIRECT(ADDRESS(ROW()+(COLUMN()-2)*9+1,MATCH($A$1,'PLAN LEKCJI'!$C$3:$V$3)+2,,,"PLAN LEKCJI")) -> HISTORIA | C5: =INDIRECT(ADDRESS(ROW()+(COLUMN()-2)*9+1,MATCH($A$1,'PLAN LEKCJI'!$C$3:$V$3)+2,,,"PLAN LEKCJI")) -> 27 j.ang. / j.ang. 29 | D5: =INDIRECT(ADDRESS(ROW()+(COLUMN()-2)*9+1,MATCH($A$1,'PLAN LEKCJI'!$C$3:$V$3)+2,,,"PLAN LEKCJI")) -> HISTORIA | E5: =INDIRECT(ADDRESS(ROW()+(COLUMN()-2)*9+1,MATCH($A$1,'PLAN LEKCJI'!$C$3:$V$3)+2,,,"PLAN LEKCJI")) -> j. polski | F5: =INDIRECT(ADDRESS(ROW()+(COLUMN()-2)*9+1,MATCH($A$1,'PLAN LEKCJI'!$C$3:$V$3)+2,,,"PLAN LEKCJI")) -> j. polski
A6: =INDIRECT(ADDRESS(ROW()+1,2,,,"PLAN LEKCJI")) -> 3 | B6: =INDIRECT(ADDRESS(ROW()+(COLUMN()-2)*9+1,MATCH($A$1,'PLAN LEKCJI'!$C$3:$V$3)+2,,,"PLAN LEKCJI")) -> BIOLOGIA 32 | C6: =INDIRECT(ADDRESS(ROW()+(COLUMN()-2)*9+1,MATCH($A$1,'PLAN LEKCJI'!$C$3:$V$3)+2,,,"PLAN LEKCJI")) -> matematyka | D6: =INDIRECT(ADDRESS(ROW()+(COLUMN()-2)*9+1,MATCH($A$1,'PLAN LEKCJI'!$C$3:$V$3)+2,,,"PLAN LEKCJI")) -> 27 konw. / informat. | E6: =INDIRECT(ADDRESS(ROW()+(COLUMN()-2)*9+1,MATCH($A$1,'PLAN LEKCJI'!$C$3:$V$3)+2,,,"PLAN LEKCJI")) -> wych. fizyczne | F6: =INDIRECT(ADDRESS(ROW()+(COLUMN()-2)*9+1,MATCH($A$1,'PLAN LEKCJI'!$C$3:$V$3)+2,,,"PLAN LEKCJI")) -> 27 j.ang. / j.ang. 29
A7: =INDIRECT(ADDRESS(ROW()+1,2,,,"PLAN LEKCJI")) -> 4 | B7: =INDIRECT(ADDRESS(ROW()+(COLUMN()-2)*9+1,MATCH($A$1,'PLAN LEKCJI'!$C$3:$V$3)+2,,,"PLAN LEKCJI")) -> matematyka | C7: =INDIRECT(ADDRESS(ROW()+(COLUMN()-2)*9+1,MATCH($A$1,'PLAN LEKCJI'!$C$3:$V$3)+2,,,"PLAN LEKCJI")) -> wych. fizyczne | D7: =INDIRECT(ADDRESS(ROW()+(COLUMN()-2)*9+1,MATCH($A$1,'PLAN LEKCJI'!$C$3:$V$3)+2,,,"PLAN LEKCJI")) -> 27 konw. / informat. | E7: =INDIRECT(ADDRESS(ROW()+(COLUMN()-2)*9+1,MATCH($A$1,'PLAN LEKCJI'!$C$3:$V$3)+2,,,"PLAN LEKCJI")) -> 27 j.ang. / j.ang. 29 | F7: =INDIRECT(ADDRESS(ROW()+(COLUMN()-2)*9+1,MATCH($A$1,'PLAN LEKCJI'!$C$3:$V$3)+2,,,"PLAN LEKCJI")) -> wych. fizyczne
A8: =INDIRECT(ADDRESS(ROW()+1,2,,,"PLAN LEKCJI")) -> 5 | B8: =INDIRECT(ADDRESS(ROW()+(COLUMN()-2)*9+1,MATCH($A$1,'PLAN LEKCJI'!$C$3:$V$3)+2,,,"PLAN LEKCJI")) -> 27 j.ang. / j.ang. 29 | C8: =INDIRECT(ADDRESS(ROW()+(COLUMN()-2)*9+1,MATCH($A$1,'PLAN LEKCJI'!$C$3:$V$3)+2,,,"PLAN LEKCJI")) -> 26 j.fran./ j.niem. 36 | D8: =INDIRECT(ADDRESS(ROW()+(COLUMN()-2)*9+1,MATCH($A$1,'PLAN LEKCJI'!$C$3:$V$3)+2,,,"PLAN LEKCJI")) -> matematyka | E8: =INDIRECT(ADDRESS(ROW()+(COLUMN()-2)*9+1,MATCH($A$1,'PLAN LEKCJI'!$C$3:$V$3)+2,,,"PLAN LEKCJI")) -> religia | F8: =INDIRECT(ADDRESS(ROW()+(COLUMN()-2)*9+1,MATCH($A$1,'PLAN LEKCJI'!$C$3:$V$3)+2,,,"PLAN LEKCJI")) -> religia
A9: =INDIRECT(ADDRESS(ROW()+1,2,,,"PLAN LEKCJI")) -> 6 | B9: =INDIRECT(ADDRESS(ROW()+(COLUMN()-2)*9+1,MATCH($A$1,'PLAN LEKCJI'!$C$3:$V$3)+2,,,"PLAN LEKCJI")) -> j. polski | C9: =INDIRECT(ADDRESS(ROW()+(COLUMN()-2)*9+1,MATCH($A$1,'PLAN LEKCJI'!$C$3:$V$3)+2,,,"PLAN LEKCJI")) -> GEOGRAFIA | D9: =INDIRECT(ADDRESS(ROW()+(COLUMN()-2)*9+1,MATCH($A$1,'PLAN LEKCJI'!$C$3:$V$3)+2,,,"PLAN LEKCJI")) -> technika 28 | E9: =INDIRECT(ADDRESS(ROW()+(COLUMN()-2)*9+1,MATCH($A$1,'PLAN LEKCJI'!$C$3:$V$3)+2,,,"PLAN LEKCJI")) -> plastyka 28 | F9: =INDIRECT(ADDRESS(ROW()+(COLUMN()-2)*9+1,MATCH($A$1,'PLAN LEKCJI'!$C$3:$V$3)+2,,,"PLAN LEKCJI")) -> edu zdrowotna
A10: =INDIRECT(ADDRESS(ROW()+1,2,,,"PLAN LEKCJI")) -> 7 | B10: =INDIRECT(ADDRESS(ROW()+(COLUMN()-2)*9+1,MATCH($A$1,'PLAN LEKCJI'!$C$3:$V$3)+2,,,"PLAN LEKCJI")) -> j. polski | C10: =INDIRECT(ADDRESS(ROW()+(COLUMN()-2)*9+1,MATCH($A$1,'PLAN LEKCJI'!$C$3:$V$3)+2,,,"PLAN LEKCJI")) -> muzyka | D10: =INDIRECT(ADDRESS(ROW()+(COLUMN()-2)*9+1,MATCH($A$1,'PLAN LEKCJI'!$C$3:$V$3)+2,,,"PLAN LEKCJI")) -> matematyka | E10: =INDIRECT(ADDRESS(ROW()+(COLUMN()-2)*9+1,MATCH($A$1,'PLAN LEKCJI'!$C$3:$V$3)+2,,,"PLAN LEKCJI")) -> 26 j.fran./ j.niem. 36 | F10: =INDIRECT(ADDRESS(ROW()+(COLUMN()-2)*9+1,MATCH($A$1,'PLAN LEKCJI'!$C$3:$V$3)+2,,,"PLAN LEKCJI")) -> matematyka
A11: =INDIRECT(ADDRESS(ROW()+1,2,,,"PLAN LEKCJI")) -> 8 | B11: =INDIRECT(ADDRESS(ROW()+(COLUMN()-2)*9+1,MATCH($A$1,'PLAN LEKCJI'!$C$3:$V$3)+2,,,"PLAN LEKCJI")) -> 0 | C11: =INDIRECT(ADDRESS(ROW()+(COLUMN()-2)*9+1,MATCH($A$1,'PLAN LEKCJI'!$C$3:$V$3)+2,,,"PLAN LEKCJI")) -> 0 | D11: =INDIRECT(ADDRESS(ROW()+(COLUMN()-2)*9+1,MATCH($A$1,'PLAN LEKCJI'!$C$3:$V$3)+2,,,"PLAN LEKCJI")) -> 0 | E11: =INDIRECT(ADDRESS(ROW()+(COLUMN()-2)*9+1,MATCH($A$1,'PLAN LEKCJI'!$C$3:$V$3)+2,,,"PLAN LEKCJI")) -> 0 | F11: =INDIRECT(ADDRESS(ROW()+(COLUMN()-2)*9+1,MATCH($A$1,'PLAN LEKCJI'!$C$3:$V$3)+2,,,"PLAN LEKCJI"))

Sheet 6a
A1: VI A | B1: ='PLAN LEKCJI'!$I$1 -> PLAN LEKCJI semestr I - rok szkolny 2026 / 2027
A3: Nr lekcji | B3: Poniedziałek | C3: Wtorek | D3: Środa | E3: Czwartek | F3: Piątek
A4: =INDIRECT(ADDRESS(ROW()+1,2,,,"PLAN LEKCJI")) -> 1 | B4: =INDIRECT(ADDRESS(ROW()+(COLUMN()-2)*9+1,MATCH($A$1,'PLAN LEKCJI'!$C$3:$V$3)+2,,,"PLAN LEKCJI")) -> matematyka 33, K | C4: =INDIRECT(ADDRESS(ROW()+(COLUMN()-2)*9+1,MATCH($A$1,'PLAN LEKCJI'!$C$3:$V$3)+2,,,"PLAN LEKCJI")) -> muzyka | D4: =INDIRECT(ADDRESS(ROW()+(COLUMN()-2)*9+1,MATCH($A$1,'PLAN LEKCJI'!$C$3:$V$3)+2,,,"PLAN LEKCJI")) -> matematyka 33, K | E4: =INDIRECT(ADDRESS(ROW()+(COLUMN()-2)*9+1,MATCH($A$1,'PLAN LEKCJI'!$C$3:$V$3)+2,,,"PLAN LEKCJI")) -> j. polski | F4: =INDIRECT(ADDRESS(ROW()+(COLUMN()-2)*9+1,MATCH($A$1,'PLAN LEKCJI'!$C$3:$V$3)+2,,,"PLAN LEKCJI")) -> GW
A5: =INDIRECT(ADDRESS(ROW()+1,2,,,"PLAN LEKCJI")) -> 2 | B5: =INDIRECT(ADDRESS(ROW()+(COLUMN()-2)*9+1,MATCH($A$1,'PLAN LEKCJI'!$C$3:$V$3)+2,,,"PLAN LEKCJI")) -> j. polski | C5: =INDIRECT(ADDRESS(ROW()+(COLUMN()-2)*9+1,MATCH($A$1,'PLAN LEKCJI'!$C$3:$V$3)+2,,,"PLAN LEKCJI")) -> wych. fizyczne | D5: =INDIRECT(ADDRESS(ROW()+(COLUMN()-2)*9+1,MATCH($A$1,'PLAN LEKCJI'!$C$3:$V$3)+2,,,"PLAN LEKCJI")) -> 26 j.fran./ j.niem. 36 | E5: =INDIRECT(ADDRESS(ROW()+(COLUMN()-2)*9+1,MATCH($A$1,'PLAN LEKCJI'!$C$3:$V$3)+2,,,"PLAN LEKCJI")) -> konw. / j.francuski | F5: =INDIRECT(ADDRESS(ROW()+(COLUMN()-2)*9+1,MATCH($A$1,'PLAN LEKCJI'!$C$3:$V$3)+2,,,"PLAN LEKCJI")) -> j. polski
A6: =INDIRECT(ADDRESS(ROW()+1,2,,,"PLAN LEKCJI")) -> 3 | B6: =INDIRECT(ADDRESS(ROW()+(COLUMN()-2)*9+1,MATCH($A$1,'PLAN LEKCJI'!$C$3:$V$3)+2,,,"PLAN LEKCJI")) -> informat. / j.ang. | C6: =INDIRECT(ADDRESS(ROW()+(COLUMN()-2)*9+1,MATCH($A$1,'PLAN LEKCJI'!$C$3:$V$3)+2,,,"PLAN LEKCJI")) -> matematyka 33, K | D6: =INDIRECT(ADDRESS(ROW()+(COLUMN()-2)*9+1,MATCH($A$1,'PLAN LEKCJI'!$C$3:$V$3)+2,,,"PLAN LEKCJI")) -> j. polski | E6: =INDIRECT(ADDRESS(ROW()+(COLUMN()-2)*9+1,MATCH($A$1,'PLAN LEKCJI'!$C$3:$V$3)+2,,,"PLAN LEKCJI")) -> konw. / j.niemiecki | F6: =INDIRECT(ADDRESS(ROW()+(COLUMN()-2)*9+1,MATCH($A$1,'PLAN LEKCJI'!$C$3:$V$3)+2,,,"PLAN LEKCJI")) -> j. polski
A7: =INDIRECT(ADDRESS(ROW()+1,2,,,"PLAN LEKCJI")) -> 4 | B7: =INDIRECT(ADDRESS(ROW()+(COLUMN()-2)*9+1,MATCH($A$1,'PLAN LEKCJI'!$C$3:$V$3)+2,,,"PLAN LEKCJI")) -> informat. / j.ang. | C7: =INDIRECT(ADDRESS(ROW()+(COLUMN()-2)*9+1,MATCH($A$1,'PLAN LEKCJI'!$C$3:$V$3)+2,,,"PLAN LEKCJI")) -> j.ang. / j.ang. | D7: =INDIRECT(ADDRESS(ROW()+(COLUMN()-2)*9+1,MATCH($A$1,'PLAN LEKCJI'!$C$3:$V$3)+2,,,"PLAN LEKCJI")) -> j. polski | E7: =INDIRECT(ADDRESS(ROW()+(COLUMN()-2)*9+1,MATCH($A$1,'PLAN LEKCJI'!$C$3:$V$3)+2,,,"PLAN LEKCJI")) -> GEOGRAFIA 06 | F7: =INDIRECT(ADDRESS(ROW()+(COLUMN()-2)*9+1,MATCH($A$1,'PLAN LEKCJI'!$C$3:$V$3)+2,,,"PLAN LEKCJI")) -> j.ang. / j.ang.
A8: =INDIRECT(ADDRESS(ROW()+1,2,,,"PLAN LEKCJI")) -> 5 | B8: =INDIRECT(ADDRESS(ROW()+(COLUMN()-2)*9+1,MATCH($A$1,'PLAN LEKCJI'!$C$3:$V$3)+2,,,"PLAN LEKCJI")) -> plastyka 28 | C8: =INDIRECT(ADDRESS(ROW()+(COLUMN()-2)*9+1,MATCH($A$1,'PLAN LEKCJI'!$C$3:$V$3)+2,,,"PLAN LEKCJI")) -> matematyka 33, K | D8: =INDIRECT(ADDRESS(ROW()+(COLUMN()-2)*9+1,MATCH($A$1,'PLAN LEKCJI'!$C$3:$V$3)+2,,,"PLAN LEKCJI")) -> BIOLOGIA 32 | E8: =INDIRECT(ADDRESS(ROW()+(COLUMN()-2)*9+1,MATCH($A$1,'PLAN LEKCJI'!$C$3:$V$3)+2,,,"PLAN LEKCJI")) -> TAŃCE | F8: =INDIRECT(ADDRESS(ROW()+(COLUMN()-2)*9+1,MATCH($A$1,'PLAN LEKCJI'!$C$3:$V$3)+2,,,"PLAN LEKCJI")) -> edu zdrowotna
A9: =INDIRECT(ADDRESS(ROW()+1,2,,,"PLAN LEKCJI")) -> 6 | B9: =INDIRECT(ADDRESS(ROW()+(COLUMN()-2)*9+1,MATCH($A$1,'PLAN LEKCJI'!$C$3:$V$3)+2,,,"PLAN LEKCJI")) -> RELIGIA | C9: =INDIRECT(ADDRESS(ROW()+(COLUMN()-2)*9+1,MATCH($A$1,'PLAN LEKCJI'!$C$3:$V$3)+2,,,"PLAN LEKCJI")) -> historia | D9: =INDIRECT(ADDRESS(ROW()+(COLUMN()-2)*9+1,MATCH($A$1,'PLAN LEKCJI'!$C$3:$V$3)+2,,,"PLAN LEKCJI")) -> historia | E9: =INDIRECT(ADDRESS(ROW()+(COLUMN()-2)*9+1,MATCH($A$1,'PLAN LEKCJI'!$C$3:$V$3)+2,,,"PLAN LEKCJI")) -> j.ang. / j.ang. | F9: =INDIRECT(ADDRESS(ROW()+(COLUMN()-2)*9+1,MATCH($A$1,'PLAN LEKCJI'!$C$3:$V$3)+2,,,"PLAN LEKCJI")) -> matematyka 33, K
A10: =INDIRECT(ADDRESS(ROW()+1,2,,,"PLAN LEKCJI")) -> 7 | B10: =INDIRECT(ADDRESS(ROW()+(COLUMN()-2)*9+1,MATCH($A$1,'PLAN LEKCJI'!$C$3:$V$3)+2,,,"PLAN LEKCJI")) -> RELIGIA | C10: =INDIRECT(ADDRESS(ROW()+(COLUMN()-2)*9+1,MATCH($A$1,'PLAN LEKCJI'!$C$3:$V$3)+2,,,"PLAN LEKCJI")) -> 26 j.fran./ j.niem. 36 | D10: =INDIRECT(ADDRESS(ROW()+(COLUMN()-2)*9+1,MATCH($A$1,'PLAN LEKCJI'!$C$3:$V$3)+2,,,"PLAN LEKCJI")) -> technika 28 | E10: =INDIRECT(ADDRESS(ROW()+(COLUMN()-2)*9+1,MATCH($A$1,'PLAN LEKCJI'!$C$3:$V$3)+2,,,"PLAN LEKCJI")) -> wych. fizyczne | F10: =INDIRECT(ADDRESS(ROW()+(COLUMN()-2)*9+1,MATCH($A$1,'PLAN LEKCJI'!$C$3:$V$3)+2,,,"PLAN LEKCJI")) -> wych. fizyczne
A11: =INDIRECT(ADDRESS(ROW()+1,2,,,"PLAN LEKCJI")) -> 8 | B11: =INDIRECT(ADDRESS(ROW()+(COLUMN()-2)*9+1,MATCH($A$1,'PLAN LEKCJI'!$C$3:$V$3)+2,,,"PLAN LEKCJI")) -> 0 | C11: =INDIRECT(ADDRESS(ROW()+(COLUMN()-2)*9+1,MATCH($A$1,'PLAN LEKCJI'!$C$3:$V$3)+2,,,"PLAN LEKCJI")) -> 0 | D11: =INDIRECT(ADDRESS(ROW()+(COLUMN()-2)*9+1,MATCH($A$1,'PLAN LEKCJI'!$C$3:$V$3)+2,,,"PLAN LEKCJI")) -> 0 | E11: =INDIRECT(ADDRESS(ROW()+(COLUMN()-2)*9+1,MATCH($A$1,'PLAN LEKCJI'!$C$3:$V$3)+2,,,"PLAN LEKCJI")) -> 0 | F11: =INDIRECT(ADDRESS(ROW()+(COLUMN()-2)*9+1,MATCH($A$1,'PLAN LEKCJI'!$C$3:$V$3)+2,,,"PLAN LEKCJI")) -> 0

Sheet 6b
A1: VI B | B1: ='PLAN LEKCJI'!$I$1 -> PLAN LEKCJI semestr I - rok szkolny 2026 / 2027
A3: Nr lekcji | B3: Poniedziałek | C3: Wtorek | D3: Środa | E3: Czwartek | F3: Piątek
A4: =INDIRECT(ADDRESS(ROW()+1,2,,,"PLAN LEKCJI")) -> 1 | B4: =INDIRECT(ADDRESS(ROW()+(COLUMN()-2)*9+1,MATCH($A$1,'PLAN LEKCJI'!$C$3:$V$3)+2,,,"PLAN LEKCJI")) -> matematyka 23, 24 | C4: =INDIRECT(ADDRESS(ROW()+(COLUMN()-2)*9+1,MATCH($A$1,'PLAN LEKCJI'!$C$3:$V$3)+2,,,"PLAN LEKCJI")) -> j. polski 23. 22 | D4: =INDIRECT(ADDRESS(ROW()+(COLUMN()-2)*9+1,MATCH($A$1,'PLAN LEKCJI'!$C$3:$V$3)+2,,,"PLAN LEKCJI")) -> matematyka 23, 34 | E4: =INDIRECT(ADDRESS(ROW()+(COLUMN()-2)*9+1,MATCH($A$1,'PLAN LEKCJI'!$C$3:$V$3)+2,,,"PLAN LEKCJI")) -> GEOGRAFIA 06 | F4: =INDIRECT(ADDRESS(ROW()+(COLUMN()-2)*9+1,MATCH($A$1,'PLAN LEKCJI'!$C$3:$V$3)+2,,,"PLAN LEKCJI")) -> muzyka / j.ang. 27
A5: =INDIRECT(ADDRESS(ROW()+1,2,,,"PLAN LEKCJI")) -> 2 | B5: =INDIRECT(ADDRESS(ROW()+(COLUMN()-2)*9+1,MATCH($A$1,'PLAN LEKCJI'!$C$3:$V$3)+2,,,"PLAN LEKCJI")) -> 26 j.fran./ j.niem. 36 | C5: =INDIRECT(ADDRESS(ROW()+(COLUMN()-2)*9+1,MATCH($A$1,'PLAN LEKCJI'!$C$3:$V$3)+2,,,"PLAN LEKCJI")) -> wych. fizyczne | D5: =INDIRECT(ADDRESS(ROW()+(COLUMN()-2)*9+1,MATCH($A$1,'PLAN LEKCJI'!$C$3:$V$3)+2,,,"PLAN LEKCJI")) -> BIOLOGIA 32 | E5: =INDIRECT(ADDRESS(ROW()+(COLUMN()-2)*9+1,MATCH($A$1,'PLAN LEKCJI'!$C$3:$V$3)+2,,,"PLAN LEKCJI")) -> edu zdrowotna / j.ang. | F5: =INDIRECT(ADDRESS(ROW()+(COLUMN()-2)*9+1,MATCH($A$1,'PLAN LEKCJI'!$C$3:$V$3)+2,,,"PLAN LEKCJI")) -> muzyka / j.ang. 27
A6: =INDIRECT(ADDRESS(ROW()+1,2,,,"PLAN LEKCJI")) -> 3 | B6: =INDIRECT(ADDRESS(ROW()+(COLUMN()-2)*9+1,MATCH($A$1,'PLAN LEKCJI'!$C$3:$V$3)+2,,,"PLAN LEKCJI")) -> GW | C6: =INDIRECT(ADDRESS(ROW()+(COLUMN()-2)*9+1,MATCH($A$1,'PLAN LEKCJI'!$C$3:$V$3)+2,,,"PLAN LEKCJI")) -> 26 j.fran./ j.niem. 36 | D6: =INDIRECT(ADDRESS(ROW()+(COLUMN()-2)*9+1,MATCH($A$1,'PLAN LEKCJI'!$C$3:$V$3)+2,,,"PLAN LEKCJI")) -> j. polski 23. 21 | E6: =INDIRECT(ADDRESS(ROW()+(COLUMN()-2)*9+1,MATCH($A$1,'PLAN LEKCJI'!$C$3:$V$3)+2,,,"PLAN LEKCJI")) -> edu zdrowotna / j.ang. | F6: =INDIRECT(ADDRESS(ROW()+(COLUMN()-2)*9+1,MATCH($A$1,'PLAN LEKCJI'!$C$3:$V$3)+2,,,"PLAN LEKCJI")) -> j. polski 23. 22
A7: =INDIRECT(ADDRESS(ROW()+1,2,,,"PLAN LEKCJI")) -> 4 | B7: =INDIRECT(ADDRESS(ROW()+(COLUMN()-2)*9+1,MATCH($A$1,'PLAN LEKCJI'!$C$3:$V$3)+2,,,"PLAN LEKCJI")) -> plastyka 28 | C7: =INDIRECT(ADDRESS(ROW()+(COLUMN()-2)*9+1,MATCH($A$1,'PLAN LEKCJI'!$C$3:$V$3)+2,,,"PLAN LEKCJI")) -> historia | D7: =INDIRECT(ADDRESS(ROW()+(COLUMN()-2)*9+1,MATCH($A$1,'PLAN LEKCJI'!$C$3:$V$3)+2,,,"PLAN LEKCJI")) -> technika 28 | E7: =INDIRECT(ADDRESS(ROW()+(COLUMN()-2)*9+1,MATCH($A$1,'PLAN LEKCJI'!$C$3:$V$3)+2,,,"PLAN LEKCJI")) -> j. polski 23. 22 | F7: =INDIRECT(ADDRESS(ROW()+(COLUMN()-2)*9+1,MATCH($A$1,'PLAN LEKCJI'!$C$3:$V$3)+2,,,"PLAN LEKCJI")) -> j. polski 23. 22
A8: =INDIRECT(ADDRESS(ROW()+1,2,,,"PLAN LEKCJI")) -> 5 | B8: =INDIRECT(ADDRESS(ROW()+(COLUMN()-2)*9+1,MATCH($A$1,'PLAN LEKCJI'!$C$3:$V$3)+2,,,"PLAN LEKCJI")) -> matematyka 23, 22 | C8: =INDIRECT(ADDRESS(ROW()+(COLUMN()-2)*9+1,MATCH($A$1,'PLAN LEKCJI'!$C$3:$V$3)+2,,,"PLAN LEKCJI")) -> matematyka 23, 21 | D8: =INDIRECT(ADDRESS(ROW()+(COLUMN()-2)*9+1,MATCH($A$1,'PLAN LEKCJI'!$C$3:$V$3)+2,,,"PLAN LEKCJI")) -> historia | E8: =INDIRECT(ADDRESS(ROW()+(COLUMN()-2)*9+1,MATCH($A$1,'PLAN LEKCJI'!$C$3:$V$3)+2,,,"PLAN LEKCJI")) -> j. polski 23. 22 | F8: =INDIRECT(ADDRESS(ROW()+(COLUMN()-2)*9+1,MATCH($A$1,'PLAN LEKCJI'!$C$3:$V$3)+2,,,"PLAN LEKCJI")) -> RELIGIA
A9: =INDIRECT(ADDRESS(ROW()+1,2,,,"PLAN LEKCJI")) -> 6 | B9: =INDIRECT(ADDRESS(ROW()+(COLUMN()-2)*9+1,MATCH($A$1,'PLAN LEKCJI'!$C$3:$V$3)+2,,,"PLAN LEKCJI")) -> informat. / j.ang. 27 | C9: =INDIRECT(ADDRESS(ROW()+(COLUMN()-2)*9+1,MATCH($A$1,'PLAN LEKCJI'!$C$3:$V$3)+2,,,"PLAN LEKCJI")) -> 31 konw. / j.ang. 27 | D9: =INDIRECT(ADDRESS(ROW()+(COLUMN()-2)*9+1,MATCH($A$1,'PLAN LEKCJI'!$C$3:$V$3)+2,,,"PLAN LEKCJI")) -> RELIGIA | E9: =INDIRECT(ADDRESS(ROW()+(COLUMN()-2)*9+1,MATCH($A$1,'PLAN LEKCJI'!$C$3:$V$3)+2,,,"PLAN LEKCJI")) -> TAŃCE | F9: =INDIRECT(ADDRESS(ROW()+(COLUMN()-2)*9+1,MATCH($A$1,'PLAN LEKCJI'!$C$3:$V$3)+2,,,"PLAN LEKCJI")) -> matematyka 23, 28
A10: =INDIRECT(ADDRESS(ROW()+1,2,,,"PLAN LEKCJI")) -> 7 | B10: =INDIRECT(ADDRESS(ROW()+(COLUMN()-2)*9+1,MATCH($A$1,'PLAN LEKCJI'!$C$3:$V$3)+2,,,"PLAN LEKCJI")) -> informat. / j.ang. 27 | C10: =INDIRECT(ADDRESS(ROW()+(COLUMN()-2)*9+1,MATCH($A$1,'PLAN LEKCJI'!$C$3:$V$3)+2,,,"PLAN LEKCJI")) -> 31 konw. / j.ang. 27 | D10: =INDIRECT(ADDRESS(ROW()+(COLUMN()-2)*9+1,MATCH($A$1,'PLAN LEKCJI'!$C$3:$V$3)+2,,,"PLAN LEKCJI")) -> 26 j.fran./ j.niem. 36 | E10: =INDIRECT(ADDRESS(ROW()+(COLUMN()-2)*9+1,MATCH($A$1,'PLAN LEKCJI'!$C$3:$V$3)+2,,,"PLAN LEKCJI")) -> wych. fizyczne | F10: =INDIRECT(ADDRESS(ROW()+(COLUMN()-2)*9+1,MATCH($A$1,'PLAN LEKCJI'!$C$3:$V$3)+2,,,"PLAN LEKCJI")) -> wych. fizyczne
A11: =INDIRECT(ADDRESS(ROW()+1,2,,,"PLAN LEKCJI")) -> 8 | B11: =INDIRECT(ADDRESS(ROW()+(COLUMN()-2)*9+1,MATCH($A$1,'PLAN LEKCJI'!$C$3:$V$3)+2,,,"PLAN LEKCJI")) -> 0 | C11: =INDIRECT(ADDRESS(ROW()+(COLUMN()-2)*9+1,MATCH($A$1,'PLAN LEKCJI'!$C$3:$V$3)+2,,,"PLAN LEKCJI")) -> 0 | D11: =INDIRECT(ADDRESS(ROW()+(COLUMN()-2)*9+1,MATCH($A$1,'PLAN LEKCJI'!$C$3:$V$3)+2,,,"PLAN LEKCJI")) -> 0 | E11: =INDIRECT(ADDRESS(ROW()+(COLUMN()-2)*9+1,MATCH($A$1,'PLAN LEKCJI'!$C$3:$V$3)+2,,,"PLAN LEKCJI")) -> 0 | F11: =INDIRECT(ADDRESS(ROW()+(COLUMN()-2)*9+1,MATCH($A$1,'PLAN LEKCJI'!$C$3:$V$3)+2,,,"PLAN LEKCJI")) -> 0

Sheet 7a
A1: VII A | B1: ='PLAN LEKCJI'!$I$1 -> PLAN LEKCJI semestr I - rok szkolny 2026 / 2027
A3: Nr lekcji | B3: Poniedziałek | C3: Wtorek | D3: Środa | E3: Czwartek | F3: Piątek
A4: =INDIRECT(ADDRESS(ROW()+1,2,,,"PLAN LEKCJI")) -> 1 | B4: =INDIRECT(ADDRESS(ROW()+(COLUMN()-2)*9+1,MATCH($A$1,'PLAN LEKCJI'!$C$3:$V$3)+2,,,"PLAN LEKCJI")) -> BIOLOGIA 32 | C4: =INDIRECT(ADDRESS(ROW()+(COLUMN()-2)*9+1,MATCH($A$1,'PLAN LEKCJI'!$C$3:$V$3)+2,,,"PLAN LEKCJI")) -> 24 konw. / chemia | D4: =INDIRECT(ADDRESS(ROW()+(COLUMN()-2)*9+1,MATCH($A$1,'PLAN LEKCJI'!$C$3:$V$3)+2,,,"PLAN LEKCJI")) -> j. polski | E4: =INDIRECT(ADDRESS(ROW()+(COLUMN()-2)*9+1,MATCH($A$1,'PLAN LEKCJI'!$C$3:$V$3)+2,,,"PLAN LEKCJI")) -> 26 j.fran./ j.niem. 36 | F4: =INDIRECT(ADDRESS(ROW()+(COLUMN()-2)*9+1,MATCH($A$1,'PLAN LEKCJI'!$C$3:$V$3)+2,,,"PLAN LEKCJI")) -> GW
A5: =INDIRECT(ADDRESS(ROW()+1,2,,,"PLAN LEKCJI")) -> 2 | B5: =INDIRECT(ADDRESS(ROW()+(COLUMN()-2)*9+1,MATCH($A$1,'PLAN LEKCJI'!$C$3:$V$3)+2,,,"PLAN LEKCJI")) -> GEOGRAFIA 06 | C5: =INDIRECT(ADDRESS(ROW()+(COLUMN()-2)*9+1,MATCH($A$1,'PLAN LEKCJI'!$C$3:$V$3)+2,,,"PLAN LEKCJI")) -> 24 konw. / chemia | D5: =INDIRECT(ADDRESS(ROW()+(COLUMN()-2)*9+1,MATCH($A$1,'PLAN LEKCJI'!$C$3:$V$3)+2,,,"PLAN LEKCJI")) -> j. polski | E5: =INDIRECT(ADDRESS(ROW()+(COLUMN()-2)*9+1,MATCH($A$1,'PLAN LEKCJI'!$C$3:$V$3)+2,,,"PLAN LEKCJI")) -> BIOLOGIA 32 | F5: =INDIRECT(ADDRESS(ROW()+(COLUMN()-2)*9+1,MATCH($A$1,'PLAN LEKCJI'!$C$3:$V$3)+2,,,"PLAN LEKCJI")) -> matematyka 24, 25, 28,31
A6: =INDIRECT(ADDRESS(ROW()+1,2,,,"PLAN LEKCJI")) -> 3 | B6: =INDIRECT(ADDRESS(ROW()+(COLUMN()-2)*9+1,MATCH($A$1,'PLAN LEKCJI'!$C$3:$V$3)+2,,,"PLAN LEKCJI")) -> RELIGIA | C6: =INDIRECT(ADDRESS(ROW()+(COLUMN()-2)*9+1,MATCH($A$1,'PLAN LEKCJI'!$C$3:$V$3)+2,,,"PLAN LEKCJI")) -> wych. fizyczne | D6: =INDIRECT(ADDRESS(ROW()+(COLUMN()-2)*9+1,MATCH($A$1,'PLAN LEKCJI'!$C$3:$V$3)+2,,,"PLAN LEKCJI")) -> matematyka 24, 25, 31,34 | E6: =INDIRECT(ADDRESS(ROW()+(COLUMN()-2)*9+1,MATCH($A$1,'PLAN LEKCJI'!$C$3:$V$3)+2,,,"PLAN LEKCJI")) -> GEOGRAFIA 06 | F6: =INDIRECT(ADDRESS(ROW()+(COLUMN()-2)*9+1,MATCH($A$1,'PLAN LEKCJI'!$C$3:$V$3)+2,,,"PLAN LEKCJI")) -> matematyka 24, 25, 28,31
A7: =INDIRECT(ADDRESS(ROW()+1,2,,,"PLAN LEKCJI")) -> 4 | B7: =INDIRECT(ADDRESS(ROW()+(COLUMN()-2)*9+1,MATCH($A$1,'PLAN LEKCJI'!$C$3:$V$3)+2,,,"PLAN LEKCJI")) -> fizyka | C7: =INDIRECT(ADDRESS(ROW()+(COLUMN()-2)*9+1,MATCH($A$1,'PLAN LEKCJI'!$C$3:$V$3)+2,,,"PLAN LEKCJI")) -> j. polski | D7: =INDIRECT(ADDRESS(ROW()+(COLUMN()-2)*9+1,MATCH($A$1,'PLAN LEKCJI'!$C$3:$V$3)+2,,,"PLAN LEKCJI")) -> historia | E7: =INDIRECT(ADDRESS(ROW()+(COLUMN()-2)*9+1,MATCH($A$1,'PLAN LEKCJI'!$C$3:$V$3)+2,,,"PLAN LEKCJI")) -> 25 j. ang. / j. ang. 35 | F7: =INDIRECT(ADDRESS(ROW()+(COLUMN()-2)*9+1,MATCH($A$1,'PLAN LEKCJI'!$C$3:$V$3)+2,,,"PLAN LEKCJI")) -> chemia 06
A8: =INDIRECT(ADDRESS(ROW()+1,2,,,"PLAN LEKCJI")) -> 5 | B8: =INDIRECT(ADDRESS(ROW()+(COLUMN()-2)*9+1,MATCH($A$1,'PLAN LEKCJI'!$C$3:$V$3)+2,,,"PLAN LEKCJI")) -> j. polski | C8: =INDIRECT(ADDRESS(ROW()+(COLUMN()-2)*9+1,MATCH($A$1,'PLAN LEKCJI'!$C$3:$V$3)+2,,,"PLAN LEKCJI")) -> historia | D8: =INDIRECT(ADDRESS(ROW()+(COLUMN()-2)*9+1,MATCH($A$1,'PLAN LEKCJI'!$C$3:$V$3)+2,,,"PLAN LEKCJI")) -> fizyka | E8: =INDIRECT(ADDRESS(ROW()+(COLUMN()-2)*9+1,MATCH($A$1,'PLAN LEKCJI'!$C$3:$V$3)+2,,,"PLAN LEKCJI")) -> RELIGIA | F8: =INDIRECT(ADDRESS(ROW()+(COLUMN()-2)*9+1,MATCH($A$1,'PLAN LEKCJI'!$C$3:$V$3)+2,,,"PLAN LEKCJI")) -> 25 j. ang. / j. ang. 35
A9: =INDIRECT(ADDRESS(ROW()+1,2,,,"PLAN LEKCJI")) -> 6 | B9: =INDIRECT(ADDRESS(ROW()+(COLUMN()-2)*9+1,MATCH($A$1,'PLAN LEKCJI'!$C$3:$V$3)+2,,,"PLAN LEKCJI")) -> matematyka 24, 25, 23,22 | C9: =INDIRECT(ADDRESS(ROW()+(COLUMN()-2)*9+1,MATCH($A$1,'PLAN LEKCJI'!$C$3:$V$3)+2,,,"PLAN LEKCJI")) -> matematyka 24, 25, 23,22 | D9: =INDIRECT(ADDRESS(ROW()+(COLUMN()-2)*9+1,MATCH($A$1,'PLAN LEKCJI'!$C$3:$V$3)+2,,,"PLAN LEKCJI")) -> 25 j. ang. / j. ang. 35 | E9: =INDIRECT(ADDRESS(ROW()+(COLUMN()-2)*9+1,MATCH($A$1,'PLAN LEKCJI'!$C$3:$V$3)+2,,,"PLAN LEKCJI")) -> wych. fizyczne | F9: =INDIRECT(ADDRESS(ROW()+(COLUMN()-2)*9+1,MATCH($A$1,'PLAN LEKCJI'!$C$3:$V$3)+2,,,"PLAN LEKCJI")) -> wych. fizyczne
A10: =INDIRECT(ADDRESS(ROW()+1,2,,,"PLAN LEKCJI")) -> 7 | B10: =INDIRECT(ADDRESS(ROW()+(COLUMN()-2)*9+1,MATCH($A$1,'PLAN LEKCJI'!$C$3:$V$3)+2,,,"PLAN LEKCJI")) -> 26 j.fran./ j.niem. 36 | C10: =INDIRECT(ADDRESS(ROW()+(COLUMN()-2)*9+1,MATCH($A$1,'PLAN LEKCJI'!$C$3:$V$3)+2,,,"PLAN LEKCJI")) -> 25 j. ang. / j. ang. 35 | D10: =INDIRECT(ADDRESS(ROW()+(COLUMN()-2)*9+1,MATCH($A$1,'PLAN LEKCJI'!$C$3:$V$3)+2,,,"PLAN LEKCJI")) -> informatyka | E10: =INDIRECT(ADDRESS(ROW()+(COLUMN()-2)*9+1,MATCH($A$1,'PLAN LEKCJI'!$C$3:$V$3)+2,,,"PLAN LEKCJI")) -> j. polski | F10: =INDIRECT(ADDRESS(ROW()+(COLUMN()-2)*9+1,MATCH($A$1,'PLAN LEKCJI'!$C$3:$V$3)+2,,,"PLAN LEKCJI")) -> edu zdrowotna
A11: =INDIRECT(ADDRESS(ROW()+1,2,,,"PLAN LEKCJI")) -> 8 | B11: =INDIRECT(ADDRESS(ROW()+(COLUMN()-2)*9+1,MATCH($A$1,'PLAN LEKCJI'!$C$3:$V$3)+2,,,"PLAN LEKCJI")) -> 0 | C11: =INDIRECT(ADDRESS(ROW()+(COLUMN()-2)*9+1,MATCH($A$1,'PLAN LEKCJI'!$C$3:$V$3)+2,,,"PLAN LEKCJI")) -> 0 | D11: =INDIRECT(ADDRESS(ROW()+(COLUMN()-2)*9+1,MATCH($A$1,'PLAN LEKCJI'!$C$3:$V$3)+2,,,"PLAN LEKCJI")) -> 26 j.fran./ j.niem. 36 | E11: =INDIRECT(ADDRESS(ROW()+(COLUMN()-2)*9+1,MATCH($A$1,'PLAN LEKCJI'!$C$3:$V$3)+2,,,"PLAN LEKCJI")) -> j. polski | F11: =INDIRECT(ADDRESS(ROW()+(COLUMN()-2)*9+1,MATCH($A$1,'PLAN LEKCJI'!$C$3:$V$3)+2,,,"PLAN LEKCJI")) -> 0

Sheet 7b
A1: VII B | B1: ='PLAN LEKCJI'!$I$1 -> PLAN LEKCJI semestr I - rok szkolny 2026 / 2027
A3: Nr lekcji | B3: Poniedziałek | C3: Wtorek | D3: Środa | E3: Czwartek | F3: Piątek
A4: =INDIRECT(ADDRESS(ROW()+1,2,,,"PLAN LEKCJI")) -> 1 | B4: =INDIRECT(ADDRESS(ROW()+(COLUMN()-2)*9+1,MATCH($A$1,'PLAN LEKCJI'!$C$3:$V$3)+2,,,"PLAN LEKCJI")) -> GEOGRAFIA 06 | C4: =INDIRECT(ADDRESS(ROW()+(COLUMN()-2)*9+1,MATCH($A$1,'PLAN LEKCJI'!$C$3:$V$3)+2,,,"PLAN LEKCJI")) -> j. polski | D4: =INDIRECT(ADDRESS(ROW()+(COLUMN()-2)*9+1,MATCH($A$1,'PLAN LEKCJI'!$C$3:$V$3)+2,,,"PLAN LEKCJI")) -> j. polski | E4: =INDIRECT(ADDRESS(ROW()+(COLUMN()-2)*9+1,MATCH($A$1,'PLAN LEKCJI'!$C$3:$V$3)+2,,,"PLAN LEKCJI")) -> BIOLOGIA 32 | F4: =INDIRECT(ADDRESS(ROW()+(COLUMN()-2)*9+1,MATCH($A$1,'PLAN LEKCJI'!$C$3:$V$3)+2,,,"PLAN LEKCJI")) -> GW
A5: =INDIRECT(ADDRESS(ROW()+1,2,,,"PLAN LEKCJI")) -> 2 | B5: =INDIRECT(ADDRESS(ROW()+(COLUMN()-2)*9+1,MATCH($A$1,'PLAN LEKCJI'!$C$3:$V$3)+2,,,"PLAN LEKCJI")) -> BIOLOGIA 32 | C5: =INDIRECT(ADDRESS(ROW()+(COLUMN()-2)*9+1,MATCH($A$1,'PLAN LEKCJI'!$C$3:$V$3)+2,,,"PLAN LEKCJI")) -> j. polski | D5: =INDIRECT(ADDRESS(ROW()+(COLUMN()-2)*9+1,MATCH($A$1,'PLAN LEKCJI'!$C$3:$V$3)+2,,,"PLAN LEKCJI")) -> j. polski | E5: =INDIRECT(ADDRESS(ROW()+(COLUMN()-2)*9+1,MATCH($A$1,'PLAN LEKCJI'!$C$3:$V$3)+2,,,"PLAN LEKCJI")) -> GEOGRAFIA 06 | F5: =INDIRECT(ADDRESS(ROW()+(COLUMN()-2)*9+1,MATCH($A$1,'PLAN LEKCJI'!$C$3:$V$3)+2,,,"PLAN LEKCJI")) -> matematyka 24, 25, 28,31
A6: =INDIRECT(ADDRESS(ROW()+1,2,,,"PLAN LEKCJI")) -> 3 | B6: =INDIRECT(ADDRESS(ROW()+(COLUMN()-2)*9+1,MATCH($A$1,'PLAN LEKCJI'!$C$3:$V$3)+2,,,"PLAN LEKCJI")) -> fizyka | C6: =INDIRECT(ADDRESS(ROW()+(COLUMN()-2)*9+1,MATCH($A$1,'PLAN LEKCJI'!$C$3:$V$3)+2,,,"PLAN LEKCJI")) -> wych. fizyczne | D6: =INDIRECT(ADDRESS(ROW()+(COLUMN()-2)*9+1,MATCH($A$1,'PLAN LEKCJI'!$C$3:$V$3)+2,,,"PLAN LEKCJI")) -> matematyka 24, 25, 31,34 | E6: =INDIRECT(ADDRESS(ROW()+(COLUMN()-2)*9+1,MATCH($A$1,'PLAN LEKCJI'!$C$3:$V$3)+2,,,"PLAN LEKCJI")) -> RELIGIA | F6: =INDIRECT(ADDRESS(ROW()+(COLUMN()-2)*9+1,MATCH($A$1,'PLAN LEKCJI'!$C$3:$V$3)+2,,,"PLAN LEKCJI")) -> matematyka 24, 25, 28,31
A7: =INDIRECT(ADDRESS(ROW()+1,2,,,"PLAN LEKCJI")) -> 4 | B7: =INDIRECT(ADDRESS(ROW()+(COLUMN()-2)*9+1,MATCH($A$1,'PLAN LEKCJI'!$C$3:$V$3)+2,,,"PLAN LEKCJI")) -> 29 j.ang. / j.niem. 36 | C7: =INDIRECT(ADDRESS(ROW()+(COLUMN()-2)*9+1,MATCH($A$1,'PLAN LEKCJI'!$C$3:$V$3)+2,,,"PLAN LEKCJI")) -> chemia / j.angielski | D7: =INDIRECT(ADDRESS(ROW()+(COLUMN()-2)*9+1,MATCH($A$1,'PLAN LEKCJI'!$C$3:$V$3)+2,,,"PLAN LEKCJI")) -> fizyka | E7: =INDIRECT(ADDRESS(ROW()+(COLUMN()-2)*9+1,MATCH($A$1,'PLAN LEKCJI'!$C$3:$V$3)+2,,,"PLAN LEKCJI")) -> 21 konw. / j.ang. 29 | F7: =INDIRECT(ADDRESS(ROW()+(COLUMN()-2)*9+1,MATCH($A$1,'PLAN LEKCJI'!$C$3:$V$3)+2,,,"PLAN LEKCJI")) -> RELIGIA
A8: =INDIRECT(ADDRESS(ROW()+1,2,,,"PLAN LEKCJI")) -> 5 | B8: =INDIRECT(ADDRESS(ROW()+(COLUMN()-2)*9+1,MATCH($A$1,'PLAN LEKCJI'!$C$3:$V$3)+2,,,"PLAN LEKCJI")) -> 26 j.fran. / j.ang. 29 | C8: =INDIRECT(ADDRESS(ROW()+(COLUMN()-2)*9+1,MATCH($A$1,'PLAN LEKCJI'!$C$3:$V$3)+2,,,"PLAN LEKCJI")) -> chemia / j.angielski | D8: =INDIRECT(ADDRESS(ROW()+(COLUMN()-2)*9+1,MATCH($A$1,'PLAN LEKCJI'!$C$3:$V$3)+2,,,"PLAN LEKCJI")) -> 29 j.ang. / j.niem. 36 | E8: =INDIRECT(ADDRESS(ROW()+(COLUMN()-2)*9+1,MATCH($A$1,'PLAN LEKCJI'!$C$3:$V$3)+2,,,"PLAN LEKCJI")) -> 21 konw. / j.ang. 29 | F8: =INDIRECT(ADDRESS(ROW()+(COLUMN()-2)*9+1,MATCH($A$1,'PLAN LEKCJI'!$C$3:$V$3)+2,,,"PLAN LEKCJI")) -> chemia 06
A9: =INDIRECT(ADDRESS(ROW()+1,2,,,"PLAN LEKCJI")) -> 6 | B9: =INDIRECT(ADDRESS(ROW()+(COLUMN()-2)*9+1,MATCH($A$1,'PLAN LEKCJI'!$C$3:$V$3)+2,,,"PLAN LEKCJI")) -> matematyka 24, 25, 23,22 | C9: =INDIRECT(ADDRESS(ROW()+(COLUMN()-2)*9+1,MATCH($A$1,'PLAN LEKCJI'!$C$3:$V$3)+2,,,"PLAN LEKCJI")) -> matematyka 24, 25, 23,22 | D9: =INDIRECT(ADDRESS(ROW()+(COLUMN()-2)*9+1,MATCH($A$1,'PLAN LEKCJI'!$C$3:$V$3)+2,,,"PLAN LEKCJI")) -> 26 j.fran. / j.ang. 29 | E9: =INDIRECT(ADDRESS(ROW()+(COLUMN()-2)*9+1,MATCH($A$1,'PLAN LEKCJI'!$C$3:$V$3)+2,,,"PLAN LEKCJI")) -> wych. fizyczne | F9: =INDIRECT(ADDRESS(ROW()+(COLUMN()-2)*9+1,MATCH($A$1,'PLAN LEKCJI'!$C$3:$V$3)+2,,,"PLAN LEKCJI")) -> wych. fizyczne
A10: =INDIRECT(ADDRESS(ROW()+1,2,,,"PLAN LEKCJI")) -> 7 | B10: =INDIRECT(ADDRESS(ROW()+(COLUMN()-2)*9+1,MATCH($A$1,'PLAN LEKCJI'!$C$3:$V$3)+2,,,"PLAN LEKCJI")) -> j. polski | C10: =INDIRECT(ADDRESS(ROW()+(COLUMN()-2)*9+1,MATCH($A$1,'PLAN LEKCJI'!$C$3:$V$3)+2,,,"PLAN LEKCJI")) -> historia | D10: =INDIRECT(ADDRESS(ROW()+(COLUMN()-2)*9+1,MATCH($A$1,'PLAN LEKCJI'!$C$3:$V$3)+2,,,"PLAN LEKCJI")) -> historia | E10: =INDIRECT(ADDRESS(ROW()+(COLUMN()-2)*9+1,MATCH($A$1,'PLAN LEKCJI'!$C$3:$V$3)+2,,,"PLAN LEKCJI")) -> j. polski | F10: =INDIRECT(ADDRESS(ROW()+(COLUMN()-2)*9+1,MATCH($A$1,'PLAN LEKCJI'!$C$3:$V$3)+2,,,"PLAN LEKCJI")) -> informatyka
A11: =INDIRECT(ADDRESS(ROW()+1,2,,,"PLAN LEKCJI")) -> 8 | B11: =INDIRECT(ADDRESS(ROW()+(COLUMN()-2)*9+1,MATCH($A$1,'PLAN LEKCJI'!$C$3:$V$3)+2,,,"PLAN LEKCJI")) -> 0 | C11: =INDIRECT(ADDRESS(ROW()+(COLUMN()-2)*9+1,MATCH($A$1,'PLAN LEKCJI'!$C$3:$V$3)+2,,,"PLAN LEKCJI")) -> 0 | D11: =INDIRECT(ADDRESS(ROW()+(COLUMN()-2)*9+1,MATCH($A$1,'PLAN LEKCJI'!$C$3:$V$3)+2,,,"PLAN LEKCJI")) -> plastyka 25 | E11: =INDIRECT(ADDRESS(ROW()+(COLUMN()-2)*9+1,MATCH($A$1,'PLAN LEKCJI'!$C$3:$V$3)+2,,,"PLAN LEKCJI")) -> 26 j.fran./ j.niem. 36 | F11: =INDIRECT(ADDRESS(ROW()+(COLUMN()-2)*9+1,MATCH($A$1,'PLAN LEKCJI'!$C$3:$V$3)+2,,,"PLAN LEKCJI")) -> 0

Sheet 8a
A1: VIII A | B1: ='PLAN LEKCJI'!$I$1 -> PLAN LEKCJI semestr I - rok szkolny 2026 / 2027
A3: Nr lekcji | B3: Poniedziałek | C3: Wtorek | D3: Środa | E3: Czwartek | F3: Piątek
A4: =INDIRECT(ADDRESS(ROW()+1,2,,,"PLAN LEKCJI")) -> 1 | B4: =INDIRECT(ADDRESS(ROW()+(COLUMN()-2)*9+1,MATCH($A$1,'PLAN LEKCJI'!$C$3:$V$3)+2,,,"PLAN LEKCJI")) -> j. polski | C4: =INDIRECT(ADDRESS(ROW()+(COLUMN()-2)*9+1,MATCH($A$1,'PLAN LEKCJI'!$C$3:$V$3)+2,,,"PLAN LEKCJI")) -> matematyka 31, 33, 34, 28, K | D4: =INDIRECT(ADDRESS(ROW()+(COLUMN()-2)*9+1,MATCH($A$1,'PLAN LEKCJI'!$C$3:$V$3)+2,,,"PLAN LEKCJI")) -> religia | E4: =INDIRECT(ADDRESS(ROW()+(COLUMN()-2)*9+1,MATCH($A$1,'PLAN LEKCJI'!$C$3:$V$3)+2,,,"PLAN LEKCJI")) -> wych. fizyczne | F4: =INDIRECT(ADDRESS(ROW()+(COLUMN()-2)*9+1,MATCH($A$1,'PLAN LEKCJI'!$C$3:$V$3)+2,,,"PLAN LEKCJI")) -> GW
A5: =INDIRECT(ADDRESS(ROW()+1,2,,,"PLAN LEKCJI")) -> 2 | B5: =INDIRECT(ADDRESS(ROW()+(COLUMN()-2)*9+1,MATCH($A$1,'PLAN LEKCJI'!$C$3:$V$3)+2,,,"PLAN LEKCJI")) -> matematyka 31, 34, 28, 24, K | C5: =INDIRECT(ADDRESS(ROW()+(COLUMN()-2)*9+1,MATCH($A$1,'PLAN LEKCJI'!$C$3:$V$3)+2,,,"PLAN LEKCJI")) -> matematyka 31, 33, 34, 28, K | D5: =INDIRECT(ADDRESS(ROW()+(COLUMN()-2)*9+1,MATCH($A$1,'PLAN LEKCJI'!$C$3:$V$3)+2,,,"PLAN LEKCJI")) -> matematyka 31, 33, 34, 28, K | E5: =INDIRECT(ADDRESS(ROW()+(COLUMN()-2)*9+1,MATCH($A$1,'PLAN LEKCJI'!$C$3:$V$3)+2,,,"PLAN LEKCJI")) -> WOS | F5: =INDIRECT(ADDRESS(ROW()+(COLUMN()-2)*9+1,MATCH($A$1,'PLAN LEKCJI'!$C$3:$V$3)+2,,,"PLAN LEKCJI")) -> wych. fizyczne
A6: =INDIRECT(ADDRESS(ROW()+1,2,,,"PLAN LEKCJI")) -> 3 | B6: =INDIRECT(ADDRESS(ROW()+(COLUMN()-2)*9+1,MATCH($A$1,'PLAN LEKCJI'!$C$3:$V$3)+2,,,"PLAN LEKCJI")) -> 26 j. fran. / j.ang. 35 | C6: =INDIRECT(ADDRESS(ROW()+(COLUMN()-2)*9+1,MATCH($A$1,'PLAN LEKCJI'!$C$3:$V$3)+2,,,"PLAN LEKCJI")) -> j. polski | D6: =INDIRECT(ADDRESS(ROW()+(COLUMN()-2)*9+1,MATCH($A$1,'PLAN LEKCJI'!$C$3:$V$3)+2,,,"PLAN LEKCJI")) -> GEOGRAFIA 06 | E6: =INDIRECT(ADDRESS(ROW()+(COLUMN()-2)*9+1,MATCH($A$1,'PLAN LEKCJI'!$C$3:$V$3)+2,,,"PLAN LEKCJI")) -> BIOLOGIA 32 | F6: =INDIRECT(ADDRESS(ROW()+(COLUMN()-2)*9+1,MATCH($A$1,'PLAN LEKCJI'!$C$3:$V$3)+2,,,"PLAN LEKCJI")) -> 26 j. fran. / j.ang. 35
A7: =INDIRECT(ADDRESS(ROW()+1,2,,,"PLAN LEKCJI")) -> 4 | B7: =INDIRECT(ADDRESS(ROW()+(COLUMN()-2)*9+1,MATCH($A$1,'PLAN LEKCJI'!$C$3:$V$3)+2,,,"PLAN LEKCJI")) -> 26 j. fran. / j.ang. 35 | C7: =INDIRECT(ADDRESS(ROW()+(COLUMN()-2)*9+1,MATCH($A$1,'PLAN LEKCJI'!$C$3:$V$3)+2,,,"PLAN LEKCJI")) -> j.ang. / konw. 31 | D7: =INDIRECT(ADDRESS(ROW()+(COLUMN()-2)*9+1,MATCH($A$1,'PLAN LEKCJI'!$C$3:$V$3)+2,,,"PLAN LEKCJI")) -> 26 j. fran. / j.ang. 35 | E7: =INDIRECT(ADDRESS(ROW()+(COLUMN()-2)*9+1,MATCH($A$1,'PLAN LEKCJI'!$C$3:$V$3)+2,,,"PLAN LEKCJI")) -> j. polski | F7: =INDIRECT(ADDRESS(ROW()+(COLUMN()-2)*9+1,MATCH($A$1,'PLAN LEKCJI'!$C$3:$V$3)+2,,,"PLAN LEKCJI")) -> 26 j. fran. / j.ang. 35
A8: =INDIRECT(ADDRESS(ROW()+1,2,,,"PLAN LEKCJI")) -> 5 | B8: =INDIRECT(ADDRESS(ROW()+(COLUMN()-2)*9+1,MATCH($A$1,'PLAN LEKCJI'!$C$3:$V$3)+2,,,"PLAN LEKCJI")) -> HISTORIA | C8: =INDIRECT(ADDRESS(ROW()+(COLUMN()-2)*9+1,MATCH($A$1,'PLAN LEKCJI'!$C$3:$V$3)+2,,,"PLAN LEKCJI")) -> j.ang. / konw. 31 | D8: =INDIRECT(ADDRESS(ROW()+(COLUMN()-2)*9+1,MATCH($A$1,'PLAN LEKCJI'!$C$3:$V$3)+2,,,"PLAN LEKCJI")) -> 26 j. fran. / j.ang. 35 | E8: =INDIRECT(ADDRESS(ROW()+(COLUMN()-2)*9+1,MATCH($A$1,'PLAN LEKCJI'!$C$3:$V$3)+2,,,"PLAN LEKCJI")) -> chemia / j.polski | F8: =INDIRECT(ADDRESS(ROW()+(COLUMN()-2)*9+1,MATCH($A$1,'PLAN LEKCJI'!$C$3:$V$3)+2,,,"PLAN LEKCJI")) -> matematyka 31, 34,36,28,K
A9: =INDIRECT(ADDRESS(ROW()+1,2,,,"PLAN LEKCJI")) -> 6 | B9: =INDIRECT(ADDRESS(ROW()+(COLUMN()-2)*9+1,MATCH($A$1,'PLAN LEKCJI'!$C$3:$V$3)+2,,,"PLAN LEKCJI")) -> fizyka | C9: =INDIRECT(ADDRESS(ROW()+(COLUMN()-2)*9+1,MATCH($A$1,'PLAN LEKCJI'!$C$3:$V$3)+2,,,"PLAN LEKCJI")) -> chemia 06 | D9: =INDIRECT(ADDRESS(ROW()+(COLUMN()-2)*9+1,MATCH($A$1,'PLAN LEKCJI'!$C$3:$V$3)+2,,,"PLAN LEKCJI")) -> WOS | E9: =INDIRECT(ADDRESS(ROW()+(COLUMN()-2)*9+1,MATCH($A$1,'PLAN LEKCJI'!$C$3:$V$3)+2,,,"PLAN LEKCJI")) -> chemia / j.polski | F9: =INDIRECT(ADDRESS(ROW()+(COLUMN()-2)*9+1,MATCH($A$1,'PLAN LEKCJI'!$C$3:$V$3)+2,,,"PLAN LEKCJI")) -> j. polski
A10: =INDIRECT(ADDRESS(ROW()+1,2,,,"PLAN LEKCJI")) -> 7 | B10: =INDIRECT(ADDRESS(ROW()+(COLUMN()-2)*9+1,MATCH($A$1,'PLAN LEKCJI'!$C$3:$V$3)+2,,,"PLAN LEKCJI")) -> EDB | C10: =INDIRECT(ADDRESS(ROW()+(COLUMN()-2)*9+1,MATCH($A$1,'PLAN LEKCJI'!$C$3:$V$3)+2,,,"PLAN LEKCJI")) -> wych. fizyczne | D10: =INDIRECT(ADDRESS(ROW()+(COLUMN()-2)*9+1,MATCH($A$1,'PLAN LEKCJI'!$C$3:$V$3)+2,,,"PLAN LEKCJI")) -> fizyka | E10: =INDIRECT(ADDRESS(ROW()+(COLUMN()-2)*9+1,MATCH($A$1,'PLAN LEKCJI'!$C$3:$V$3)+2,,,"PLAN LEKCJI")) -> HISTORIA | F10: =INDIRECT(ADDRESS(ROW()+(COLUMN()-2)*9+1,MATCH($A$1,'PLAN LEKCJI'!$C$3:$V$3)+2,,,"PLAN LEKCJI")) -> j. polski
A11: =INDIRECT(ADDRESS(ROW()+1,2,,,"PLAN LEKCJI")) -> 8 | B11: =INDIRECT(ADDRESS(ROW()+(COLUMN()-2)*9+1,MATCH($A$1,'PLAN LEKCJI'!$C$3:$V$3)+2,,,"PLAN LEKCJI")) -> 0 | C11: =INDIRECT(ADDRESS(ROW()+(COLUMN()-2)*9+1,MATCH($A$1,'PLAN LEKCJI'!$C$3:$V$3)+2,,,"PLAN LEKCJI")) -> 0 | D11: =INDIRECT(ADDRESS(ROW()+(COLUMN()-2)*9+1,MATCH($A$1,'PLAN LEKCJI'!$C$3:$V$3)+2,,,"PLAN LEKCJI")) -> informatyka | E11: =INDIRECT(ADDRESS(ROW()+(COLUMN()-2)*9+1,MATCH($A$1,'PLAN LEKCJI'!$C$3:$V$3)+2,,,"PLAN LEKCJI")) -> religia | F11: =INDIRECT(ADDRESS(ROW()+(COLUMN()-2)*9+1,MATCH($A$1,'PLAN LEKCJI'!$C$3:$V$3)+2,,,"PLAN LEKCJI")) -> 0

Sheet 8b
A1: VIII B | B1: ='PLAN LEKCJI'!$I$1 -> PLAN LEKCJI semestr I - rok szkolny 2026 / 2027
A3: Nr lekcji | B3: Poniedziałek | C3: Wtorek | D3: Środa | E3: Czwartek | F3: Piątek
A4: =INDIRECT(ADDRESS(ROW()+1,2,,,"PLAN LEKCJI")) -> 1 | B4: =INDIRECT(ADDRESS(ROW()+(COLUMN()-2)*9+1,MATCH($A$1,'PLAN LEKCJI'!$C$3:$V$3)+2,,,"PLAN LEKCJI")) -> j. polski | C4: =INDIRECT(ADDRESS(ROW()+(COLUMN()-2)*9+1,MATCH($A$1,'PLAN LEKCJI'!$C$3:$V$3)+2,,,"PLAN LEKCJI")) -> 26 j.fran./ j.niem. 36 | D4: =INDIRECT(ADDRESS(ROW()+(COLUMN()-2)*9+1,MATCH($A$1,'PLAN LEKCJI'!$C$3:$V$3)+2,,,"PLAN LEKCJI")) -> RELIGIA | E4: =INDIRECT(ADDRESS(ROW()+(COLUMN()-2)*9+1,MATCH($A$1,'PLAN LEKCJI'!$C$3:$V$3)+2,,,"PLAN LEKCJI")) -> HISTORIA | F4: =INDIRECT(ADDRESS(ROW()+(COLUMN()-2)*9+1,MATCH($A$1,'PLAN LEKCJI'!$C$3:$V$3)+2,,,"PLAN LEKCJI")) -> RELIGIA
A5: =INDIRECT(ADDRESS(ROW()+1,2,,,"PLAN LEKCJI")) -> 2 | B5: =INDIRECT(ADDRESS(ROW()+(COLUMN()-2)*9+1,MATCH($A$1,'PLAN LEKCJI'!$C$3:$V$3)+2,,,"PLAN LEKCJI")) -> j. polski | C5: =INDIRECT(ADDRESS(ROW()+(COLUMN()-2)*9+1,MATCH($A$1,'PLAN LEKCJI'!$C$3:$V$3)+2,,,"PLAN LEKCJI")) -> j. polski | D5: =INDIRECT(ADDRESS(ROW()+(COLUMN()-2)*9+1,MATCH($A$1,'PLAN LEKCJI'!$C$3:$V$3)+2,,,"PLAN LEKCJI")) -> GEOGRAFIA 06 | E5: =INDIRECT(ADDRESS(ROW()+(COLUMN()-2)*9+1,MATCH($A$1,'PLAN LEKCJI'!$C$3:$V$3)+2,,,"PLAN LEKCJI")) -> wych. fizyczne | F5: =INDIRECT(ADDRESS(ROW()+(COLUMN()-2)*9+1,MATCH($A$1,'PLAN LEKCJI'!$C$3:$V$3)+2,,,"PLAN LEKCJI")) -> 25 j. ang. / j. ang. 35
A6: =INDIRECT(ADDRESS(ROW()+1,2,,,"PLAN LEKCJI")) -> 3 | B6: =INDIRECT(ADDRESS(ROW()+(COLUMN()-2)*9+1,MATCH($A$1,'PLAN LEKCJI'!$C$3:$V$3)+2,,,"PLAN LEKCJI")) -> matematyka 31, 38 | C6: =INDIRECT(ADDRESS(ROW()+(COLUMN()-2)*9+1,MATCH($A$1,'PLAN LEKCJI'!$C$3:$V$3)+2,,,"PLAN LEKCJI")) -> j. polski | D6: =INDIRECT(ADDRESS(ROW()+(COLUMN()-2)*9+1,MATCH($A$1,'PLAN LEKCJI'!$C$3:$V$3)+2,,,"PLAN LEKCJI")) -> 26 j.fran./ j.niem. 36 | E6: =INDIRECT(ADDRESS(ROW()+(COLUMN()-2)*9+1,MATCH($A$1,'PLAN LEKCJI'!$C$3:$V$3)+2,,,"PLAN LEKCJI")) -> j. polski | F6: =INDIRECT(ADDRESS(ROW()+(COLUMN()-2)*9+1,MATCH($A$1,'PLAN LEKCJI'!$C$3:$V$3)+2,,,"PLAN LEKCJI")) -> chemia 06
A7: =INDIRECT(ADDRESS(ROW()+1,2,,,"PLAN LEKCJI")) -> 4 | B7: =INDIRECT(ADDRESS(ROW()+(COLUMN()-2)*9+1,MATCH($A$1,'PLAN LEKCJI'!$C$3:$V$3)+2,,,"PLAN LEKCJI")) -> HISTORIA | C7: =INDIRECT(ADDRESS(ROW()+(COLUMN()-2)*9+1,MATCH($A$1,'PLAN LEKCJI'!$C$3:$V$3)+2,,,"PLAN LEKCJI")) -> matematyka 36, 38 | D7: =INDIRECT(ADDRESS(ROW()+(COLUMN()-2)*9+1,MATCH($A$1,'PLAN LEKCJI'!$C$3:$V$3)+2,,,"PLAN LEKCJI")) -> matematyka 31, 38 | E7: =INDIRECT(ADDRESS(ROW()+(COLUMN()-2)*9+1,MATCH($A$1,'PLAN LEKCJI'!$C$3:$V$3)+2,,,"PLAN LEKCJI")) -> BIOLOGIA 32 | F7: =INDIRECT(ADDRESS(ROW()+(COLUMN()-2)*9+1,MATCH($A$1,'PLAN LEKCJI'!$C$3:$V$3)+2,,,"PLAN LEKCJI")) -> informatyka
A8: =INDIRECT(ADDRESS(ROW()+1,2,,,"PLAN LEKCJI")) -> 5 | B8: =INDIRECT(ADDRESS(ROW()+(COLUMN()-2)*9+1,MATCH($A$1,'PLAN LEKCJI'!$C$3:$V$3)+2,,,"PLAN LEKCJI")) -> 25 j. ang. / j. ang. 35 | C8: =INDIRECT(ADDRESS(ROW()+(COLUMN()-2)*9+1,MATCH($A$1,'PLAN LEKCJI'!$C$3:$V$3)+2,,,"PLAN LEKCJI")) -> GW | D8: =INDIRECT(ADDRESS(ROW()+(COLUMN()-2)*9+1,MATCH($A$1,'PLAN LEKCJI'!$C$3:$V$3)+2,,,"PLAN LEKCJI")) -> matematyka 31, 38 | E8: =INDIRECT(ADDRESS(ROW()+(COLUMN()-2)*9+1,MATCH($A$1,'PLAN LEKCJI'!$C$3:$V$3)+2,,,"PLAN LEKCJI")) -> 25 j. ang. / j. ang. 35 | F8: =INDIRECT(ADDRESS(ROW()+(COLUMN()-2)*9+1,MATCH($A$1,'PLAN LEKCJI'!$C$3:$V$3)+2,,,"PLAN LEKCJI")) -> EDB
A9: =INDIRECT(ADDRESS(ROW()+1,2,,,"PLAN LEKCJI")) -> 6 | B9: =INDIRECT(ADDRESS(ROW()+(COLUMN()-2)*9+1,MATCH($A$1,'PLAN LEKCJI'!$C$3:$V$3)+2,,,"PLAN LEKCJI")) -> wych. fizyczne | C9: =INDIRECT(ADDRESS(ROW()+(COLUMN()-2)*9+1,MATCH($A$1,'PLAN LEKCJI'!$C$3:$V$3)+2,,,"PLAN LEKCJI")) -> 25 j. ang. / j. ang. 35 | D9: =INDIRECT(ADDRESS(ROW()+(COLUMN()-2)*9+1,MATCH($A$1,'PLAN LEKCJI'!$C$3:$V$3)+2,,,"PLAN LEKCJI")) -> fizyka | E9: =INDIRECT(ADDRESS(ROW()+(COLUMN()-2)*9+1,MATCH($A$1,'PLAN LEKCJI'!$C$3:$V$3)+2,,,"PLAN LEKCJI")) -> 26 j.fran./ j.niem. 36 | F9: =INDIRECT(ADDRESS(ROW()+(COLUMN()-2)*9+1,MATCH($A$1,'PLAN LEKCJI'!$C$3:$V$3)+2,,,"PLAN LEKCJI")) -> WOS
A10: =INDIRECT(ADDRESS(ROW()+1,2,,,"PLAN LEKCJI")) -> 7 | B10: =INDIRECT(ADDRESS(ROW()+(COLUMN()-2)*9+1,MATCH($A$1,'PLAN LEKCJI'!$C$3:$V$3)+2,,,"PLAN LEKCJI")) -> fizyka | C10: =INDIRECT(ADDRESS(ROW()+(COLUMN()-2)*9+1,MATCH($A$1,'PLAN LEKCJI'!$C$3:$V$3)+2,,,"PLAN LEKCJI")) -> wych. fizyczne | D10: =INDIRECT(ADDRESS(ROW()+(COLUMN()-2)*9+1,MATCH($A$1,'PLAN LEKCJI'!$C$3:$V$3)+2,,,"PLAN LEKCJI")) -> j. polski | E10: =INDIRECT(ADDRESS(ROW()+(COLUMN()-2)*9+1,MATCH($A$1,'PLAN LEKCJI'!$C$3:$V$3)+2,,,"PLAN LEKCJI")) -> 21 konw. / chemia | F10: =INDIRECT(ADDRESS(ROW()+(COLUMN()-2)*9+1,MATCH($A$1,'PLAN LEKCJI'!$C$3:$V$3)+2,,,"PLAN LEKCJI")) -> matematyka 36, 38
A11: =INDIRECT(ADDRESS(ROW()+1,2,,,"PLAN LEKCJI")) -> 8 | B11: =INDIRECT(ADDRESS(ROW()+(COLUMN()-2)*9+1,MATCH($A$1,'PLAN LEKCJI'!$C$3:$V$3)+2,,,"PLAN LEKCJI")) -> 0 | C11: =INDIRECT(ADDRESS(ROW()+(COLUMN()-2)*9+1,MATCH($A$1,'PLAN LEKCJI'!$C$3:$V$3)+2,,,"PLAN LEKCJI")) -> 0 | D11: =INDIRECT(ADDRESS(ROW()+(COLUMN()-2)*9+1,MATCH($A$1,'PLAN LEKCJI'!$C$3:$V$3)+2,,,"PLAN LEKCJI")) -> WOS | E11: =INDIRECT(ADDRESS(ROW()+(COLUMN()-2)*9+1,MATCH($A$1,'PLAN LEKCJI'!$C$3:$V$3)+2,,,"PLAN LEKCJI")) -> 21 konw. / chemia | F11: =INDIRECT(ADDRESS(ROW()+(COLUMN()-2)*9+1,MATCH($A$1,'PLAN LEKCJI'!$C$3:$V$3)+2,,,"PLAN LEKCJI")) -> 0

Sheet 8c
A1: VIII C | B1: ='PLAN LEKCJI'!$I$1 -> PLAN LEKCJI semestr I - rok szkolny 2026 / 2027
A3: Nr lekcji | B3: Poniedziałek | C3: Wtorek | D3: Środa | E3: Czwartek | F3: Piątek
A4: =INDIRECT(ADDRESS(ROW()+1,2,,,"PLAN LEKCJI")) -> 1 | B4: =INDIRECT(ADDRESS(ROW()+(COLUMN()-2)*9+1,MATCH($A$1,'PLAN LEKCJI'!$C$3:$V$3)+2,,,"PLAN LEKCJI")) -> HISTORIA | C4: =INDIRECT(ADDRESS(ROW()+(COLUMN()-2)*9+1,MATCH($A$1,'PLAN LEKCJI'!$C$3:$V$3)+2,,,"PLAN LEKCJI")) -> matematyka 31, 33, 34, 28, K | D4: =INDIRECT(ADDRESS(ROW()+(COLUMN()-2)*9+1,MATCH($A$1,'PLAN LEKCJI'!$C$3:$V$3)+2,,,"PLAN LEKCJI")) -> GEOGRAFIA 06 | E4: =INDIRECT(ADDRESS(ROW()+(COLUMN()-2)*9+1,MATCH($A$1,'PLAN LEKCJI'!$C$3:$V$3)+2,,,"PLAN LEKCJI")) -> wych. fizyczne | F4: =INDIRECT(ADDRESS(ROW()+(COLUMN()-2)*9+1,MATCH($A$1,'PLAN LEKCJI'!$C$3:$V$3)+2,,,"PLAN LEKCJI")) -> GW
A5: =INDIRECT(ADDRESS(ROW()+1,2,,,"PLAN LEKCJI")) -> 2 | B5: =INDIRECT(ADDRESS(ROW()+(COLUMN()-2)*9+1,MATCH($A$1,'PLAN LEKCJI'!$C$3:$V$3)+2,,,"PLAN LEKCJI")) -> matematyka 31, 34, 28, 24, K | C5: =INDIRECT(ADDRESS(ROW()+(COLUMN()-2)*9+1,MATCH($A$1,'PLAN LEKCJI'!$C$3:$V$3)+2,,,"PLAN LEKCJI")) -> matematyka 31, 33, 34, 28, K | D5: =INDIRECT(ADDRESS(ROW()+(COLUMN()-2)*9+1,MATCH($A$1,'PLAN LEKCJI'!$C$3:$V$3)+2,,,"PLAN LEKCJI")) -> matematyka 31, 33, 34, 28, K | E5: =INDIRECT(ADDRESS(ROW()+(COLUMN()-2)*9+1,MATCH($A$1,'PLAN LEKCJI'!$C$3:$V$3)+2,,,"PLAN LEKCJI")) -> HISTORIA | F5: =INDIRECT(ADDRESS(ROW()+(COLUMN()-2)*9+1,MATCH($A$1,'PLAN LEKCJI'!$C$3:$V$3)+2,,,"PLAN LEKCJI")) -> wych. fizyczne
A6: =INDIRECT(ADDRESS(ROW()+1,2,,,"PLAN LEKCJI")) -> 3 | B6: =INDIRECT(ADDRESS(ROW()+(COLUMN()-2)*9+1,MATCH($A$1,'PLAN LEKCJI'!$C$3:$V$3)+2,,,"PLAN LEKCJI")) -> j. polski | C6: =INDIRECT(ADDRESS(ROW()+(COLUMN()-2)*9+1,MATCH($A$1,'PLAN LEKCJI'!$C$3:$V$3)+2,,,"PLAN LEKCJI")) -> chemia 06 | D6: =INDIRECT(ADDRESS(ROW()+(COLUMN()-2)*9+1,MATCH($A$1,'PLAN LEKCJI'!$C$3:$V$3)+2,,,"PLAN LEKCJI")) -> 26 j.ang. / j.niem. 36 | E6: =INDIRECT(ADDRESS(ROW()+(COLUMN()-2)*9+1,MATCH($A$1,'PLAN LEKCJI'!$C$3:$V$3)+2,,,"PLAN LEKCJI")) -> j. polski | F6: =INDIRECT(ADDRESS(ROW()+(COLUMN()-2)*9+1,MATCH($A$1,'PLAN LEKCJI'!$C$3:$V$3)+2,,,"PLAN LEKCJI")) -> WOS
A7: =INDIRECT(ADDRESS(ROW()+1,2,,,"PLAN LEKCJI")) -> 4 | B7: =INDIRECT(ADDRESS(ROW()+(COLUMN()-2)*9+1,MATCH($A$1,'PLAN LEKCJI'!$C$3:$V$3)+2,,,"PLAN LEKCJI")) -> j. polski | C7: =INDIRECT(ADDRESS(ROW()+(COLUMN()-2)*9+1,MATCH($A$1,'PLAN LEKCJI'!$C$3:$V$3)+2,,,"PLAN LEKCJI")) -> j. polski | D7: =INDIRECT(ADDRESS(ROW()+(COLUMN()-2)*9+1,MATCH($A$1,'PLAN LEKCJI'!$C$3:$V$3)+2,,,"PLAN LEKCJI")) -> 26 j.ang. / j.niem. 36 | E7: =INDIRECT(ADDRESS(ROW()+(COLUMN()-2)*9+1,MATCH($A$1,'PLAN LEKCJI'!$C$3:$V$3)+2,,,"PLAN LEKCJI")) -> religia | F7: =INDIRECT(ADDRESS(ROW()+(COLUMN()-2)*9+1,MATCH($A$1,'PLAN LEKCJI'!$C$3:$V$3)+2,,,"PLAN LEKCJI")) -> j. polski
A8: =INDIRECT(ADDRESS(ROW()+1,2,,,"PLAN LEKCJI")) -> 5 | B8: =INDIRECT(ADDRESS(ROW()+(COLUMN()-2)*9+1,MATCH($A$1,'PLAN LEKCJI'!$C$3:$V$3)+2,,,"PLAN LEKCJI")) -> fizyka | C8: =INDIRECT(ADDRESS(ROW()+(COLUMN()-2)*9+1,MATCH($A$1,'PLAN LEKCJI'!$C$3:$V$3)+2,,,"PLAN LEKCJI")) -> j. polski | D8: =INDIRECT(ADDRESS(ROW()+(COLUMN()-2)*9+1,MATCH($A$1,'PLAN LEKCJI'!$C$3:$V$3)+2,,,"PLAN LEKCJI")) -> 27 konw. / informat. | E8: =INDIRECT(ADDRESS(ROW()+(COLUMN()-2)*9+1,MATCH($A$1,'PLAN LEKCJI'!$C$3:$V$3)+2,,,"PLAN LEKCJI")) -> EDB | F8: =INDIRECT(ADDRESS(ROW()+(COLUMN()-2)*9+1,MATCH($A$1,'PLAN LEKCJI'!$C$3:$V$3)+2,,,"PLAN LEKCJI")) -> matematyka 31, 34,36,28,K
A9: =INDIRECT(ADDRESS(ROW()+1,2,,,"PLAN LEKCJI")) -> 6 | B9: =INDIRECT(ADDRESS(ROW()+(COLUMN()-2)*9+1,MATCH($A$1,'PLAN LEKCJI'!$C$3:$V$3)+2,,,"PLAN LEKCJI")) -> 26 j.ang. / j.niem. 36 | C9: =INDIRECT(ADDRESS(ROW()+(COLUMN()-2)*9+1,MATCH($A$1,'PLAN LEKCJI'!$C$3:$V$3)+2,,,"PLAN LEKCJI")) -> religia | D9: =INDIRECT(ADDRESS(ROW()+(COLUMN()-2)*9+1,MATCH($A$1,'PLAN LEKCJI'!$C$3:$V$3)+2,,,"PLAN LEKCJI")) -> 27 konw. / informat. | E9: =INDIRECT(ADDRESS(ROW()+(COLUMN()-2)*9+1,MATCH($A$1,'PLAN LEKCJI'!$C$3:$V$3)+2,,,"PLAN LEKCJI")) -> BIOLOGIA 32 | F9: =INDIRECT(ADDRESS(ROW()+(COLUMN()-2)*9+1,MATCH($A$1,'PLAN LEKCJI'!$C$3:$V$3)+2,,,"PLAN LEKCJI")) -> 26 j.ang. / chemia
A10: =INDIRECT(ADDRESS(ROW()+1,2,,,"PLAN LEKCJI")) -> 7 | B10: =INDIRECT(ADDRESS(ROW()+(COLUMN()-2)*9+1,MATCH($A$1,'PLAN LEKCJI'!$C$3:$V$3)+2,,,"PLAN LEKCJI")) -> 26 j.ang. / j.niem. 36 | C10: =INDIRECT(ADDRESS(ROW()+(COLUMN()-2)*9+1,MATCH($A$1,'PLAN LEKCJI'!$C$3:$V$3)+2,,,"PLAN LEKCJI")) -> wych. fizyczne | D10: =INDIRECT(ADDRESS(ROW()+(COLUMN()-2)*9+1,MATCH($A$1,'PLAN LEKCJI'!$C$3:$V$3)+2,,,"PLAN LEKCJI")) -> WOS | E10: =INDIRECT(ADDRESS(ROW()+(COLUMN()-2)*9+1,MATCH($A$1,'PLAN LEKCJI'!$C$3:$V$3)+2,,,"PLAN LEKCJI")) -> 26 j.ang. / j.niem. 36 | F10: =INDIRECT(ADDRESS(ROW()+(COLUMN()-2)*9+1,MATCH($A$1,'PLAN LEKCJI'!$C$3:$V$3)+2,,,"PLAN LEKCJI")) -> 26 j.ang. / chemia
A11: =INDIRECT(ADDRESS(ROW()+1,2,,,"PLAN LEKCJI")) -> 8 | B11: =INDIRECT(ADDRESS(ROW()+(COLUMN()-2)*9+1,MATCH($A$1,'PLAN LEKCJI'!$C$3:$V$3)+2,,,"PLAN LEKCJI")) -> 0 | C11: =INDIRECT(ADDRESS(ROW()+(COLUMN()-2)*9+1,MATCH($A$1,'PLAN LEKCJI'!$C$3:$V$3)+2,,,"PLAN LEKCJI")) -> 0 | D11: =INDIRECT(ADDRESS(ROW()+(COLUMN()-2)*9+1,MATCH($A$1,'PLAN LEKCJI'!$C$3:$V$3)+2,,,"PLAN LEKCJI")) -> fizyka | E11: =INDIRECT(ADDRESS(ROW()+(COLUMN()-2)*9+1,MATCH($A$1,'PLAN LEKCJI'!$C$3:$V$3)+2,,,"PLAN LEKCJI")) -> 26 j.ang. / j.niem. 36 | F11: =INDIRECT(ADDRESS(ROW()+(COLUMN()-2)*9+1,MATCH($A$1,'PLAN LEKCJI'!$C$3:$V$3)+2,,,"PLAN LEKCJI")) -> 0
